From mboxrd@z Thu Jan 1 00:00:00 1970 Return-Path: Received: from mails.dpdk.org (mails.dpdk.org [217.70.189.124]) by inbox.dpdk.org (Postfix) with ESMTP id 90C24461A0 for ; Wed, 5 Feb 2025 18:21:03 +0100 (CET) Received: from mails.dpdk.org (localhost [127.0.0.1]) by mails.dpdk.org (Postfix) with ESMTP id 840C640652; Wed, 5 Feb 2025 18:21:03 +0100 (CET) Received: from mail-qv1-f100.google.com (mail-qv1-f100.google.com [209.85.219.100]) by mails.dpdk.org (Postfix) with ESMTP id A2C7340659 for ; Wed, 5 Feb 2025 18:21:02 +0100 (CET) Received: by mail-qv1-f100.google.com with SMTP id 6a1803df08f44-6e429a885f6so555046d6.0 for ; Wed, 05 Feb 2025 09:21:02 -0800 (PST) DKIM-Signature: v=1; a=rsa-sha256; c=relaxed/relaxed; d=iol.unh.edu; s=unh-iol; t=1738776062; x=1739380862; darn=dpdk.org; h=references:in-reply-to:cc:to:from:subject:message-id:date:from:to :cc:subject:date:message-id:reply-to; bh=wiFSBhDgeL9nF8V0NY+nMM0mDadqjyElRaoAhpndBjs=; b=J5vpsq48S/l1nCLM9OpClovTTi0h8v1WL6MLU4vqhwudJqHSmq8L925aR/sgFeJCUo WzQ5i802LTml/A7QVFUMo648YRpWkLHkG/I8O1DtnjhhPPznD9mpSZZQr5YPFUzXFSZK HgBvXR0J2Ls9f94mVlXkYpox3TxQKyppDPDSo= X-Google-DKIM-Signature: v=1; a=rsa-sha256; c=relaxed/relaxed; d=1e100.net; s=20230601; t=1738776062; x=1739380862; h=references:in-reply-to:cc:to:from:subject:message-id:date :x-gm-message-state:from:to:cc:subject:date:message-id:reply-to; bh=wiFSBhDgeL9nF8V0NY+nMM0mDadqjyElRaoAhpndBjs=; b=QEvGSRKryprVGBb62PVTz1hwa61zLcrEqVdARGU1aCcvwAUtTiPTh7qeLz1O1qcUdc Fx7yCDcSml5yvrqW0NlaIL6FGjYNU+/aRMk+L0PasUU/SqkrZT/QjzZAzsR1wI8/y2w8 LhU3k2dFm8J7b1ClF5fsDc6cS7zatKW5KldvO70wmrg8RBLq/EPUEau7F1HQjkxHtkbW RsNCd2crTEvQxWH7lbw1AzNOcsHIP82QT/Tl0vk4BQmIkzQC5/QVRtqHyyq2M1RNYfse QMb2/6JGplJKGYTms4B42VUQZYm88thAGhCIleZQzuh7wawm59dp1wphaHUAwkKwRi1J yY5g== X-Gm-Message-State: AOJu0YxW0T5hEDnKETFOTsFjgMuWBLujT5Qqr/1XIfnXuQs9wo4CpOYs WNvzbDLSTEkDdNc5brRAO46T0bvc14QQDn4CB6nmbLToMDdv3BHiR7cYMK3WLD+EAo59XNeZocN HjdMxdl3l7Ej20cHwoRjEUmvChwtPDE+blhuw+ozC X-Gm-Gg: ASbGnct7Dk+t0Ev6iSoqjTs91dmEHBlurjJ7H2K0uR0Fm+E6FLCZ1C1EjJBUx3NTmiG CIeTqhncSskDPihPDgcvuAPtQXrEFcG6ngGQB7h5BxKXgCj+uEQYHAUKWE1EgQg7xlanLWNEf+E x6QSrllsauC87mk8k0CVLiw7FKXGjGj2BzkigZBXtVpEu5dDSVY1bXXX44XW/LX4WuEV0N6ao3l 7CexdsXdYEUzSJvxseVKAeZvuIJYFJm4oW5JEw85/2JRLm1gM2a6T2V64LwDyB3REIm32uE7TP9 Hh1Dp/UfYtFYNfiJb71dfbSeGKMM0g== X-Google-Smtp-Source: AGHT+IG7QSgx2WFuIKRa0JgHWj+ehp8sVT4E+UP9sqhY2KFsjCZ5UUjFxLI7eqhYrMvmZVcc5KzTx2ruPp7P X-Received: by 2002:a05:6214:1946:b0:6e4:27a0:f0f7 with SMTP id 6a1803df08f44-6e42fbccf04mr58289156d6.22.1738776062132; Wed, 05 Feb 2025 09:21:02 -0800 (PST) Received: from postal.iol.unh.edu (postal.iol.unh.edu. [132.177.123.84]) by smtp-relay.gmail.com with ESMTPS id 6a1803df08f44-6e42b7dc095sm2512196d6.43.2025.02.05.09.21.02 (version=TLS1_2 cipher=ECDHE-ECDSA-AES128-GCM-SHA256 bits=128/128); Wed, 05 Feb 2025 09:21:02 -0800 (PST) X-Relaying-Domain: iol.unh.edu Date: Wed, 05 Feb 2025 09:21:02 -0800 (PST) Message-ID: <67a39dfe.050a0220.21d97d.c4b1SMTPIN_ADDED_MISSING@mx.google.com> Received: from [172.17.0.5] (unknown [172.18.0.57]) by postal.iol.unh.edu (Postfix) with ESMTP id DE57E6052471; Wed, 5 Feb 2025 12:21:01 -0500 (EST) Subject: |SUCCESS| pw150429-150430 [PATCH] [v2,3/3] baseband/acc: add interna From: dpdklab@iol.unh.edu To: Test Report Cc: dpdk-test-reports@iol.unh.edu In-Reply-To: <20250123225519.2469167-4-nicolas.chautru@intel.com> References: <20250123225519.2469167-4-nicolas.chautru@intel.com> Content-Type: text/plain X-BeenThere: test-report@dpdk.org X-Mailman-Version: 2.1.29 Precedence: list List-Id: automatic DPDK test reports List-Unsubscribe: , List-Archive: List-Post: List-Help: List-Subscribe: , Errors-To: test-report-bounces@dpdk.org Test-Label: iol-compile-amd64-testing Test-Status: SUCCESS http://dpdk.org/patch/150430 _Testing PASS_ Submitter: Chautru, Nicolas Date: Thursday, January 23 2025 22:55:19 DPDK git baseline: Repo:dpdk Branch: master CommitID:07e3bebf3c93750c52ed9be87edd212fbc22da0a 150429-150430 --> testing pass Test environment and result as below: +---------------------+--------------------+------------------+-------------------+-------------------+----------------------+-------------------------+ | Environment | dpdk_meson_compile | dpdk_compile_ovs | dpdk_compile_spdk | dpdk_msvc_compile | dpdk_mingw64_compile | dpdk_llvm_clang_compile | +=====================+====================+==================+===================+===================+======================+=========================+ | CentOS Stream 9 | PASS | PASS | PASS | SKIPPED | SKIPPED | SKIPPED | +---------------------+--------------------+------------------+-------------------+-------------------+----------------------+-------------------------+ | Debian 12 | PASS | PASS | PASS | SKIPPED | SKIPPED | SKIPPED | +---------------------+--------------------+------------------+-------------------+-------------------+----------------------+-------------------------+ | Fedora 40 | PASS | PASS | PASS | SKIPPED | SKIPPED | SKIPPED | +---------------------+--------------------+------------------+-------------------+-------------------+----------------------+-------------------------+ | Fedora 40 (Clang) | PASS | PASS | PASS | SKIPPED | SKIPPED | SKIPPED | +---------------------+--------------------+------------------+-------------------+-------------------+----------------------+-------------------------+ | Fedora 41 (Clang) | PASS | PASS | PASS | SKIPPED | SKIPPED | SKIPPED | +---------------------+--------------------+------------------+-------------------+-------------------+----------------------+-------------------------+ | Fedora 41 | PASS | PASS | PASS | SKIPPED | SKIPPED | SKIPPED | +---------------------+--------------------+------------------+-------------------+-------------------+----------------------+-------------------------+ | openSUSE Leap 15 | PASS | SKIPPED | SKIPPED | SKIPPED | SKIPPED | SKIPPED | +---------------------+--------------------+------------------+-------------------+-------------------+----------------------+-------------------------+ | RHEL8 | PASS | PASS | SKIPPED | SKIPPED | SKIPPED | SKIPPED | +---------------------+--------------------+------------------+-------------------+-------------------+----------------------+-------------------------+ | RHEL9 | PASS | PASS | SKIPPED | SKIPPED | SKIPPED | SKIPPED | +---------------------+--------------------+------------------+-------------------+-------------------+----------------------+-------------------------+ | Ubuntu 20.04 | PASS | SKIPPED | SKIPPED | SKIPPED | SKIPPED | SKIPPED | +---------------------+--------------------+------------------+-------------------+-------------------+----------------------+-------------------------+ | Ubuntu 22.04 | PASS | PASS | PASS | SKIPPED | SKIPPED | SKIPPED | +---------------------+--------------------+------------------+-------------------+-------------------+----------------------+-------------------------+ | Ubuntu 24.04 | PASS | PASS | PASS | SKIPPED | SKIPPED | SKIPPED | +---------------------+--------------------+------------------+-------------------+-------------------+----------------------+-------------------------+ | FreeBSD 13.4 | PASS | SKIPPED | SKIPPED | SKIPPED | SKIPPED | SKIPPED | +---------------------+--------------------+------------------+-------------------+-------------------+----------------------+-------------------------+ | Alpine | PASS | PASS | SKIPPED | SKIPPED | SKIPPED | SKIPPED | +---------------------+--------------------+------------------+-------------------+-------------------+----------------------+-------------------------+ | FreeBSD 14.2 | PASS | SKIPPED | SKIPPED | SKIPPED | SKIPPED | SKIPPED | +---------------------+--------------------+------------------+-------------------+-------------------+----------------------+-------------------------+ | Windows Server 2022 | SKIPPED | SKIPPED | SKIPPED | PASS | PASS | PASS | +---------------------+--------------------+------------------+-------------------+-------------------+----------------------+-------------------------+ CentOS Stream 9 Kernel: Depends on container host Compiler: gcc 11.5.0 20240719 (Red Hat 11.5.0-2) Debian 12 Kernel: Depends on container host Compiler: gcc (Debian 12.2.0-14) 12.2.0 Fedora 40 Kernel: Depends on container host Compiler: gcc 14.2.1 20240912 (Red Hat 14.2.1-3) Fedora 40 (Clang) Kernel: Depends on container host Compiler: clang 18.1.8 (Fedora 18.1.8-1.fc40) Fedora 41 (Clang) Kernel: Depends on container host Compiler: clang 19.1.5 (Fedora 19.1.5-1.fc41) Fedora 41 Kernel: Depends on container host Compiler: gcc 14.2.1 20240912 (Red Hat 14.2.1-3) openSUSE Leap 15 Kernel: Depends on container host Compiler: gcc (SUSE Linux) 7.5.0 RHEL8 Kernel: Depends on container host Compiler: gcc 8.5.0 20210514 (Red Hat 8.5.0-22) RHEL9 Kernel: Depends on container host Compiler: gcc 11.5.0 20240719 (Red Hat 11.5.0-2) Ubuntu 20.04 Kernel: Depends on container host Compiler: gcc (Ubuntu 9.4.0-1ubuntu1~20.04.2) 9.4.0 Ubuntu 22.04 Kernel: Depends on container host Compiler: gcc (Ubuntu 11.4.0-1ubuntu1~22.04) 11.4.0 Ubuntu 24.04 Kernel: Depends on container host Compiler: gcc (Ubuntu 13.3.0-6ubuntu2~24.04) 13.3.0 FreeBSD 13.4 Kernel: 13.4-RELEASE-p1 Compiler: clang 18.1.6 Alpine Kernel: Depends on container host Compiler: gcc (Alpine 14.2.0) 14.2.0 FreeBSD 14.2 Kernel: 14.2-RELEASE Compiler: clang 18.1.6 Windows Server 2022 Kernel: 10.0.20348.2031 Compiler: clang 15.0.7, gcc 14.1.0 (MinGW), and MSVC VS 19.39.33521 To view detailed results, visit: https://lab.dpdk.org/results/dashboard/patchsets/32405/ UNH-IOL DPDK Community Lab To manage your email subscriptions, visit: https://lab.dpdk.org/results/dashboard/preferences/subscriptions/