From mboxrd@z Thu Jan 1 00:00:00 1970 Return-Path: Received: from mails.dpdk.org (mails.dpdk.org [217.70.189.124]) by inbox.dpdk.org (Postfix) with ESMTP id 91532461A0 for ; Wed, 5 Feb 2025 18:21:07 +0100 (CET) Received: from mails.dpdk.org (localhost [127.0.0.1]) by mails.dpdk.org (Postfix) with ESMTP id 8C24140665; Wed, 5 Feb 2025 18:21:07 +0100 (CET) Received: from mail-pl1-f228.google.com (mail-pl1-f228.google.com [209.85.214.228]) by mails.dpdk.org (Postfix) with ESMTP id A338440668 for ; Wed, 5 Feb 2025 18:21:06 +0100 (CET) Received: by mail-pl1-f228.google.com with SMTP id d9443c01a7336-2164b662090so1462195ad.1 for ; Wed, 05 Feb 2025 09:21:06 -0800 (PST) DKIM-Signature: v=1; a=rsa-sha256; c=relaxed/relaxed; d=iol.unh.edu; s=unh-iol; t=1738776066; x=1739380866; darn=dpdk.org; h=references:in-reply-to:cc:to:from:subject:message-id:date:from:to :cc:subject:date:message-id:reply-to; bh=yJXwrBXIA2J6XZK46pMIQuHtlBr1CIoVObMRimNXjTQ=; b=guWzzb2xDjtqI94W6YwghESEhtufylvsNCTCy9+9dvUoA0qdLzd2oIK1mKX+qE7D9R QEaVgeZFa1RHGDKvC3P8jaPy6VezAaPIZQ32X9ch7Y+0zawOFHpVpyIMTLXZVdC1qAGW gktEp5mDaEkPmujT3B4f4TydeElxgv3PbmtPQ= X-Google-DKIM-Signature: v=1; a=rsa-sha256; c=relaxed/relaxed; d=1e100.net; s=20230601; t=1738776066; x=1739380866; h=references:in-reply-to:cc:to:from:subject:message-id:date :x-gm-message-state:from:to:cc:subject:date:message-id:reply-to; bh=yJXwrBXIA2J6XZK46pMIQuHtlBr1CIoVObMRimNXjTQ=; b=JarR5NWRODeVuUT3Tsk5iiO4AIv/EwxdCEVMiMttU3VtRCObRsK022hctuEFlQ/qYx qVB4N+eeC0MoB163Aibqy0CXSis58H8IYULSFCKzN79d4BQKNVpAA1Zkr2pqIKYiFTg2 xZfoqFWNE/6i0wyemN1JzYCNMSa0K8ijUc48+o+TrJDb5LjkkQpFbjuPA6tCaLVMqq+m 5XD53b/VpBiLn7tHx/ch5k7BrwHRpXcAbQ1P5P3IEz3LbOp1ojUZbJy2ggu1jL8p6xrb GNwx1umRNFpLB2In835fFVlkRzTQaNlcyMHJkk8Wm44uTe23Unh28HGtwgGrR6CcffTD mT9g== X-Gm-Message-State: AOJu0Yy9QaQXpSBeJpf6aUsmZDiJZk+g4UWLPYWJAoaHE0k4IEI38GxI Fc/zvPSaiHTvqzh6/ABDyCixs0BVOwcnfTvUSWHfipJz+rO/ofQEDQVIjB5oxBwZEHjG7XeaYRx Di/1sPNuQo93b3NpYh1yV2mS+fPn83z6tNhwlcBdh682lC64pQ3a8Hrfh X-Gm-Gg: ASbGncsihmrByfYIqNbyH3QQvsgMjTpT6N1YWs7OLIVzGOCG1LZH4tIV3H+J99+TXWw whl4WMSG7RStl308BrypiLemLEhlLQyHOmAckYKXV7PtxPljinOMX1Kpv645x4jj67fQ6KBaM46 drwVVRD/D2YLXwHjsE3jesUojtgbFaORht+E3vXkWpl73NHwBcHKv31ElRzEC3MFX6Ddvz45EAA HQzS7QkumzNe/9bDvdC231sIoYjNuEAS0wqHW3G9ZNeR9bXhiIxI01OOUAlkesRdDNdZ91+PdHu s09IuQHMyKiRy0VYDIUXGHfNm/72kHcru7mVjnoayA== X-Google-Smtp-Source: AGHT+IEyqCMgFoUfSbrdluVougShUCgEp4iMLEQp/Fo1Vt+zgvpojzxab7m26MDN6MOfZfzRvZPnH9Kv1wCg X-Received: by 2002:a17:902:f642:b0:21c:1462:17ae with SMTP id d9443c01a7336-21f17df9bb7mr68746875ad.19.1738776065890; Wed, 05 Feb 2025 09:21:05 -0800 (PST) Received: from postal.iol.unh.edu (postal.iol.unh.edu. [2606:4100:3880:1234::84]) by smtp-relay.gmail.com with ESMTPS id d9443c01a7336-21de332570dsm6817995ad.72.2025.02.05.09.21.05 (version=TLS1_2 cipher=ECDHE-ECDSA-AES128-GCM-SHA256 bits=128/128); Wed, 05 Feb 2025 09:21:05 -0800 (PST) X-Relaying-Domain: iol.unh.edu Date: Wed, 05 Feb 2025 09:21:05 -0800 (PST) Message-ID: <67a39e01.170a0220.1c347c.ea25SMTPIN_ADDED_MISSING@mx.google.com> Received: from [172.17.0.3] (unknown [172.18.0.57]) by postal.iol.unh.edu (Postfix) with ESMTP id 093386052471; Wed, 5 Feb 2025 12:21:05 -0500 (EST) Subject: |SUCCESS| pw150440 [PATCH] mbuf: add packet offload Rx flag for keep From: dpdklab@iol.unh.edu To: Test Report Cc: dpdk-test-reports@iol.unh.edu In-Reply-To: <20250124095957.3496874-1-huangdengdui@huawei.com> References: <20250124095957.3496874-1-huangdengdui@huawei.com> Content-Type: text/plain X-BeenThere: test-report@dpdk.org X-Mailman-Version: 2.1.29 Precedence: list List-Id: automatic DPDK test reports List-Unsubscribe: , List-Archive: List-Post: List-Help: List-Subscribe: , Errors-To: test-report-bounces@dpdk.org Test-Label: iol-compile-amd64-testing Test-Status: SUCCESS http://dpdk.org/patch/150440 _Testing PASS_ Submitter: Dengdui Huang Date: Friday, January 24 2025 09:59:57 DPDK git baseline: Repo:dpdk Branch: master CommitID:5b856206c74bbcf19e12cafa15382a7e15b0a1b5 150440 --> testing pass Test environment and result as below: +---------------------+--------------------+------------------+-------------------+-------------------+----------------------+-------------------------+ | Environment | dpdk_meson_compile | dpdk_compile_ovs | dpdk_compile_spdk | dpdk_msvc_compile | dpdk_mingw64_compile | dpdk_llvm_clang_compile | +=====================+====================+==================+===================+===================+======================+=========================+ | CentOS Stream 9 | PASS | PASS | PASS | SKIPPED | SKIPPED | SKIPPED | +---------------------+--------------------+------------------+-------------------+-------------------+----------------------+-------------------------+ | Debian Bullseye | PASS | PASS | PASS | SKIPPED | SKIPPED | SKIPPED | +---------------------+--------------------+------------------+-------------------+-------------------+----------------------+-------------------------+ | Debian 12 | PASS | PASS | PASS | SKIPPED | SKIPPED | SKIPPED | +---------------------+--------------------+------------------+-------------------+-------------------+----------------------+-------------------------+ | Fedora 40 (Clang) | PASS | PASS | PASS | SKIPPED | SKIPPED | SKIPPED | +---------------------+--------------------+------------------+-------------------+-------------------+----------------------+-------------------------+ | Fedora 41 (Clang) | PASS | PASS | PASS | SKIPPED | SKIPPED | SKIPPED | +---------------------+--------------------+------------------+-------------------+-------------------+----------------------+-------------------------+ | Fedora 40 | PASS | PASS | PASS | SKIPPED | SKIPPED | SKIPPED | +---------------------+--------------------+------------------+-------------------+-------------------+----------------------+-------------------------+ | Fedora 41 | PASS | PASS | PASS | SKIPPED | SKIPPED | SKIPPED | +---------------------+--------------------+------------------+-------------------+-------------------+----------------------+-------------------------+ | openSUSE Leap 15 | PASS | SKIPPED | SKIPPED | SKIPPED | SKIPPED | SKIPPED | +---------------------+--------------------+------------------+-------------------+-------------------+----------------------+-------------------------+ | RHEL8 | PASS | PASS | SKIPPED | SKIPPED | SKIPPED | SKIPPED | +---------------------+--------------------+------------------+-------------------+-------------------+----------------------+-------------------------+ | Ubuntu 20.04 | PASS | SKIPPED | SKIPPED | SKIPPED | SKIPPED | SKIPPED | +---------------------+--------------------+------------------+-------------------+-------------------+----------------------+-------------------------+ | Ubuntu 22.04 | PASS | PASS | PASS | SKIPPED | SKIPPED | SKIPPED | +---------------------+--------------------+------------------+-------------------+-------------------+----------------------+-------------------------+ | Ubuntu 24.04 | PASS | PASS | PASS | SKIPPED | SKIPPED | SKIPPED | +---------------------+--------------------+------------------+-------------------+-------------------+----------------------+-------------------------+ | Alpine | PASS | PASS | SKIPPED | SKIPPED | SKIPPED | SKIPPED | +---------------------+--------------------+------------------+-------------------+-------------------+----------------------+-------------------------+ | FreeBSD 13.4 | PASS | SKIPPED | SKIPPED | SKIPPED | SKIPPED | SKIPPED | +---------------------+--------------------+------------------+-------------------+-------------------+----------------------+-------------------------+ | RHEL9 | PASS | PASS | SKIPPED | SKIPPED | SKIPPED | SKIPPED | +---------------------+--------------------+------------------+-------------------+-------------------+----------------------+-------------------------+ | FreeBSD 14.2 | PASS | SKIPPED | SKIPPED | SKIPPED | SKIPPED | SKIPPED | +---------------------+--------------------+------------------+-------------------+-------------------+----------------------+-------------------------+ | Windows Server 2022 | SKIPPED | SKIPPED | SKIPPED | PASS | PASS | PASS | +---------------------+--------------------+------------------+-------------------+-------------------+----------------------+-------------------------+ CentOS Stream 9 Kernel: Depends on container host Compiler: gcc 11.5.0 20240719 (Red Hat 11.5.0-2) Debian Bullseye Kernel: Depends on container host Compiler: gcc (Debian 10.2.1-6) 10.2.1 20210110 Debian 12 Kernel: Depends on container host Compiler: gcc (Debian 12.2.0-14) 12.2.0 Fedora 40 (Clang) Kernel: Depends on container host Compiler: clang 18.1.8 (Fedora 18.1.8-1.fc40) Fedora 41 (Clang) Kernel: Depends on container host Compiler: clang 19.1.5 (Fedora 19.1.5-1.fc41) Fedora 40 Kernel: Depends on container host Compiler: gcc 14.2.1 20240912 (Red Hat 14.2.1-3) Fedora 41 Kernel: Depends on container host Compiler: gcc 14.2.1 20240912 (Red Hat 14.2.1-3) openSUSE Leap 15 Kernel: Depends on container host Compiler: gcc (SUSE Linux) 7.5.0 RHEL8 Kernel: Depends on container host Compiler: gcc 8.5.0 20210514 (Red Hat 8.5.0-22) Ubuntu 20.04 Kernel: Depends on container host Compiler: gcc (Ubuntu 9.4.0-1ubuntu1~20.04.2) 9.4.0 Ubuntu 22.04 Kernel: Depends on container host Compiler: gcc (Ubuntu 11.4.0-1ubuntu1~22.04) 11.4.0 Ubuntu 24.04 Kernel: Depends on container host Compiler: gcc (Ubuntu 13.3.0-6ubuntu2~24.04) 13.3.0 Alpine Kernel: Depends on container host Compiler: gcc (Alpine 14.2.0) 14.2.0 FreeBSD 13.4 Kernel: 13.4-RELEASE-p1 Compiler: clang 18.1.6 RHEL9 Kernel: Depends on container host Compiler: gcc 11.5.0 20240719 (Red Hat 11.5.0-2) FreeBSD 14.2 Kernel: 14.2-RELEASE Compiler: clang 18.1.6 Windows Server 2022 Kernel: 10.0.20348.2031 Compiler: clang 15.0.7, gcc 14.1.0 (MinGW), and MSVC VS 19.39.33521 To view detailed results, visit: https://lab.dpdk.org/results/dashboard/patchsets/32410/ UNH-IOL DPDK Community Lab To manage your email subscriptions, visit: https://lab.dpdk.org/results/dashboard/preferences/subscriptions/