From mboxrd@z Thu Jan 1 00:00:00 1970 Return-Path: Received: from mails.dpdk.org (mails.dpdk.org [217.70.189.124]) by inbox.dpdk.org (Postfix) with ESMTP id A6A53461A0 for ; Wed, 5 Feb 2025 18:21:25 +0100 (CET) Received: from mails.dpdk.org (localhost [127.0.0.1]) by mails.dpdk.org (Postfix) with ESMTP id 9E0DD40647; Wed, 5 Feb 2025 18:21:25 +0100 (CET) Received: from mail-yw1-f225.google.com (mail-yw1-f225.google.com [209.85.128.225]) by mails.dpdk.org (Postfix) with ESMTP id 79A83402EF for ; Wed, 5 Feb 2025 18:21:24 +0100 (CET) Received: by mail-yw1-f225.google.com with SMTP id 00721157ae682-6f44113c101so280327b3.1 for ; Wed, 05 Feb 2025 09:21:24 -0800 (PST) DKIM-Signature: v=1; a=rsa-sha256; c=relaxed/relaxed; d=iol.unh.edu; s=unh-iol; t=1738776084; x=1739380884; darn=dpdk.org; h=cc:to:from:subject:message-id:date:from:to:cc:subject:date :message-id:reply-to; bh=iJfTCT/1gSCEYqbveQpUjQd7MkkRWSH7+mPdfNTVUeE=; b=GOHpb1Nt5iMPIwZRJCByZCcC+8ci6Sb87PgZZYww6fl4lBv4uKaWeE/joMlohv5XZK czJXBkXXwt0wd4BdRoaYN6/4bBDQEDQTHBO9pfrFDKvdJoyLz+zs0/QNYB6pPp8ghDjL k2ZbHg+DgTDth8FD0f6otiLNx7G/kVLGYDHEE= X-Google-DKIM-Signature: v=1; a=rsa-sha256; c=relaxed/relaxed; d=1e100.net; s=20230601; t=1738776084; x=1739380884; h=cc:to:from:subject:message-id:date:x-gm-message-state:from:to:cc :subject:date:message-id:reply-to; bh=iJfTCT/1gSCEYqbveQpUjQd7MkkRWSH7+mPdfNTVUeE=; b=aZxrWy9IwNZsWegtkkbne7RFqkJ7FKFlDYL5RqlgQbpnpC7/FVx2XTkf/2qpniC0t2 36PvZoKpKz2/xXz0AsgudTqjvzZi3U/GacKaEaiW+EOrOq3p9PFXNPtV9hjlaplOBMuD lRxc3gLA6UDIu3ZKqmZdquZiMJQZkma+rKvXWETgMy4HKv2gSd49mTid4RRxS4NKQjEL wd8SPid1iQrsIylGHMrn3kAthErdqwS1D/giQT62fwFTsHcgWS/EXG2WWmjM5pYs6BP4 DqRONlMK34x0jpXEluAOM1SQ3WCa+FveKKj7BM/gyKBmjRRt0MKL704ZPy5TyOiAGlrb dhew== X-Gm-Message-State: AOJu0Yxr8vkBO7DA220UkiYpJoxbA3zL4NB3MF3OtyAEHNszHEtv16XS 0KyMNENlf1dHeEP6jJBO44EebvoFP6q5ewE5QI738TOtv352gSYNoOnSo0CE3bLjDXsigjndBVd 50h1udJTNeWmIjXmfSFubRm5C8pM6bI0G1l2/N1M+B0DQnIVcCLoxHh4q X-Gm-Gg: ASbGnctsVlyvAltyhY3TSG/dP10igI5xi+xii5F1fTdf9JtOzGW8iZSmTh8mMqL/Iep DZNnik4MeZD9Oq1E90GZCGrhAR/NRWwdZHsO5HAelaTB1FbWgvYCHsH8JwHgMVat1jSyNkd0fHc 8VcuiPwxArh/Wf/xb1EDlXs1JIkKFigfGxRRyx09B8JpJF/e4h24eWq2AO+KjXQjkpM2GApgTAf DANCAcUExu77wct91JJgXmbamav4y96LIYSmdcp/ic8Y/632Yr8a7mhS6iVq6UZHJKgXzyQELTd MybARqhM7HovG6eFK7vjhNMEc9hGQkHLnr4Z/UA/Ig== X-Google-Smtp-Source: AGHT+IGyl2x+2PGK06CCOgwhn0Uxs4T/ytmtwaCdeYDraVmvgLkvy/Nh0zZyJNB42WlXEGlF7Hp89L7b4Knt X-Received: by 2002:a05:690c:6d12:b0:6ee:988b:16d4 with SMTP id 00721157ae682-6f989f65e14mr28925637b3.29.1738776083928; Wed, 05 Feb 2025 09:21:23 -0800 (PST) Received: from postal.iol.unh.edu (postal.iol.unh.edu. [2606:4100:3880:1234::84]) by smtp-relay.gmail.com with ESMTPS id 00721157ae682-6f8c460e9e3sm7525677b3.9.2025.02.05.09.21.23 (version=TLS1_2 cipher=ECDHE-ECDSA-AES128-GCM-SHA256 bits=128/128); Wed, 05 Feb 2025 09:21:23 -0800 (PST) X-Relaying-Domain: iol.unh.edu Date: Wed, 05 Feb 2025 09:21:23 -0800 (PST) Message-ID: <67a39e13.050a0220.370668.4477SMTPIN_ADDED_MISSING@mx.google.com> Received: from [172.17.0.5] (unknown [172.18.0.213]) by postal.iol.unh.edu (Postfix) with ESMTP id A97376052471; Wed, 5 Feb 2025 12:21:23 -0500 (EST) Subject: |SUCCESS| [GIT MASTER] 5b856206c74bbcf19e12cafa15382a7e15b0a1b5 From: dpdklab@iol.unh.edu To: Test Report Cc: dpdk-test-reports@iol.unh.edu Content-Type: text/plain X-BeenThere: test-report@dpdk.org X-Mailman-Version: 2.1.29 Precedence: list List-Id: automatic DPDK test reports List-Unsubscribe: , List-Archive: List-Post: List-Help: List-Subscribe: , Errors-To: test-report-bounces@dpdk.org _Testing PASS_ Branch: dpdk 5b856206c74bbcf19e12cafa15382a7e15b0a1b5 --> testing pass Test environment and result as below: +---------------------+--------------------+------------------+-------------------+-------------------+----------------------+-------------------------+ | Environment | dpdk_meson_compile | dpdk_compile_ovs | dpdk_compile_spdk | dpdk_msvc_compile | dpdk_mingw64_compile | dpdk_llvm_clang_compile | +=====================+====================+==================+===================+===================+======================+=========================+ | Debian 12 | PASS | PASS | PASS | SKIPPED | SKIPPED | SKIPPED | +---------------------+--------------------+------------------+-------------------+-------------------+----------------------+-------------------------+ | Debian Bullseye | PASS | PASS | PASS | SKIPPED | SKIPPED | SKIPPED | +---------------------+--------------------+------------------+-------------------+-------------------+----------------------+-------------------------+ | Fedora 40 (Clang) | PASS | PASS | PASS | SKIPPED | SKIPPED | SKIPPED | +---------------------+--------------------+------------------+-------------------+-------------------+----------------------+-------------------------+ | Fedora 41 (Clang) | PASS | PASS | PASS | SKIPPED | SKIPPED | SKIPPED | +---------------------+--------------------+------------------+-------------------+-------------------+----------------------+-------------------------+ | RHEL8 | PASS | PASS | SKIPPED | SKIPPED | SKIPPED | SKIPPED | +---------------------+--------------------+------------------+-------------------+-------------------+----------------------+-------------------------+ | Fedora 40 | PASS | PASS | PASS | SKIPPED | SKIPPED | SKIPPED | +---------------------+--------------------+------------------+-------------------+-------------------+----------------------+-------------------------+ | Fedora 41 | PASS | PASS | PASS | SKIPPED | SKIPPED | SKIPPED | +---------------------+--------------------+------------------+-------------------+-------------------+----------------------+-------------------------+ | openSUSE Leap 15 | PASS | SKIPPED | SKIPPED | SKIPPED | SKIPPED | SKIPPED | +---------------------+--------------------+------------------+-------------------+-------------------+----------------------+-------------------------+ | RHEL9 | PASS | PASS | SKIPPED | SKIPPED | SKIPPED | SKIPPED | +---------------------+--------------------+------------------+-------------------+-------------------+----------------------+-------------------------+ | Ubuntu 24.04 | PASS | PASS | PASS | SKIPPED | SKIPPED | SKIPPED | +---------------------+--------------------+------------------+-------------------+-------------------+----------------------+-------------------------+ | Ubuntu 20.04 | PASS | SKIPPED | SKIPPED | SKIPPED | SKIPPED | SKIPPED | +---------------------+--------------------+------------------+-------------------+-------------------+----------------------+-------------------------+ | Ubuntu 22.04 | PASS | PASS | PASS | SKIPPED | SKIPPED | SKIPPED | +---------------------+--------------------+------------------+-------------------+-------------------+----------------------+-------------------------+ | Alpine | PASS | PASS | SKIPPED | SKIPPED | SKIPPED | SKIPPED | +---------------------+--------------------+------------------+-------------------+-------------------+----------------------+-------------------------+ | Arch Linux | PASS | PASS | SKIPPED | SKIPPED | SKIPPED | SKIPPED | +---------------------+--------------------+------------------+-------------------+-------------------+----------------------+-------------------------+ | FreeBSD 13.4 | PASS | SKIPPED | SKIPPED | SKIPPED | SKIPPED | SKIPPED | +---------------------+--------------------+------------------+-------------------+-------------------+----------------------+-------------------------+ | FreeBSD 14.2 | PASS | SKIPPED | SKIPPED | SKIPPED | SKIPPED | SKIPPED | +---------------------+--------------------+------------------+-------------------+-------------------+----------------------+-------------------------+ | CentOS Stream 9 | PASS | PASS | PASS | SKIPPED | SKIPPED | SKIPPED | +---------------------+--------------------+------------------+-------------------+-------------------+----------------------+-------------------------+ | Windows Server 2022 | SKIPPED | SKIPPED | SKIPPED | PASS | PASS | PASS | +---------------------+--------------------+------------------+-------------------+-------------------+----------------------+-------------------------+ Debian 12 Kernel: Depends on container host Compiler: gcc (Debian 12.2.0-14) 12.2.0 Debian Bullseye Kernel: Depends on container host Compiler: gcc (Debian 10.2.1-6) 10.2.1 20210110 Fedora 40 (Clang) Kernel: Depends on container host Compiler: clang 18.1.8 (Fedora 18.1.8-1.fc40) Fedora 41 (Clang) Kernel: Depends on container host Compiler: clang 19.1.5 (Fedora 19.1.5-1.fc41) RHEL8 Kernel: Depends on container host Compiler: gcc 8.5.0 20210514 (Red Hat 8.5.0-22) Fedora 40 Kernel: Depends on container host Compiler: gcc 14.2.1 20240912 (Red Hat 14.2.1-3) Fedora 41 Kernel: Depends on container host Compiler: gcc 14.2.1 20240912 (Red Hat 14.2.1-3) openSUSE Leap 15 Kernel: Depends on container host Compiler: gcc (SUSE Linux) 7.5.0 RHEL9 Kernel: Depends on container host Compiler: gcc 11.5.0 20240719 (Red Hat 11.5.0-2) Ubuntu 24.04 Kernel: Depends on container host Compiler: gcc (Ubuntu 13.3.0-6ubuntu2~24.04) 13.3.0 Ubuntu 20.04 Kernel: Depends on container host Compiler: gcc (Ubuntu 9.4.0-1ubuntu1~20.04.2) 9.4.0 Ubuntu 22.04 Kernel: Depends on container host Compiler: gcc (Ubuntu 11.4.0-1ubuntu1~22.04) 11.4.0 Alpine Kernel: Depends on container host Compiler: gcc (Alpine 14.2.0) 14.2.0 Arch Linux Kernel: Depends on container host Compiler: gcc 14.2.1 20240910 FreeBSD 13.4 Kernel: 13.4-RELEASE-p1 Compiler: clang 18.1.6 FreeBSD 14.2 Kernel: 14.2-RELEASE Compiler: clang 18.1.6 CentOS Stream 9 Kernel: Depends on container host Compiler: gcc 11.5.0 20240719 (Red Hat 11.5.0-2) Windows Server 2022 Kernel: 10.0.20348.2031 Compiler: clang 15.0.7, gcc 14.1.0 (MinGW), and MSVC VS 19.39.33521 To view detailed results, visit: https://lab.dpdk.org/results/dashboard/tarballs/32318/ UNH-IOL DPDK Community Lab To manage your email subscriptions, visit: https://lab.dpdk.org/results/dashboard/preferences/subscriptions/