From mboxrd@z Thu Jan 1 00:00:00 1970 Return-Path: Received: from mails.dpdk.org (mails.dpdk.org [217.70.189.124]) by inbox.dpdk.org (Postfix) with ESMTP id 18929461A1 for ; Wed, 5 Feb 2025 18:21:43 +0100 (CET) Received: from mails.dpdk.org (localhost [127.0.0.1]) by mails.dpdk.org (Postfix) with ESMTP id 1037940665; Wed, 5 Feb 2025 18:21:43 +0100 (CET) Received: from mail-pj1-f97.google.com (mail-pj1-f97.google.com [209.85.216.97]) by mails.dpdk.org (Postfix) with ESMTP id 7CB56402EF for ; Wed, 5 Feb 2025 18:21:41 +0100 (CET) Received: by mail-pj1-f97.google.com with SMTP id 98e67ed59e1d1-2f9da2a7004so2212336a91.0 for ; Wed, 05 Feb 2025 09:21:41 -0800 (PST) DKIM-Signature: v=1; a=rsa-sha256; c=relaxed/relaxed; d=iol.unh.edu; s=unh-iol; t=1738776101; x=1739380901; darn=dpdk.org; h=references:in-reply-to:cc:to:from:subject:message-id:date:from:to :cc:subject:date:message-id:reply-to; bh=zN9rNtQYN98Nj4xTgxuZQeoIcyb3o9xJOvWkm/nPsag=; b=id3q/wKtE4TSwYVNTLiB8h3J/vdGLaKKdgkUStHR5S6b0tbRWkSyzthvCae+HoCYFq V6YYczSMR0s5dw8QRfmxUVXTtJ4aWPVpq7V+GcmQ0oprQ7vVJs2RWrFL7V+RgxUbojwO 1ghJBHHgn5eum8U6DX3NMEi9hoC5rqhWu2fDw= X-Google-DKIM-Signature: v=1; a=rsa-sha256; c=relaxed/relaxed; d=1e100.net; s=20230601; t=1738776101; x=1739380901; h=references:in-reply-to:cc:to:from:subject:message-id:date :x-gm-message-state:from:to:cc:subject:date:message-id:reply-to; bh=zN9rNtQYN98Nj4xTgxuZQeoIcyb3o9xJOvWkm/nPsag=; b=JZXPr5+RzZJzJ8wwaXENH+xgIuxHxuAeZhOn7o/8tgf+dL1ABzTvd/MXWjF37kYgY+ V3SpJvUQ16wxFEQ7HF3eCpLP/gGks1cTs5Ln0jFGQ79CK03xJ86mDVZOWmluGlEHVtpr SOChImSCANK0uPxYel3w25Jr2YkgDndZwxDxfCSYcyOT0za+5uYMdt/jLi+xde+ZxONA vYG6IvqEYenbYk9NzLpTIuGpZRzWSt0nNKsbaNXlJE50JqReKUM+RPIjfPlOGeiLeoS9 1IL9qhWkwRlq3wnGndrrktMzvj9WJOVxYpoN4HEEp8qEMZh4W9DjU9ZaFhrcJNJAC99N /qNA== X-Gm-Message-State: AOJu0Yz7Xws5dbwo+9Ekl5FD22KfTPd/g/qwcL6zr6G13TgvFnDH8zk8 dicsc9iSnyAKf4V7Tm1ixceQUlwkStooZ5heYwJhXjed07uu6NZnusClqiiuOwhZ2U1N/b4zhXp bvLoN4I/uEutSEzEZHCaTFgkil2/HqKvfRZaWx4tU X-Gm-Gg: ASbGncvAnMm++FbS8tff2+gQXuBh9ttchwkYCXjGtNJtJaEQYcrNCkATt1UUbQyyWn8 GWVO0ra9lDwWs3LYg4GxixtkjiEL0eia5az9L3Lp1kpW0jQ2chJfafRk+5Ty85gcdgMl+HkLPt6 wGrbSKwXzQ3rMYHSm7VMj6qoRvlV1HtHK3kiR65b+UXCNVOxs3kzIJpLbiFXTfIfLkT82Aamtqr MU7ABVqQ/3gxvnvNFLhZjOq/bcTi6jodJwppa5l2STy9soukV1ivOgmnO1eX2PEVHFSOdDIbjd5 MlKB3Zse2m16dO4BVrEXAlq7OvtFog== X-Google-Smtp-Source: AGHT+IGCSHYbLBwoWPbp+kBasiQXTbrUusnlEikEp4CJ6cDEDIQIh+cgL9+bJ3382HWpfJ9IEEK9zynpXFxT X-Received: by 2002:a17:90b:4ac8:b0:2f8:2c47:fb36 with SMTP id 98e67ed59e1d1-2f9e0834621mr6301159a91.33.1738776100719; Wed, 05 Feb 2025 09:21:40 -0800 (PST) Received: from postal.iol.unh.edu (postal.iol.unh.edu. [132.177.123.84]) by smtp-relay.gmail.com with ESMTPS id 98e67ed59e1d1-2f9e1d7b64esm164984a91.6.2025.02.05.09.21.40 (version=TLS1_2 cipher=ECDHE-ECDSA-AES128-GCM-SHA256 bits=128/128); Wed, 05 Feb 2025 09:21:40 -0800 (PST) X-Relaying-Domain: iol.unh.edu Date: Wed, 05 Feb 2025 09:21:40 -0800 (PST) Message-ID: <67a39e24.170a0220.1f21b8.6d4eSMTPIN_ADDED_MISSING@mx.google.com> Received: from [172.17.0.3] (unknown [172.18.0.213]) by postal.iol.unh.edu (Postfix) with ESMTP id C3DE36052471; Wed, 5 Feb 2025 12:21:39 -0500 (EST) Subject: |SUCCESS| pw150426-150428 [PATCH] [v1,3/3] baseband/acc: add interna From: dpdklab@iol.unh.edu To: Test Report Cc: dpdk-test-reports@iol.unh.edu In-Reply-To: <20250123202807.2089618-4-nicolas.chautru@intel.com> References: <20250123202807.2089618-4-nicolas.chautru@intel.com> Content-Type: text/plain X-BeenThere: test-report@dpdk.org X-Mailman-Version: 2.1.29 Precedence: list List-Id: automatic DPDK test reports List-Unsubscribe: , List-Archive: List-Post: List-Help: List-Subscribe: , Errors-To: test-report-bounces@dpdk.org Test-Label: iol-compile-amd64-testing Test-Status: SUCCESS http://dpdk.org/patch/150428 _Testing PASS_ Submitter: Chautru, Nicolas Date: Thursday, January 23 2025 20:28:07 DPDK git baseline: Repo:dpdk Branch: master CommitID:07e3bebf3c93750c52ed9be87edd212fbc22da0a 150426-150428 --> testing pass Test environment and result as below: +---------------------+--------------------+------------------+-------------------+-------------------+----------------------+-------------------------+ | Environment | dpdk_meson_compile | dpdk_compile_ovs | dpdk_compile_spdk | dpdk_msvc_compile | dpdk_mingw64_compile | dpdk_llvm_clang_compile | +=====================+====================+==================+===================+===================+======================+=========================+ | CentOS Stream 9 | PASS | PASS | PASS | SKIPPED | SKIPPED | SKIPPED | +---------------------+--------------------+------------------+-------------------+-------------------+----------------------+-------------------------+ | Debian Bullseye | PASS | PASS | PASS | SKIPPED | SKIPPED | SKIPPED | +---------------------+--------------------+------------------+-------------------+-------------------+----------------------+-------------------------+ | Debian 12 | PASS | PASS | PASS | SKIPPED | SKIPPED | SKIPPED | +---------------------+--------------------+------------------+-------------------+-------------------+----------------------+-------------------------+ | Fedora 40 | PASS | PASS | PASS | SKIPPED | SKIPPED | SKIPPED | +---------------------+--------------------+------------------+-------------------+-------------------+----------------------+-------------------------+ | Fedora 40 (Clang) | PASS | PASS | PASS | SKIPPED | SKIPPED | SKIPPED | +---------------------+--------------------+------------------+-------------------+-------------------+----------------------+-------------------------+ | Fedora 41 | PASS | PASS | PASS | SKIPPED | SKIPPED | SKIPPED | +---------------------+--------------------+------------------+-------------------+-------------------+----------------------+-------------------------+ | openSUSE Leap 15 | PASS | SKIPPED | SKIPPED | SKIPPED | SKIPPED | SKIPPED | +---------------------+--------------------+------------------+-------------------+-------------------+----------------------+-------------------------+ | Fedora 41 (Clang) | PASS | PASS | PASS | SKIPPED | SKIPPED | SKIPPED | +---------------------+--------------------+------------------+-------------------+-------------------+----------------------+-------------------------+ | Ubuntu 22.04 | PASS | PASS | PASS | SKIPPED | SKIPPED | SKIPPED | +---------------------+--------------------+------------------+-------------------+-------------------+----------------------+-------------------------+ | RHEL9 | PASS | PASS | SKIPPED | SKIPPED | SKIPPED | SKIPPED | +---------------------+--------------------+------------------+-------------------+-------------------+----------------------+-------------------------+ | Ubuntu 20.04 | PASS | SKIPPED | SKIPPED | SKIPPED | SKIPPED | SKIPPED | +---------------------+--------------------+------------------+-------------------+-------------------+----------------------+-------------------------+ | RHEL8 | PASS | PASS | SKIPPED | SKIPPED | SKIPPED | SKIPPED | +---------------------+--------------------+------------------+-------------------+-------------------+----------------------+-------------------------+ | Alpine | PASS | PASS | SKIPPED | SKIPPED | SKIPPED | SKIPPED | +---------------------+--------------------+------------------+-------------------+-------------------+----------------------+-------------------------+ | Ubuntu 24.04 | PASS | PASS | PASS | SKIPPED | SKIPPED | SKIPPED | +---------------------+--------------------+------------------+-------------------+-------------------+----------------------+-------------------------+ | FreeBSD 13.4 | PASS | SKIPPED | SKIPPED | SKIPPED | SKIPPED | SKIPPED | +---------------------+--------------------+------------------+-------------------+-------------------+----------------------+-------------------------+ | FreeBSD 14.2 | PASS | SKIPPED | SKIPPED | SKIPPED | SKIPPED | SKIPPED | +---------------------+--------------------+------------------+-------------------+-------------------+----------------------+-------------------------+ | Windows Server 2022 | SKIPPED | SKIPPED | SKIPPED | PASS | PASS | PASS | +---------------------+--------------------+------------------+-------------------+-------------------+----------------------+-------------------------+ CentOS Stream 9 Kernel: Depends on container host Compiler: gcc 11.5.0 20240719 (Red Hat 11.5.0-2) Debian Bullseye Kernel: Depends on container host Compiler: gcc (Debian 10.2.1-6) 10.2.1 20210110 Debian 12 Kernel: Depends on container host Compiler: gcc (Debian 12.2.0-14) 12.2.0 Fedora 40 Kernel: Depends on container host Compiler: gcc 14.2.1 20240912 (Red Hat 14.2.1-3) Fedora 40 (Clang) Kernel: Depends on container host Compiler: clang 18.1.8 (Fedora 18.1.8-1.fc40) Fedora 41 Kernel: Depends on container host Compiler: gcc 14.2.1 20240912 (Red Hat 14.2.1-3) openSUSE Leap 15 Kernel: Depends on container host Compiler: gcc (SUSE Linux) 7.5.0 Fedora 41 (Clang) Kernel: Depends on container host Compiler: clang 19.1.5 (Fedora 19.1.5-1.fc41) Ubuntu 22.04 Kernel: Depends on container host Compiler: gcc (Ubuntu 11.4.0-1ubuntu1~22.04) 11.4.0 RHEL9 Kernel: Depends on container host Compiler: gcc 11.5.0 20240719 (Red Hat 11.5.0-2) Ubuntu 20.04 Kernel: Depends on container host Compiler: gcc (Ubuntu 9.4.0-1ubuntu1~20.04.2) 9.4.0 RHEL8 Kernel: Depends on container host Compiler: gcc 8.5.0 20210514 (Red Hat 8.5.0-22) Alpine Kernel: Depends on container host Compiler: gcc (Alpine 14.2.0) 14.2.0 Ubuntu 24.04 Kernel: Depends on container host Compiler: gcc (Ubuntu 13.3.0-6ubuntu2~24.04) 13.3.0 FreeBSD 13.4 Kernel: 13.4-RELEASE-p1 Compiler: clang 18.1.6 FreeBSD 14.2 Kernel: 14.2-RELEASE Compiler: clang 18.1.6 Windows Server 2022 Kernel: 10.0.20348.2031 Compiler: clang 15.0.7, gcc 14.1.0 (MinGW), and MSVC VS 19.39.33521 To view detailed results, visit: https://lab.dpdk.org/results/dashboard/patchsets/32404/ UNH-IOL DPDK Community Lab To manage your email subscriptions, visit: https://lab.dpdk.org/results/dashboard/preferences/subscriptions/