From mboxrd@z Thu Jan 1 00:00:00 1970 Return-Path: Received: from mails.dpdk.org (mails.dpdk.org [217.70.189.124]) by inbox.dpdk.org (Postfix) with ESMTP id 0A50D461A0 for ; Wed, 5 Feb 2025 18:21:43 +0100 (CET) Received: from mails.dpdk.org (localhost [127.0.0.1]) by mails.dpdk.org (Postfix) with ESMTP id 07F8740654; Wed, 5 Feb 2025 18:21:43 +0100 (CET) Received: from mail-pj1-f98.google.com (mail-pj1-f98.google.com [209.85.216.98]) by mails.dpdk.org (Postfix) with ESMTP id 7D61F40647 for ; Wed, 5 Feb 2025 18:21:41 +0100 (CET) Received: by mail-pj1-f98.google.com with SMTP id 98e67ed59e1d1-2f9c3ec68c7so3291799a91.2 for ; Wed, 05 Feb 2025 09:21:41 -0800 (PST) DKIM-Signature: v=1; a=rsa-sha256; c=relaxed/relaxed; d=iol.unh.edu; s=unh-iol; t=1738776101; x=1739380901; darn=dpdk.org; h=references:in-reply-to:cc:to:from:subject:message-id:date:from:to :cc:subject:date:message-id:reply-to; bh=C7nuGxk0CfcbLytRnttZCYvtBsYPXYQ4c4l3wegKSgM=; b=RWb25gp5WBRt0oOIjLIr+ELqEd/pc3SfROMaEVL5VVCivzBbrnmeUEmLYIN69QUi/T EXzVojuYTDS4iyt34thxhmMnhP5DTLWiQuwjN2sqgYXoOnvAZJU6Mpjh93FSh4iA9EU2 UYbzDRCx0/uB+KOxXH+aYzpFiIK0/zShaqTnw= X-Google-DKIM-Signature: v=1; a=rsa-sha256; c=relaxed/relaxed; d=1e100.net; s=20230601; t=1738776101; x=1739380901; h=references:in-reply-to:cc:to:from:subject:message-id:date :x-gm-message-state:from:to:cc:subject:date:message-id:reply-to; bh=C7nuGxk0CfcbLytRnttZCYvtBsYPXYQ4c4l3wegKSgM=; b=R4i3dKSPKuMUrJLJRQwpheMa4P7sh8RxcVkkpDxG5x/dMM+WB/lknvO+oijJpMS3mx VU2rTIG8nvX90XkFbMpTEUjTJgb5jE8ewGjvI6j30ekbuOrpJ1824z52YTTuoyI2FKb+ J6NstKSuSD45dH/pfGyACP4dICQT6PTU8zqpEQ2Yd+ZaUjJwBtpLJgP4KAFH8gnhFa0y tQedWc/ts2pSPway+GnhWpk3AC76+ETjCw1c7eJKww1kRY/06s0n30vWUOyfhsXxbOvj LOc4bNwVfiojqQxt6P7m62ZsV7lHQjCcWZ/YZzECTSqK17qDnUxUMougA4Lq/iSRv1fQ ZmmQ== X-Gm-Message-State: AOJu0YzyaQUKr/vC1CVp0usVuBvzwRgxqrxhNEFwURFeVZGW3DA8Exfn enwrP5Ok9nC6j6VbDTPWQyLsMKL5wNGfhvMYQuaG0nK4E2sNllCexwT55CG5wBwfLNEqYiu0RM5 Erlx4am4j5HizEnEKXtCInd3IEaVeW3rEq2DM9RqR X-Gm-Gg: ASbGncvEzEwQoTnbORntOY7AWrw1QuyJKSuBvz0ZkWuIBzPUn4/gnw10PbN4iYd59c8 Ckii9kDYiCJm1mgrZ6/oQMBrS++9o+6qTJmfYzkMz/pjI6cJrgtNTTk+b+1khaxzBJOrZL/byGi qlB1o8bn+OCq/2DJLrKNlbKyi7DJKraQ7UCCqZu1V6vppzqoRHarxcLBrrscCUBveUgDI3IsQxz KnH8tHWrf5EhbfQvQNAU3XeeEmzQb93Fw/bHNq6LRt+T4OsSbVAHCAKGGcRuxHgKYDa/ylFuLe9 oXkfzMtyO3KTY3E4nHPCQUc9/wwYeA== X-Google-Smtp-Source: AGHT+IFO2LDxp0vZDpzsB3JLepYoh3eqrn/ygQrQNhuo8SOnnR1WlvUgmi/ACMcmkhpWYskeuZ5lvzd2Yhgx X-Received: by 2002:a17:90b:224e:b0:2ee:a583:e616 with SMTP id 98e67ed59e1d1-2f9e075f3afmr6098291a91.9.1738776100767; Wed, 05 Feb 2025 09:21:40 -0800 (PST) Received: from postal.iol.unh.edu (postal.iol.unh.edu. [132.177.123.84]) by smtp-relay.gmail.com with ESMTPS id 98e67ed59e1d1-2f9e1d63d18sm171522a91.2.2025.02.05.09.21.40 (version=TLS1_2 cipher=ECDHE-ECDSA-AES128-GCM-SHA256 bits=128/128); Wed, 05 Feb 2025 09:21:40 -0800 (PST) X-Relaying-Domain: iol.unh.edu Date: Wed, 05 Feb 2025 09:21:40 -0800 (PST) Message-ID: <67a39e24.170a0220.239d65.7731SMTPIN_ADDED_MISSING@mx.google.com> Received: from [172.21.0.9] (unknown [172.18.0.240]) by postal.iol.unh.edu (Postfix) with ESMTP id 326276052472; Wed, 5 Feb 2025 12:21:40 -0500 (EST) Subject: |SUCCESS| pw150425 [PATCH] build: force gcc to initialize padding bi From: dpdklab@iol.unh.edu To: Test Report Cc: dpdk-test-reports@iol.unh.edu In-Reply-To: <20250123172048.134417-1-stephen@networkplumber.org> References: <20250123172048.134417-1-stephen@networkplumber.org> Content-Type: text/plain X-BeenThere: test-report@dpdk.org X-Mailman-Version: 2.1.29 Precedence: list List-Id: automatic DPDK test reports List-Unsubscribe: , List-Archive: List-Post: List-Help: List-Subscribe: , Errors-To: test-report-bounces@dpdk.org Test-Label: iol-compile-amd64-testing Test-Status: SUCCESS http://dpdk.org/patch/150425 _Testing PASS_ Submitter: Stephen Hemminger Date: Thursday, January 23 2025 17:20:47 DPDK git baseline: Repo:dpdk Branch: master CommitID:5b856206c74bbcf19e12cafa15382a7e15b0a1b5 150425 --> testing pass Test environment and result as below: +---------------------+--------------------+------------------+-------------------+-------------------+----------------------+-------------------------+ | Environment | dpdk_meson_compile | dpdk_compile_ovs | dpdk_compile_spdk | dpdk_msvc_compile | dpdk_mingw64_compile | dpdk_llvm_clang_compile | +=====================+====================+==================+===================+===================+======================+=========================+ | CentOS Stream 9 | PASS | PASS | PASS | SKIPPED | SKIPPED | SKIPPED | +---------------------+--------------------+------------------+-------------------+-------------------+----------------------+-------------------------+ | Debian Bullseye | PASS | PASS | PASS | SKIPPED | SKIPPED | SKIPPED | +---------------------+--------------------+------------------+-------------------+-------------------+----------------------+-------------------------+ | Debian 12 | PASS | PASS | PASS | SKIPPED | SKIPPED | SKIPPED | +---------------------+--------------------+------------------+-------------------+-------------------+----------------------+-------------------------+ | Fedora 40 (Clang) | PASS | PASS | PASS | SKIPPED | SKIPPED | SKIPPED | +---------------------+--------------------+------------------+-------------------+-------------------+----------------------+-------------------------+ | Fedora 40 | PASS | PASS | PASS | SKIPPED | SKIPPED | SKIPPED | +---------------------+--------------------+------------------+-------------------+-------------------+----------------------+-------------------------+ | Fedora 41 | PASS | PASS | PASS | SKIPPED | SKIPPED | SKIPPED | +---------------------+--------------------+------------------+-------------------+-------------------+----------------------+-------------------------+ | Fedora 41 (Clang) | PASS | PASS | PASS | SKIPPED | SKIPPED | SKIPPED | +---------------------+--------------------+------------------+-------------------+-------------------+----------------------+-------------------------+ | openSUSE Leap 15 | PASS | SKIPPED | SKIPPED | SKIPPED | SKIPPED | SKIPPED | +---------------------+--------------------+------------------+-------------------+-------------------+----------------------+-------------------------+ | RHEL8 | PASS | PASS | SKIPPED | SKIPPED | SKIPPED | SKIPPED | +---------------------+--------------------+------------------+-------------------+-------------------+----------------------+-------------------------+ | RHEL9 | PASS | PASS | SKIPPED | SKIPPED | SKIPPED | SKIPPED | +---------------------+--------------------+------------------+-------------------+-------------------+----------------------+-------------------------+ | Ubuntu 20.04 | PASS | SKIPPED | SKIPPED | SKIPPED | SKIPPED | SKIPPED | +---------------------+--------------------+------------------+-------------------+-------------------+----------------------+-------------------------+ | Ubuntu 24.04 | PASS | PASS | PASS | SKIPPED | SKIPPED | SKIPPED | +---------------------+--------------------+------------------+-------------------+-------------------+----------------------+-------------------------+ | Ubuntu 22.04 | PASS | PASS | PASS | SKIPPED | SKIPPED | SKIPPED | +---------------------+--------------------+------------------+-------------------+-------------------+----------------------+-------------------------+ | Alpine | PASS | PASS | SKIPPED | SKIPPED | SKIPPED | SKIPPED | +---------------------+--------------------+------------------+-------------------+-------------------+----------------------+-------------------------+ | FreeBSD 13.4 | PASS | SKIPPED | SKIPPED | SKIPPED | SKIPPED | SKIPPED | +---------------------+--------------------+------------------+-------------------+-------------------+----------------------+-------------------------+ | FreeBSD 14.2 | PASS | SKIPPED | SKIPPED | SKIPPED | SKIPPED | SKIPPED | +---------------------+--------------------+------------------+-------------------+-------------------+----------------------+-------------------------+ | Windows Server 2022 | SKIPPED | SKIPPED | SKIPPED | PASS | PASS | PASS | +---------------------+--------------------+------------------+-------------------+-------------------+----------------------+-------------------------+ CentOS Stream 9 Kernel: Depends on container host Compiler: gcc 11.5.0 20240719 (Red Hat 11.5.0-2) Debian Bullseye Kernel: Depends on container host Compiler: gcc (Debian 10.2.1-6) 10.2.1 20210110 Debian 12 Kernel: Depends on container host Compiler: gcc (Debian 12.2.0-14) 12.2.0 Fedora 40 (Clang) Kernel: Depends on container host Compiler: clang 18.1.8 (Fedora 18.1.8-1.fc40) Fedora 40 Kernel: Depends on container host Compiler: gcc 14.2.1 20240912 (Red Hat 14.2.1-3) Fedora 41 Kernel: Depends on container host Compiler: gcc 14.2.1 20240912 (Red Hat 14.2.1-3) Fedora 41 (Clang) Kernel: Depends on container host Compiler: clang 19.1.5 (Fedora 19.1.5-1.fc41) openSUSE Leap 15 Kernel: Depends on container host Compiler: gcc (SUSE Linux) 7.5.0 RHEL8 Kernel: Depends on container host Compiler: gcc 8.5.0 20210514 (Red Hat 8.5.0-22) RHEL9 Kernel: Depends on container host Compiler: gcc 11.5.0 20240719 (Red Hat 11.5.0-2) Ubuntu 20.04 Kernel: Depends on container host Compiler: gcc (Ubuntu 9.4.0-1ubuntu1~20.04.2) 9.4.0 Ubuntu 24.04 Kernel: Depends on container host Compiler: gcc (Ubuntu 13.3.0-6ubuntu2~24.04) 13.3.0 Ubuntu 22.04 Kernel: Depends on container host Compiler: gcc (Ubuntu 11.4.0-1ubuntu1~22.04) 11.4.0 Alpine Kernel: Depends on container host Compiler: gcc (Alpine 14.2.0) 14.2.0 FreeBSD 13.4 Kernel: 13.4-RELEASE-p1 Compiler: clang 18.1.6 FreeBSD 14.2 Kernel: 14.2-RELEASE Compiler: clang 18.1.6 Windows Server 2022 Kernel: 10.0.20348.2031 Compiler: clang 15.0.7, gcc 14.1.0 (MinGW), and MSVC VS 19.39.33521 To view detailed results, visit: https://lab.dpdk.org/results/dashboard/patchsets/32403/ UNH-IOL DPDK Community Lab To manage your email subscriptions, visit: https://lab.dpdk.org/results/dashboard/preferences/subscriptions/