From mboxrd@z Thu Jan 1 00:00:00 1970 Return-Path: Received: from mails.dpdk.org (mails.dpdk.org [217.70.189.124]) by inbox.dpdk.org (Postfix) with ESMTP id 96403461A0 for ; Wed, 5 Feb 2025 18:22:34 +0100 (CET) Received: from mails.dpdk.org (localhost [127.0.0.1]) by mails.dpdk.org (Postfix) with ESMTP id 8F6D2402E6; Wed, 5 Feb 2025 18:22:34 +0100 (CET) Received: from mail-qv1-f97.google.com (mail-qv1-f97.google.com [209.85.219.97]) by mails.dpdk.org (Postfix) with ESMTP id B777F402E4 for ; Wed, 5 Feb 2025 18:22:32 +0100 (CET) Received: by mail-qv1-f97.google.com with SMTP id 6a1803df08f44-6d8f75b31bfso122736d6.3 for ; Wed, 05 Feb 2025 09:22:32 -0800 (PST) DKIM-Signature: v=1; a=rsa-sha256; c=relaxed/relaxed; d=iol.unh.edu; s=unh-iol; t=1738776152; x=1739380952; darn=dpdk.org; h=references:in-reply-to:cc:to:from:subject:message-id:date:from:to :cc:subject:date:message-id:reply-to; bh=GPWLGD9D5gyZCGZdObi3Bu8OdJXLwbf3S5nygPdH060=; b=HmoD4BUMnqlx7y3ubaOG2maEPF3+vN6RBIGAR9hRIciH+DW1ZOm9uaLopTd+8qIvej PlIuGSE8zHQ3OffVBkejt3mia9kiYL3pD3jQhIvf/7pEqBID1xCQlq5uolVpo4YeifcK EJUrv0C3VclLq6DijeZfWHyQscnKZZt7KOhJQ= X-Google-DKIM-Signature: v=1; a=rsa-sha256; c=relaxed/relaxed; d=1e100.net; s=20230601; t=1738776152; x=1739380952; h=references:in-reply-to:cc:to:from:subject:message-id:date :x-gm-message-state:from:to:cc:subject:date:message-id:reply-to; bh=GPWLGD9D5gyZCGZdObi3Bu8OdJXLwbf3S5nygPdH060=; b=egW2pxjPqhamwgWIS7AEe8eP8508bjgi4Mw0bOnn8YdVpKWVdaC5/AyXJ5WPnaW6Kf +dqEu+ksaZStuRhA4SO2DxfOK28M+gJ/oWgPwGCYk7BiTNAr0nZQ9Lo3/YzHdDVa9dNY tpqtBCE23mwV/YiGU4zhA47ixKnt69SpUUGt2njuNmI3hdC+tqe6oyAm5Q7JREocE8AJ TH6Nw8gkw0H0AnfZA36GQKs7/erHeL7Nv8PyYYSnAnGdOVapK1kCYkj/DepE/xSzRME7 wfaKd69mk9nC980OR5uhat5UFeXfzLYB3aaNblnptcI9uRxefFGcQciepKCbbjuWTXi7 vrvA== X-Gm-Message-State: AOJu0YwQymHHLYsDPr6JtmzT9yV3Op90M0wFDyAMxsn8gzqPnEyKI5oF Qqw1ERQU/hWoqTJxxIxPmQsFccifrET+61nlcN3LQBODBzEt02sTL/ewpSCtubhnW2wcN3QAGOT BaTk2ScohvYD6mEvGi9q7MVVehHSbS9MvIJsMIkuP X-Gm-Gg: ASbGncv9WEJkj/LsnnK3Pna+xYXNxgPUMjn6T0r7yRlbIxeBX6iSukJ0/rOmr7NLgND z3kDhM21VG08MuJ9ywySFh6CBdgzgCH7OqQolVfmTEPWpZWSPonazyS8PtUw9VDFRo5x3wvrq5C ogqr0Pf5FqzFsk7u/U5nhQzzQKy53GtbDocjKVl3RkVke+z/kYEFAQDQw6dmKr1Ooj65Hv7APo8 4F+tJXKut6E+NVrpei7MfandE1u9WfGf8E9RTw84Hoog3sGBN58kat0MJZ6hyXovpalFv8HHMHO DLl906cve2huQ110efKRST302tnnwA== X-Google-Smtp-Source: AGHT+IHj75OrEYSdx/xeLapiaihYazRH1rAo/iHSPh2A3kQs3DnmX0z2xs/t7WXF/Ya8ubkndfuuwsu1eJIY X-Received: by 2002:ad4:5f45:0:b0:6e2:4911:cd8a with SMTP id 6a1803df08f44-6e42fbef337mr47274926d6.26.1738776152187; Wed, 05 Feb 2025 09:22:32 -0800 (PST) Received: from postal.iol.unh.edu (postal.iol.unh.edu. [132.177.123.84]) by smtp-relay.gmail.com with ESMTPS id 6a1803df08f44-6e42cf6107dsm2206726d6.64.2025.02.05.09.22.32 (version=TLS1_2 cipher=ECDHE-ECDSA-AES128-GCM-SHA256 bits=128/128); Wed, 05 Feb 2025 09:22:32 -0800 (PST) X-Relaying-Domain: iol.unh.edu Date: Wed, 05 Feb 2025 09:22:32 -0800 (PST) Message-ID: <67a39e58.050a0220.21fbb5.a358SMTPIN_ADDED_MISSING@mx.google.com> Received: from [172.17.0.4] (unknown [172.18.0.214]) by postal.iol.unh.edu (Postfix) with ESMTP id DCC076052471; Wed, 5 Feb 2025 12:22:31 -0500 (EST) Subject: |SUCCESS| pw150410-150424 [PATCH] [v3,15/15] sched: add allocation f From: dpdklab@iol.unh.edu To: Test Report Cc: dpdk-test-reports@iol.unh.edu In-Reply-To: <20250123163003.23394-16-stephen@networkplumber.org> References: <20250123163003.23394-16-stephen@networkplumber.org> Content-Type: text/plain X-BeenThere: test-report@dpdk.org X-Mailman-Version: 2.1.29 Precedence: list List-Id: automatic DPDK test reports List-Unsubscribe: , List-Archive: List-Post: List-Help: List-Subscribe: , Errors-To: test-report-bounces@dpdk.org Test-Label: iol-compile-amd64-testing Test-Status: SUCCESS http://dpdk.org/patch/150424 _Testing PASS_ Submitter: Stephen Hemminger Date: Thursday, January 23 2025 16:28:15 DPDK git baseline: Repo:dpdk Branch: master CommitID:5b856206c74bbcf19e12cafa15382a7e15b0a1b5 150410-150424 --> testing pass Test environment and result as below: +---------------------+--------------------+------------------+-------------------+-------------------------+-------------------+----------------------+ | Environment | dpdk_meson_compile | dpdk_compile_ovs | dpdk_compile_spdk | dpdk_llvm_clang_compile | dpdk_msvc_compile | dpdk_mingw64_compile | +=====================+====================+==================+===================+=========================+===================+======================+ | CentOS Stream 9 | PASS | PASS | PASS | SKIPPED | SKIPPED | SKIPPED | +---------------------+--------------------+------------------+-------------------+-------------------------+-------------------+----------------------+ | Debian Bullseye | PASS | PASS | PASS | SKIPPED | SKIPPED | SKIPPED | +---------------------+--------------------+------------------+-------------------+-------------------------+-------------------+----------------------+ | Fedora 40 (Clang) | PASS | PASS | PASS | SKIPPED | SKIPPED | SKIPPED | +---------------------+--------------------+------------------+-------------------+-------------------------+-------------------+----------------------+ | Debian 12 | PASS | PASS | PASS | SKIPPED | SKIPPED | SKIPPED | +---------------------+--------------------+------------------+-------------------+-------------------------+-------------------+----------------------+ | RHEL8 | PASS | PASS | SKIPPED | SKIPPED | SKIPPED | SKIPPED | +---------------------+--------------------+------------------+-------------------+-------------------------+-------------------+----------------------+ | Fedora 40 | PASS | PASS | PASS | SKIPPED | SKIPPED | SKIPPED | +---------------------+--------------------+------------------+-------------------+-------------------------+-------------------+----------------------+ | Fedora 41 | PASS | PASS | PASS | SKIPPED | SKIPPED | SKIPPED | +---------------------+--------------------+------------------+-------------------+-------------------------+-------------------+----------------------+ | Fedora 41 (Clang) | PASS | PASS | PASS | SKIPPED | SKIPPED | SKIPPED | +---------------------+--------------------+------------------+-------------------+-------------------------+-------------------+----------------------+ | openSUSE Leap 15 | PASS | SKIPPED | SKIPPED | SKIPPED | SKIPPED | SKIPPED | +---------------------+--------------------+------------------+-------------------+-------------------------+-------------------+----------------------+ | Ubuntu 24.04 | PASS | PASS | PASS | SKIPPED | SKIPPED | SKIPPED | +---------------------+--------------------+------------------+-------------------+-------------------------+-------------------+----------------------+ | RHEL9 | PASS | PASS | SKIPPED | SKIPPED | SKIPPED | SKIPPED | +---------------------+--------------------+------------------+-------------------+-------------------------+-------------------+----------------------+ | Ubuntu 20.04 | PASS | SKIPPED | SKIPPED | SKIPPED | SKIPPED | SKIPPED | +---------------------+--------------------+------------------+-------------------+-------------------------+-------------------+----------------------+ | Ubuntu 22.04 | PASS | PASS | PASS | SKIPPED | SKIPPED | SKIPPED | +---------------------+--------------------+------------------+-------------------+-------------------------+-------------------+----------------------+ | FreeBSD 13.4 | PASS | SKIPPED | SKIPPED | SKIPPED | SKIPPED | SKIPPED | +---------------------+--------------------+------------------+-------------------+-------------------------+-------------------+----------------------+ | FreeBSD 14.2 | PASS | SKIPPED | SKIPPED | SKIPPED | SKIPPED | SKIPPED | +---------------------+--------------------+------------------+-------------------+-------------------------+-------------------+----------------------+ | Alpine | PASS | PASS | SKIPPED | SKIPPED | SKIPPED | SKIPPED | +---------------------+--------------------+------------------+-------------------+-------------------------+-------------------+----------------------+ | Windows Server 2022 | SKIPPED | SKIPPED | SKIPPED | PASS | PASS | PASS | +---------------------+--------------------+------------------+-------------------+-------------------------+-------------------+----------------------+ CentOS Stream 9 Kernel: Depends on container host Compiler: gcc 11.5.0 20240719 (Red Hat 11.5.0-2) Debian Bullseye Kernel: Depends on container host Compiler: gcc (Debian 10.2.1-6) 10.2.1 20210110 Fedora 40 (Clang) Kernel: Depends on container host Compiler: clang 18.1.8 (Fedora 18.1.8-1.fc40) Debian 12 Kernel: Depends on container host Compiler: gcc (Debian 12.2.0-14) 12.2.0 RHEL8 Kernel: Depends on container host Compiler: gcc 8.5.0 20210514 (Red Hat 8.5.0-22) Fedora 40 Kernel: Depends on container host Compiler: gcc 14.2.1 20240912 (Red Hat 14.2.1-3) Fedora 41 Kernel: Depends on container host Compiler: gcc 14.2.1 20240912 (Red Hat 14.2.1-3) Fedora 41 (Clang) Kernel: Depends on container host Compiler: clang 19.1.5 (Fedora 19.1.5-1.fc41) openSUSE Leap 15 Kernel: Depends on container host Compiler: gcc (SUSE Linux) 7.5.0 Ubuntu 24.04 Kernel: Depends on container host Compiler: gcc (Ubuntu 13.3.0-6ubuntu2~24.04) 13.3.0 RHEL9 Kernel: Depends on container host Compiler: gcc 11.5.0 20240719 (Red Hat 11.5.0-2) Ubuntu 20.04 Kernel: Depends on container host Compiler: gcc (Ubuntu 9.4.0-1ubuntu1~20.04.2) 9.4.0 Ubuntu 22.04 Kernel: Depends on container host Compiler: gcc (Ubuntu 11.4.0-1ubuntu1~22.04) 11.4.0 FreeBSD 13.4 Kernel: 13.4-RELEASE-p1 Compiler: clang 18.1.6 FreeBSD 14.2 Kernel: 14.2-RELEASE Compiler: clang 18.1.6 Alpine Kernel: Depends on container host Compiler: gcc (Alpine 14.2.0) 14.2.0 Windows Server 2022 Kernel: 10.0.20348.2031 Compiler: clang 15.0.7, gcc 14.1.0 (MinGW), and MSVC VS 19.39.33521 To view detailed results, visit: https://lab.dpdk.org/results/dashboard/patchsets/32402/ UNH-IOL DPDK Community Lab To manage your email subscriptions, visit: https://lab.dpdk.org/results/dashboard/preferences/subscriptions/