From mboxrd@z Thu Jan 1 00:00:00 1970 Return-Path: Received: from mails.dpdk.org (mails.dpdk.org [217.70.189.124]) by inbox.dpdk.org (Postfix) with ESMTP id A5C78461A0 for ; Wed, 5 Feb 2025 18:22:58 +0100 (CET) Received: from mails.dpdk.org (localhost [127.0.0.1]) by mails.dpdk.org (Postfix) with ESMTP id A2AE1402E6; Wed, 5 Feb 2025 18:22:58 +0100 (CET) Received: from mail-io1-f98.google.com (mail-io1-f98.google.com [209.85.166.98]) by mails.dpdk.org (Postfix) with ESMTP id 9781F402E4 for ; Wed, 5 Feb 2025 18:22:56 +0100 (CET) Received: by mail-io1-f98.google.com with SMTP id ca18e2360f4ac-844ee43460aso3811239f.1 for ; Wed, 05 Feb 2025 09:22:56 -0800 (PST) DKIM-Signature: v=1; a=rsa-sha256; c=relaxed/relaxed; d=iol.unh.edu; s=unh-iol; t=1738776176; x=1739380976; darn=dpdk.org; h=references:in-reply-to:cc:to:from:subject:message-id:date:from:to :cc:subject:date:message-id:reply-to; bh=2szGL7Zbfq1MLYt5QEko0wthxlq/Ju50nIkg8e8BvJg=; b=EQts2ChN/Y8CkTh5zjcvVEEYks3ztim7n9Q4mRwkYmonzzHftu/ZLhu6t4Q63MIfEJ nizxLKPpbK7xXuzSINccIzzlb7BZ+sXSRtYLf6Hks8lFdpmHFufE2qJGOFSySWyUtI3T LHjkIRX7IXd146oSckZ6GwS9HvgO3/m5dO/i4= X-Google-DKIM-Signature: v=1; a=rsa-sha256; c=relaxed/relaxed; d=1e100.net; s=20230601; t=1738776176; x=1739380976; h=references:in-reply-to:cc:to:from:subject:message-id:date :x-gm-message-state:from:to:cc:subject:date:message-id:reply-to; bh=2szGL7Zbfq1MLYt5QEko0wthxlq/Ju50nIkg8e8BvJg=; b=OJvZdluxKTC88yvVZu5GHRU0zLt06GWFGv7sNM3yB39NA9vg6RYOp2DNhNz85f6sse ax9tGFcgyoIQr1neIDFcFd8l0MdpkzmaWQ+bgC5Lx13B6Q2EiTc4vjgCIK5IECfCwLO5 jZkV/v37fVD5DMBBBl8203Jk0XQBIH454QxRQpUchwF+FYMg+Xel5jgtX7ULJtaBS2XX e8LIEcYnFc1phyQsVah4/LHio1Chuesl+CJClSlyZt6mZrU0bT3PIyNResMO3uOovjcU 4PwGi/w3jmboFwb1SN/XMFsSN4WNOp36MG46Ptn9tDG2N78yZ5zAmLl87SfieI4/E6sD zZcg== X-Gm-Message-State: AOJu0YxZIW7qBnRQLS4omx4GduWaGU/2Kx47ooPhaxWm90v4Np+5zyYi 5oZ2+wspz41xBTrat6KyYtWdeioVgUIpjnqbfX3zBgy5wgemw23J1OQBlFN74sSxbb9jGemPel6 ed16lq8nWPeaVtQMeislMUt0pqqBOEyIX/94ad65/m7keBrDWzDLdQ0Ly X-Gm-Gg: ASbGncseDdLxrn8pPYNV0Lsa1RoAZPIBuTDJcMJIT1ZQw7sCMcdTghlwh+g5L7lqN/h n0P6zQ3s4wJkEA1jwiG1aSMUYIPu++/Th6KhX0bi7YxbaTmziAtfTunmpsevl+dPDdau+4xNKhb bAWUsxUJV36AXpqLyAX+ALwxExf04gGGlcCzng09mLyy1FKgQKPwTruMubwOxmsaq/T0em6VV4x F88xavra9uKb/vTM6XWE1/W6muNHJan4j+nqSpPzcQVz8IX+V/GVXAj7TUWmeP2039NXB+rPmOL Bzqyjkv4WqOPpSpUXt9y3qbaCYB+oRSsxcI/uwVZRQ== X-Google-Smtp-Source: AGHT+IEsd8CpsIsDqb9p7deRcnXe2GaNwFWhQZlivdSSwfIbnXzkTXTm8p51keS9vcnL318tphLsQ8/mv/Eq X-Received: by 2002:a05:6e02:170e:b0:3cf:b5d2:cf44 with SMTP id e9e14a558f8ab-3d04f8f7004mr32228655ab.15.1738776175928; Wed, 05 Feb 2025 09:22:55 -0800 (PST) Received: from postal.iol.unh.edu (postal.iol.unh.edu. [2606:4100:3880:1234::84]) by smtp-relay.gmail.com with ESMTPS id e9e14a558f8ab-3d04bd4f574sm1894685ab.67.2025.02.05.09.22.55 (version=TLS1_2 cipher=ECDHE-ECDSA-AES128-GCM-SHA256 bits=128/128); Wed, 05 Feb 2025 09:22:55 -0800 (PST) X-Relaying-Domain: iol.unh.edu Date: Wed, 05 Feb 2025 09:22:55 -0800 (PST) Message-ID: <67a39e6f.050a0220.f83d7.9346SMTPIN_ADDED_MISSING@mx.google.com> Received: from [172.17.0.3] (unknown [172.18.0.214]) by postal.iol.unh.edu (Postfix) with ESMTP id 71DB16052472; Wed, 5 Feb 2025 12:22:55 -0500 (EST) Subject: |SUCCESS| pw150361-150363 [PATCH] [v16,3/3] drivers/net: add diagnos From: dpdklab@iol.unh.edu To: Test Report Cc: dpdk-test-reports@iol.unh.edu In-Reply-To: <1737498970-4631-4-git-send-email-andremue@linux.microsoft.com> References: <1737498970-4631-4-git-send-email-andremue@linux.microsoft.com> Content-Type: text/plain X-BeenThere: test-report@dpdk.org X-Mailman-Version: 2.1.29 Precedence: list List-Id: automatic DPDK test reports List-Unsubscribe: , List-Archive: List-Post: List-Help: List-Subscribe: , Errors-To: test-report-bounces@dpdk.org Test-Label: iol-compile-amd64-testing Test-Status: SUCCESS http://dpdk.org/patch/150363 _Testing PASS_ Submitter: Andre Muezerie Date: Tuesday, January 21 2025 22:36:10 DPDK git baseline: Repo:dpdk Branch: master CommitID:6d7e741be18ab1e6ecce46edb2516318305c3c73 150361-150363 --> testing pass Test environment and result as below: +---------------------+--------------------+------------------+-------------------+-------------------+-------------------------+----------------------+ | Environment | dpdk_meson_compile | dpdk_compile_ovs | dpdk_compile_spdk | dpdk_msvc_compile | dpdk_llvm_clang_compile | dpdk_mingw64_compile | +=====================+====================+==================+===================+===================+=========================+======================+ | CentOS Stream 9 | PASS | PASS | PASS | SKIPPED | SKIPPED | SKIPPED | +---------------------+--------------------+------------------+-------------------+-------------------+-------------------------+----------------------+ | Debian Bullseye | PASS | PASS | PASS | SKIPPED | SKIPPED | SKIPPED | +---------------------+--------------------+------------------+-------------------+-------------------+-------------------------+----------------------+ | Debian 12 | PASS | PASS | PASS | SKIPPED | SKIPPED | SKIPPED | +---------------------+--------------------+------------------+-------------------+-------------------+-------------------------+----------------------+ | Fedora 40 (Clang) | PASS | PASS | PASS | SKIPPED | SKIPPED | SKIPPED | +---------------------+--------------------+------------------+-------------------+-------------------+-------------------------+----------------------+ | Fedora 40 | PASS | PASS | PASS | SKIPPED | SKIPPED | SKIPPED | +---------------------+--------------------+------------------+-------------------+-------------------+-------------------------+----------------------+ | Fedora 41 | PASS | PASS | PASS | SKIPPED | SKIPPED | SKIPPED | +---------------------+--------------------+------------------+-------------------+-------------------+-------------------------+----------------------+ | Fedora 41 (Clang) | PASS | PASS | PASS | SKIPPED | SKIPPED | SKIPPED | +---------------------+--------------------+------------------+-------------------+-------------------+-------------------------+----------------------+ | openSUSE Leap 15 | PASS | SKIPPED | SKIPPED | SKIPPED | SKIPPED | SKIPPED | +---------------------+--------------------+------------------+-------------------+-------------------+-------------------------+----------------------+ | RHEL8 | PASS | PASS | SKIPPED | SKIPPED | SKIPPED | SKIPPED | +---------------------+--------------------+------------------+-------------------+-------------------+-------------------------+----------------------+ | Ubuntu 20.04 | PASS | SKIPPED | SKIPPED | SKIPPED | SKIPPED | SKIPPED | +---------------------+--------------------+------------------+-------------------+-------------------+-------------------------+----------------------+ | RHEL9 | PASS | PASS | SKIPPED | SKIPPED | SKIPPED | SKIPPED | +---------------------+--------------------+------------------+-------------------+-------------------+-------------------------+----------------------+ | Ubuntu 24.04 | PASS | PASS | PASS | SKIPPED | SKIPPED | SKIPPED | +---------------------+--------------------+------------------+-------------------+-------------------+-------------------------+----------------------+ | Ubuntu 22.04 | PASS | PASS | PASS | SKIPPED | SKIPPED | SKIPPED | +---------------------+--------------------+------------------+-------------------+-------------------+-------------------------+----------------------+ | Alpine | PASS | PASS | SKIPPED | SKIPPED | SKIPPED | SKIPPED | +---------------------+--------------------+------------------+-------------------+-------------------+-------------------------+----------------------+ | FreeBSD 13.4 | PASS | SKIPPED | SKIPPED | SKIPPED | SKIPPED | SKIPPED | +---------------------+--------------------+------------------+-------------------+-------------------+-------------------------+----------------------+ | FreeBSD 14.2 | PASS | SKIPPED | SKIPPED | SKIPPED | SKIPPED | SKIPPED | +---------------------+--------------------+------------------+-------------------+-------------------+-------------------------+----------------------+ | Windows Server 2022 | SKIPPED | SKIPPED | SKIPPED | PASS | PASS | PASS | +---------------------+--------------------+------------------+-------------------+-------------------+-------------------------+----------------------+ CentOS Stream 9 Kernel: Depends on container host Compiler: gcc 11.5.0 20240719 (Red Hat 11.5.0-2) Debian Bullseye Kernel: Depends on container host Compiler: gcc (Debian 10.2.1-6) 10.2.1 20210110 Debian 12 Kernel: Depends on container host Compiler: gcc (Debian 12.2.0-14) 12.2.0 Fedora 40 (Clang) Kernel: Depends on container host Compiler: clang 18.1.8 (Fedora 18.1.8-1.fc40) Fedora 40 Kernel: Depends on container host Compiler: gcc 14.2.1 20240912 (Red Hat 14.2.1-3) Fedora 41 Kernel: Depends on container host Compiler: gcc 14.2.1 20240912 (Red Hat 14.2.1-3) Fedora 41 (Clang) Kernel: Depends on container host Compiler: clang 19.1.5 (Fedora 19.1.5-1.fc41) openSUSE Leap 15 Kernel: Depends on container host Compiler: gcc (SUSE Linux) 7.5.0 RHEL8 Kernel: Depends on container host Compiler: gcc 8.5.0 20210514 (Red Hat 8.5.0-22) Ubuntu 20.04 Kernel: Depends on container host Compiler: gcc (Ubuntu 9.4.0-1ubuntu1~20.04.2) 9.4.0 RHEL9 Kernel: Depends on container host Compiler: gcc 11.5.0 20240719 (Red Hat 11.5.0-2) Ubuntu 24.04 Kernel: Depends on container host Compiler: gcc (Ubuntu 13.3.0-6ubuntu2~24.04) 13.3.0 Ubuntu 22.04 Kernel: Depends on container host Compiler: gcc (Ubuntu 11.4.0-1ubuntu1~22.04) 11.4.0 Alpine Kernel: Depends on container host Compiler: gcc (Alpine 14.2.0) 14.2.0 FreeBSD 13.4 Kernel: 13.4-RELEASE-p1 Compiler: clang 18.1.6 FreeBSD 14.2 Kernel: 14.2-RELEASE Compiler: clang 18.1.6 Windows Server 2022 Kernel: 10.0.20348.2031 Compiler: clang 15.0.7, gcc 14.1.0 (MinGW), and MSVC VS 19.39.33521 To view detailed results, visit: https://lab.dpdk.org/results/dashboard/patchsets/32388/ UNH-IOL DPDK Community Lab To manage your email subscriptions, visit: https://lab.dpdk.org/results/dashboard/preferences/subscriptions/