From mboxrd@z Thu Jan 1 00:00:00 1970 Return-Path: Received: from mails.dpdk.org (mails.dpdk.org [217.70.189.124]) by inbox.dpdk.org (Postfix) with ESMTP id B8FDA461A0 for ; Wed, 5 Feb 2025 18:22:58 +0100 (CET) Received: from mails.dpdk.org (localhost [127.0.0.1]) by mails.dpdk.org (Postfix) with ESMTP id B349A40647; Wed, 5 Feb 2025 18:22:58 +0100 (CET) Received: from mail-pl1-f228.google.com (mail-pl1-f228.google.com [209.85.214.228]) by mails.dpdk.org (Postfix) with ESMTP id AA059402E6 for ; Wed, 5 Feb 2025 18:22:56 +0100 (CET) Received: by mail-pl1-f228.google.com with SMTP id d9443c01a7336-21f0b5d6c6eso17480865ad.0 for ; Wed, 05 Feb 2025 09:22:56 -0800 (PST) DKIM-Signature: v=1; a=rsa-sha256; c=relaxed/relaxed; d=iol.unh.edu; s=unh-iol; t=1738776176; x=1739380976; darn=dpdk.org; h=references:in-reply-to:cc:to:from:subject:message-id:date:from:to :cc:subject:date:message-id:reply-to; bh=GL+3PpFyMMraSBYM2xDQn8aWCOiAJTJy/acjVETb8zg=; b=Qo4SR1duGIxyLSuscucp/M6wM453mQedPt3X6bdYJxiWN31lOp2va4pf5lArq9J3uF N7h1VZ5ANqyPSuKQ5X4S0dl4BumPsTJY5z+IzJ5DOJV3dlUWtxkWKGpYsngDz9bsttBp OlbWzvv/llfeDn2uYNiRvGMpRBGV5pwOBzQAQ= X-Google-DKIM-Signature: v=1; a=rsa-sha256; c=relaxed/relaxed; d=1e100.net; s=20230601; t=1738776176; x=1739380976; h=references:in-reply-to:cc:to:from:subject:message-id:date :x-gm-message-state:from:to:cc:subject:date:message-id:reply-to; bh=GL+3PpFyMMraSBYM2xDQn8aWCOiAJTJy/acjVETb8zg=; b=ThfJtVwyqdTDb91yxTzhTDxqw8rX7A5exlMeq+glP7tzl0KnDzoYl2vndwF05zw+BY C0QGrEmMiC9UMg1x6iFmQ/gwd1U+hSkPeciO1O0j3ciqDqkyaruFFTgMQIrz+mC4LwW/ 3CSAK1vXIgt7EgQXbYEhOLc6/ap4Mdt4syJW5a5pCQ2ds6RdnYO5J84P/bwU9cGGylOD X11IAeUw7vFsqhjBTXVNTKHo7SdPffRd+emYLq2YkMukm2HNDZUxZF5IgRTRZeZBAO3S oCHSpjuwohlOrKdIoCJskPJMCcUYyBTvfTUl8QMSX+WooMQhSHX3ssODWGzhgHU4FXui Mo6A== X-Gm-Message-State: AOJu0Yw4tv/NT4FNHQHRzyVxoKB/XqHquGqiYeFc88M6lKz0mjiumjFr v0dA8OpkddAosEdjWQGKkyQM3EDXAu0Po0uJV/uYB+PnZ2JmQ6180LfrFeJLIhLBfTtaOM6lbrX 9QmwsR8NpbDlGguVktSq76xcaD9zde6mDrZsgjH28shKtGUHsZeCNJ1MR X-Gm-Gg: ASbGncub0cEsTSRaa0pLwUbtAc8MalcmRe4uBJmiFO/0MuYHqqeb3pD7O6+4N03/DLH SKLCKI+R+8DFcq/EuxqtIfOXi0+DexQ3K0sVDkGeqhmpvWoyrq4ehoxPbDKrZGINAKtBInI9cPM Kih7RZS53vtAjoc8C17c+oZY+2BEttCEsOroam6fmbhSX08yLe1KsTBVTLy0InO7+1eZ/Ezg+CZ WwEV+Hx4XG3snSuKAcfSi7nVRwevEuzxEIg849oCmHixPm68+KQImBomoBHuzaupBkp7+sDUfTP eQbufTCZ9wTQpdPKI8tZbbia6ZeKdbCJ9u6+ZZrp+g== X-Google-Smtp-Source: AGHT+IE5v82Oht4rH/lnV2X85ZPdx/51A8gJXf1ckzbuV31r/F76nW9CrcG4ov4ZkHRh3fpWyHJbdyNUts/x X-Received: by 2002:a17:903:19c4:b0:215:8847:4377 with SMTP id d9443c01a7336-21f2f1a08bfmr1623835ad.15.1738776175743; Wed, 05 Feb 2025 09:22:55 -0800 (PST) Received: from postal.iol.unh.edu (postal.iol.unh.edu. [2606:4100:3880:1234::84]) by smtp-relay.gmail.com with ESMTPS id d9443c01a7336-21de321b4c6sm6884245ad.26.2025.02.05.09.22.55 (version=TLS1_2 cipher=ECDHE-ECDSA-AES128-GCM-SHA256 bits=128/128); Wed, 05 Feb 2025 09:22:55 -0800 (PST) X-Relaying-Domain: iol.unh.edu Date: Wed, 05 Feb 2025 09:22:55 -0800 (PST) Message-ID: <67a39e6f.170a0220.1f89f6.f5eeSMTPIN_ADDED_MISSING@mx.google.com> Received: from [172.21.0.6] (unknown [172.18.0.240]) by postal.iol.unh.edu (Postfix) with ESMTP id DB0026052471; Wed, 5 Feb 2025 12:22:54 -0500 (EST) Subject: |SUCCESS| pw150366 [PATCH] net/nfp: set the correct control flag From: dpdklab@iol.unh.edu To: Test Report Cc: dpdk-test-reports@iol.unh.edu In-Reply-To: <20250122013930.1705932-1-chaoyong.he@corigine.com> References: <20250122013930.1705932-1-chaoyong.he@corigine.com> Content-Type: text/plain X-BeenThere: test-report@dpdk.org X-Mailman-Version: 2.1.29 Precedence: list List-Id: automatic DPDK test reports List-Unsubscribe: , List-Archive: List-Post: List-Help: List-Subscribe: , Errors-To: test-report-bounces@dpdk.org Test-Label: iol-compile-amd64-testing Test-Status: SUCCESS http://dpdk.org/patch/150366 _Testing PASS_ Submitter: Chaoyong He Date: Wednesday, January 22 2025 01:39:30 DPDK git baseline: Repo:dpdk Branch: master CommitID:347a988b93e7b63b27f1dfa09bd03318d810a9a9 150366 --> testing pass Test environment and result as below: +---------------------+--------------------+------------------+-------------------+-------------------+-------------------------+----------------------+ | Environment | dpdk_meson_compile | dpdk_compile_ovs | dpdk_compile_spdk | dpdk_msvc_compile | dpdk_llvm_clang_compile | dpdk_mingw64_compile | +=====================+====================+==================+===================+===================+=========================+======================+ | CentOS Stream 9 | PASS | PASS | PASS | SKIPPED | SKIPPED | SKIPPED | +---------------------+--------------------+------------------+-------------------+-------------------+-------------------------+----------------------+ | Debian 12 | PASS | PASS | PASS | SKIPPED | SKIPPED | SKIPPED | +---------------------+--------------------+------------------+-------------------+-------------------+-------------------------+----------------------+ | Debian Bullseye | PASS | PASS | PASS | SKIPPED | SKIPPED | SKIPPED | +---------------------+--------------------+------------------+-------------------+-------------------+-------------------------+----------------------+ | Fedora 41 (Clang) | PASS | PASS | PASS | SKIPPED | SKIPPED | SKIPPED | +---------------------+--------------------+------------------+-------------------+-------------------+-------------------------+----------------------+ | Fedora 40 | PASS | PASS | PASS | SKIPPED | SKIPPED | SKIPPED | +---------------------+--------------------+------------------+-------------------+-------------------+-------------------------+----------------------+ | Fedora 40 (Clang) | PASS | PASS | PASS | SKIPPED | SKIPPED | SKIPPED | +---------------------+--------------------+------------------+-------------------+-------------------+-------------------------+----------------------+ | Fedora 41 | PASS | PASS | PASS | SKIPPED | SKIPPED | SKIPPED | +---------------------+--------------------+------------------+-------------------+-------------------+-------------------------+----------------------+ | openSUSE Leap 15 | PASS | SKIPPED | SKIPPED | SKIPPED | SKIPPED | SKIPPED | +---------------------+--------------------+------------------+-------------------+-------------------+-------------------------+----------------------+ | RHEL8 | PASS | PASS | SKIPPED | SKIPPED | SKIPPED | SKIPPED | +---------------------+--------------------+------------------+-------------------+-------------------+-------------------------+----------------------+ | RHEL9 | PASS | PASS | SKIPPED | SKIPPED | SKIPPED | SKIPPED | +---------------------+--------------------+------------------+-------------------+-------------------+-------------------------+----------------------+ | Ubuntu 20.04 | PASS | SKIPPED | SKIPPED | SKIPPED | SKIPPED | SKIPPED | +---------------------+--------------------+------------------+-------------------+-------------------+-------------------------+----------------------+ | Ubuntu 22.04 | PASS | PASS | PASS | SKIPPED | SKIPPED | SKIPPED | +---------------------+--------------------+------------------+-------------------+-------------------+-------------------------+----------------------+ | Ubuntu 24.04 | PASS | PASS | PASS | SKIPPED | SKIPPED | SKIPPED | +---------------------+--------------------+------------------+-------------------+-------------------+-------------------------+----------------------+ | Alpine | PASS | PASS | SKIPPED | SKIPPED | SKIPPED | SKIPPED | +---------------------+--------------------+------------------+-------------------+-------------------+-------------------------+----------------------+ | FreeBSD 13.4 | PASS | SKIPPED | SKIPPED | SKIPPED | SKIPPED | SKIPPED | +---------------------+--------------------+------------------+-------------------+-------------------+-------------------------+----------------------+ | FreeBSD 14.2 | PASS | SKIPPED | SKIPPED | SKIPPED | SKIPPED | SKIPPED | +---------------------+--------------------+------------------+-------------------+-------------------+-------------------------+----------------------+ | Windows Server 2022 | SKIPPED | SKIPPED | SKIPPED | PASS | PASS | PASS | +---------------------+--------------------+------------------+-------------------+-------------------+-------------------------+----------------------+ CentOS Stream 9 Kernel: Depends on container host Compiler: gcc 11.5.0 20240719 (Red Hat 11.5.0-2) Debian 12 Kernel: Depends on container host Compiler: gcc (Debian 12.2.0-14) 12.2.0 Debian Bullseye Kernel: Depends on container host Compiler: gcc (Debian 10.2.1-6) 10.2.1 20210110 Fedora 41 (Clang) Kernel: Depends on container host Compiler: clang 19.1.5 (Fedora 19.1.5-1.fc41) Fedora 40 Kernel: Depends on container host Compiler: gcc 14.2.1 20240912 (Red Hat 14.2.1-3) Fedora 40 (Clang) Kernel: Depends on container host Compiler: clang 18.1.8 (Fedora 18.1.8-1.fc40) Fedora 41 Kernel: Depends on container host Compiler: gcc 14.2.1 20240912 (Red Hat 14.2.1-3) openSUSE Leap 15 Kernel: Depends on container host Compiler: gcc (SUSE Linux) 7.5.0 RHEL8 Kernel: Depends on container host Compiler: gcc 8.5.0 20210514 (Red Hat 8.5.0-22) RHEL9 Kernel: Depends on container host Compiler: gcc 11.5.0 20240719 (Red Hat 11.5.0-2) Ubuntu 20.04 Kernel: Depends on container host Compiler: gcc (Ubuntu 9.4.0-1ubuntu1~20.04.2) 9.4.0 Ubuntu 22.04 Kernel: Depends on container host Compiler: gcc (Ubuntu 11.4.0-1ubuntu1~22.04) 11.4.0 Ubuntu 24.04 Kernel: Depends on container host Compiler: gcc (Ubuntu 13.3.0-6ubuntu2~24.04) 13.3.0 Alpine Kernel: Depends on container host Compiler: gcc (Alpine 14.2.0) 14.2.0 FreeBSD 13.4 Kernel: 13.4-RELEASE-p1 Compiler: clang 18.1.6 FreeBSD 14.2 Kernel: 14.2-RELEASE Compiler: clang 18.1.6 Windows Server 2022 Kernel: 10.0.20348.2031 Compiler: clang 15.0.7, gcc 14.1.0 (MinGW), and MSVC VS 19.39.33521 To view detailed results, visit: https://lab.dpdk.org/results/dashboard/patchsets/32391/ UNH-IOL DPDK Community Lab To manage your email subscriptions, visit: https://lab.dpdk.org/results/dashboard/preferences/subscriptions/