From mboxrd@z Thu Jan 1 00:00:00 1970 Return-Path: Received: from mails.dpdk.org (mails.dpdk.org [217.70.189.124]) by inbox.dpdk.org (Postfix) with ESMTP id C95C3461A0 for ; Wed, 5 Feb 2025 18:22:58 +0100 (CET) Received: from mails.dpdk.org (localhost [127.0.0.1]) by mails.dpdk.org (Postfix) with ESMTP id C65014065B; Wed, 5 Feb 2025 18:22:58 +0100 (CET) Received: from mail-il1-f226.google.com (mail-il1-f226.google.com [209.85.166.226]) by mails.dpdk.org (Postfix) with ESMTP id AFA89402EE for ; Wed, 5 Feb 2025 18:22:56 +0100 (CET) Received: by mail-il1-f226.google.com with SMTP id e9e14a558f8ab-3d051dca3b6so2968495ab.1 for ; Wed, 05 Feb 2025 09:22:56 -0800 (PST) DKIM-Signature: v=1; a=rsa-sha256; c=relaxed/relaxed; d=iol.unh.edu; s=unh-iol; t=1738776176; x=1739380976; darn=dpdk.org; h=references:in-reply-to:cc:to:from:subject:message-id:date:from:to :cc:subject:date:message-id:reply-to; bh=1vZ7n0UoSl03NSdNeOgn8B6iIi/rSj3j60//+EuRAdA=; b=Irc0yC8365i2FCYux4v9Dsruphj0EcSnpD+QYG9OLJOWOu75ZDTuvaYLryth8sWwbJ EW8IaiGL1cxC0//S4a4rzZ2CoUucVEuQ9s0pUwysXWFREvvpsHVyiViI96lowW6Ycej4 nZigPtK5P+DwfdytOHBlVgnE6dY99SVL5E7kY= X-Google-DKIM-Signature: v=1; a=rsa-sha256; c=relaxed/relaxed; d=1e100.net; s=20230601; t=1738776176; x=1739380976; h=references:in-reply-to:cc:to:from:subject:message-id:date :x-gm-message-state:from:to:cc:subject:date:message-id:reply-to; bh=1vZ7n0UoSl03NSdNeOgn8B6iIi/rSj3j60//+EuRAdA=; b=nx3Ustq1P+14QzkYvt6izOUOBf9/TYzFnH6Y415GXhfluqIYiWcmPQ6OKBrjX7F0qC E3gDsmvHbvNxNlBBbialBj6CPrkDZdfsqhPW8tgwADuuGlxpcG6pXsTsfjvAeXgEgKp5 rCtNzkoA5Pg0XYr8MDlTB756d9MbT3v4eGLg5GcopryLmBaZn/Sd2GcFQTe2uhJIcXkh tsacvqfwo4Uv8XUJpvOtsQDsoO+K6sK/iVZrvAIGVMpk5RHzzBQB1J33crt6i65Miq48 655X65RT/dt7ejJyKbg1Q76agB7uV+HSIbNZX4W8yEynFKwHia9RVQpJm9A1BYTx9rGW cDlA== X-Gm-Message-State: AOJu0YzAqOJEnnyz+ZY9M6wKXJ7ujqPbNAG4WM+bSZjNeh5R4dip9Ujh RY2A+W6zI2XkMgg/Y9B7UwqCOhlPtf9u1h5iOK+reC+hCJ2qrB/M0aFP6QfALT+qlRvA8uQzTio +x632SMnpMQFfPXgloe/yG0/BCDoDO4JxJP6DHRHrrGjS+BVDG5o6djFp X-Gm-Gg: ASbGnctrWoemjZxe6lO+b8u1lWItm8MhnxLQRj229eu8woHSPmCsIYYjgkNqIgDhaDX poRwEysVvfdtBl06rYuaKNP6/B0+//4UMb1Ch8CIpaQIjAfTFcB9IotH1GTKbrnis5y5giPUS9g c/Tf+LYKKnFmbpTDgTe2wKJbI/XbxhB5AC3T7lELhuWWxxGCoNXk8BOOKe06nrhpHzMT0/CYNID jY4mvPW4jYnmaI1yHyz42hFNh5hugGZE3Cgd6MFiqeGKRLOwN/vHJS/x+ZKTFPFdLHMmWSlIajk a8lUZLi5S/rA4dl3ARGu76qVTR72C+JR1dCMERpeVg== X-Google-Smtp-Source: AGHT+IFdL1YQDd2DKj9Q5U39Uy5v6pYjR2IalWp3uPfuKsXBOvLTuH25fAvyfkFvtkzQntKlAUa+oNaSNzWD X-Received: by 2002:a05:6e02:156f:b0:3ce:9149:a8b1 with SMTP id e9e14a558f8ab-3d04f42c60bmr28121175ab.9.1738776176080; Wed, 05 Feb 2025 09:22:56 -0800 (PST) Received: from postal.iol.unh.edu (postal.iol.unh.edu. [2606:4100:3880:1234::84]) by smtp-relay.gmail.com with ESMTPS id e9e14a558f8ab-3d0278a7431sm5971335ab.30.2025.02.05.09.22.56 (version=TLS1_2 cipher=ECDHE-ECDSA-AES128-GCM-SHA256 bits=128/128); Wed, 05 Feb 2025 09:22:56 -0800 (PST) X-Relaying-Domain: iol.unh.edu Date: Wed, 05 Feb 2025 09:22:56 -0800 (PST) Message-ID: <67a39e70.050a0220.343256.9732SMTPIN_ADDED_MISSING@mx.google.com> Received: from [172.17.0.4] (unknown [172.18.0.213]) by postal.iol.unh.edu (Postfix) with ESMTP id 957326052477; Wed, 5 Feb 2025 12:22:55 -0500 (EST) Subject: |SUCCESS| pw150358 [PATCH] event/dlb2: fix event weight handling in From: dpdklab@iol.unh.edu To: Test Report Cc: dpdk-test-reports@iol.unh.edu In-Reply-To: <20250121171135.2705818-1-bruce.richardson@intel.com> References: <20250121171135.2705818-1-bruce.richardson@intel.com> Content-Type: text/plain X-BeenThere: test-report@dpdk.org X-Mailman-Version: 2.1.29 Precedence: list List-Id: automatic DPDK test reports List-Unsubscribe: , List-Archive: List-Post: List-Help: List-Subscribe: , Errors-To: test-report-bounces@dpdk.org Test-Label: iol-compile-amd64-testing Test-Status: SUCCESS http://dpdk.org/patch/150358 _Testing PASS_ Submitter: Bruce Richardson Date: Tuesday, January 21 2025 17:11:35 DPDK git baseline: Repo:dpdk Branch: master CommitID:6d7e741be18ab1e6ecce46edb2516318305c3c73 150358 --> testing pass Test environment and result as below: +---------------------+--------------------+------------------+-------------------+-------------------------+-------------------+----------------------+ | Environment | dpdk_meson_compile | dpdk_compile_ovs | dpdk_compile_spdk | dpdk_llvm_clang_compile | dpdk_msvc_compile | dpdk_mingw64_compile | +=====================+====================+==================+===================+=========================+===================+======================+ | CentOS Stream 9 | PASS | PASS | PASS | SKIPPED | SKIPPED | SKIPPED | +---------------------+--------------------+------------------+-------------------+-------------------------+-------------------+----------------------+ | Debian Bullseye | PASS | PASS | PASS | SKIPPED | SKIPPED | SKIPPED | +---------------------+--------------------+------------------+-------------------+-------------------------+-------------------+----------------------+ | Debian 12 | PASS | PASS | PASS | SKIPPED | SKIPPED | SKIPPED | +---------------------+--------------------+------------------+-------------------+-------------------------+-------------------+----------------------+ | Fedora 40 (Clang) | PASS | PASS | PASS | SKIPPED | SKIPPED | SKIPPED | +---------------------+--------------------+------------------+-------------------+-------------------------+-------------------+----------------------+ | Fedora 40 | PASS | PASS | PASS | SKIPPED | SKIPPED | SKIPPED | +---------------------+--------------------+------------------+-------------------+-------------------------+-------------------+----------------------+ | Fedora 41 (Clang) | PASS | PASS | PASS | SKIPPED | SKIPPED | SKIPPED | +---------------------+--------------------+------------------+-------------------+-------------------------+-------------------+----------------------+ | Fedora 41 | PASS | PASS | PASS | SKIPPED | SKIPPED | SKIPPED | +---------------------+--------------------+------------------+-------------------+-------------------------+-------------------+----------------------+ | openSUSE Leap 15 | PASS | SKIPPED | SKIPPED | SKIPPED | SKIPPED | SKIPPED | +---------------------+--------------------+------------------+-------------------+-------------------------+-------------------+----------------------+ | RHEL8 | PASS | PASS | SKIPPED | SKIPPED | SKIPPED | SKIPPED | +---------------------+--------------------+------------------+-------------------+-------------------------+-------------------+----------------------+ | Ubuntu 24.04 | PASS | PASS | PASS | SKIPPED | SKIPPED | SKIPPED | +---------------------+--------------------+------------------+-------------------+-------------------------+-------------------+----------------------+ | RHEL9 | PASS | PASS | SKIPPED | SKIPPED | SKIPPED | SKIPPED | +---------------------+--------------------+------------------+-------------------+-------------------------+-------------------+----------------------+ | Ubuntu 20.04 | PASS | SKIPPED | SKIPPED | SKIPPED | SKIPPED | SKIPPED | +---------------------+--------------------+------------------+-------------------+-------------------------+-------------------+----------------------+ | Ubuntu 22.04 | PASS | PASS | PASS | SKIPPED | SKIPPED | SKIPPED | +---------------------+--------------------+------------------+-------------------+-------------------------+-------------------+----------------------+ | Alpine | PASS | PASS | SKIPPED | SKIPPED | SKIPPED | SKIPPED | +---------------------+--------------------+------------------+-------------------+-------------------------+-------------------+----------------------+ | FreeBSD 13.4 | PASS | SKIPPED | SKIPPED | SKIPPED | SKIPPED | SKIPPED | +---------------------+--------------------+------------------+-------------------+-------------------------+-------------------+----------------------+ | FreeBSD 14.2 | PASS | SKIPPED | SKIPPED | SKIPPED | SKIPPED | SKIPPED | +---------------------+--------------------+------------------+-------------------+-------------------------+-------------------+----------------------+ | Windows Server 2022 | SKIPPED | SKIPPED | SKIPPED | PASS | PASS | PASS | +---------------------+--------------------+------------------+-------------------+-------------------------+-------------------+----------------------+ CentOS Stream 9 Kernel: Depends on container host Compiler: gcc 11.5.0 20240719 (Red Hat 11.5.0-2) Debian Bullseye Kernel: Depends on container host Compiler: gcc (Debian 10.2.1-6) 10.2.1 20210110 Debian 12 Kernel: Depends on container host Compiler: gcc (Debian 12.2.0-14) 12.2.0 Fedora 40 (Clang) Kernel: Depends on container host Compiler: clang 18.1.8 (Fedora 18.1.8-1.fc40) Fedora 40 Kernel: Depends on container host Compiler: gcc 14.2.1 20240912 (Red Hat 14.2.1-3) Fedora 41 (Clang) Kernel: Depends on container host Compiler: clang 19.1.5 (Fedora 19.1.5-1.fc41) Fedora 41 Kernel: Depends on container host Compiler: gcc 14.2.1 20240912 (Red Hat 14.2.1-3) openSUSE Leap 15 Kernel: Depends on container host Compiler: gcc (SUSE Linux) 7.5.0 RHEL8 Kernel: Depends on container host Compiler: gcc 8.5.0 20210514 (Red Hat 8.5.0-22) Ubuntu 24.04 Kernel: Depends on container host Compiler: gcc (Ubuntu 13.3.0-6ubuntu2~24.04) 13.3.0 RHEL9 Kernel: Depends on container host Compiler: gcc 11.5.0 20240719 (Red Hat 11.5.0-2) Ubuntu 20.04 Kernel: Depends on container host Compiler: gcc (Ubuntu 9.4.0-1ubuntu1~20.04.2) 9.4.0 Ubuntu 22.04 Kernel: Depends on container host Compiler: gcc (Ubuntu 11.4.0-1ubuntu1~22.04) 11.4.0 Alpine Kernel: Depends on container host Compiler: gcc (Alpine 14.2.0) 14.2.0 FreeBSD 13.4 Kernel: 13.4-RELEASE-p1 Compiler: clang 18.1.6 FreeBSD 14.2 Kernel: 14.2-RELEASE Compiler: clang 18.1.6 Windows Server 2022 Kernel: 10.0.20348.2031 Compiler: clang 15.0.7, gcc 14.1.0 (MinGW), and MSVC VS 19.39.33521 To view detailed results, visit: https://lab.dpdk.org/results/dashboard/patchsets/32386/ UNH-IOL DPDK Community Lab To manage your email subscriptions, visit: https://lab.dpdk.org/results/dashboard/preferences/subscriptions/