From mboxrd@z Thu Jan 1 00:00:00 1970 Return-Path: Received: from mails.dpdk.org (mails.dpdk.org [217.70.189.124]) by inbox.dpdk.org (Postfix) with ESMTP id 387DD461A0 for ; Wed, 5 Feb 2025 18:23:43 +0100 (CET) Received: from mails.dpdk.org (localhost [127.0.0.1]) by mails.dpdk.org (Postfix) with ESMTP id 35098402E6; Wed, 5 Feb 2025 18:23:43 +0100 (CET) Received: from mail-io1-f100.google.com (mail-io1-f100.google.com [209.85.166.100]) by mails.dpdk.org (Postfix) with ESMTP id 19375402E4 for ; Wed, 5 Feb 2025 18:23:42 +0100 (CET) Received: by mail-io1-f100.google.com with SMTP id ca18e2360f4ac-844e1020253so1437839f.3 for ; Wed, 05 Feb 2025 09:23:42 -0800 (PST) DKIM-Signature: v=1; a=rsa-sha256; c=relaxed/relaxed; d=iol.unh.edu; s=unh-iol; t=1738776221; x=1739381021; darn=dpdk.org; h=references:in-reply-to:cc:to:from:subject:message-id:date:from:to :cc:subject:date:message-id:reply-to; bh=nEItU0rFJZZBZoglvQFOPGdvReak0a+RTXW/r08tYVE=; b=X1aqWFlF3+yD6He30OszupagzoVr9AV9FBlF/gZMZnTTlVRu5iBck7ecPT2kdFIEEb bIZPBQSmYlcsv3ncqt3rB4LHLZ6Pb/xrU9ALGIdjA4Uo8c+qo28Ip4gs5ums2y2mV/hD IEVm+dF33S5CyQnUzejCoXAahRyqBpD+Q2iGQ= X-Google-DKIM-Signature: v=1; a=rsa-sha256; c=relaxed/relaxed; d=1e100.net; s=20230601; t=1738776221; x=1739381021; h=references:in-reply-to:cc:to:from:subject:message-id:date :x-gm-message-state:from:to:cc:subject:date:message-id:reply-to; bh=nEItU0rFJZZBZoglvQFOPGdvReak0a+RTXW/r08tYVE=; b=PWEtLZdxVf5QCXPdYZXe76L/z3kkBzbuLAUh30pb9qlPdKm1CgHpW9/cJPMoN26Igv LLqJiG7d4ObFlFVRvGxyzU/0t8O+DW/efDOwrFcAocVXLk17rJZGAfE8tWAYvgco/4Zt TzRLDmkC+7kvEpAaanXTUST5MQNcMYtjwJZcBtKFfylcdVy2jeDmV5jGt4+IZwLESvdJ poysrJNQOTGxNjPz80HTwl80WMZu6xxqQn8G6Nr6GBIckcMUKiCgxAAfFGbxPfxdSGas eiWvst+sLn2TkuYiXYtswp5AoDBBNT2/bYd3aesKGxJyUyBVnC+Sdr6gjMx2fGxBSd1w adNw== X-Gm-Message-State: AOJu0Ywuf8+PBExPnnBLxXvo1x8XFvF0YiQ7k3Xy82VloSaycEtyRA1V /Z1nq63/hKN5uBQhzlnd3sSFr6os9Xq8gmnEoNKnxdGy0tyxuKQA6P+PQWq4PfNuZ9Y1reXAWEd B5hJjkbZB/7/dr3wFKibuonu2/w+SxpkFpYSIbrIm X-Gm-Gg: ASbGncumJCOL2IE55gPgwcVt7uOfzVF8bP/58JpwnmYk6v2pHxByllAaBG1iddOWrU+ JGFCQoMqAvo+pAyM0DdtIpNo7IDFMllcBpoLwhbEohrmTuSjf3JLgkvDh0Es4flAWB132fjlpLl ASI1CAykeanmEISU0udk9xJbST45I1aOSbQV8mxHF2MyOdZLCsdEpVcDxjd4+XxKaqIlVOmfVfV DHvKDJDppzvanHeryPGtn/uLKmiAQT91XsLuHzXXnv5to1h3Dc61RPaN7NPxGDHWzpBMHBozVA2 KhoEbljoD9ddo5nQ1G0sA2uOSRmcIQ== X-Google-Smtp-Source: AGHT+IHVrb1kcUXXjSVvDk2/tgv09AsNtjEcyo9GIIvZQSZ1wSHoQNLXSBW5nPu6brZcxskNBspagtM+xItP X-Received: by 2002:a05:6e02:1d8e:b0:3ce:5af3:79d5 with SMTP id e9e14a558f8ab-3d04f420b2cmr30080565ab.6.1738776221504; Wed, 05 Feb 2025 09:23:41 -0800 (PST) Received: from postal.iol.unh.edu (postal.iol.unh.edu. [132.177.123.84]) by smtp-relay.gmail.com with ESMTPS id 8926c6da1cb9f-4ec74591708sm848060173.4.2025.02.05.09.23.41 (version=TLS1_2 cipher=ECDHE-ECDSA-AES128-GCM-SHA256 bits=128/128); Wed, 05 Feb 2025 09:23:41 -0800 (PST) X-Relaying-Domain: iol.unh.edu Date: Wed, 05 Feb 2025 09:23:41 -0800 (PST) Message-ID: <67a39e9d.050a0220.2b4c18.8f89SMTPIN_ADDED_MISSING@mx.google.com> Received: from [172.21.0.11] (unknown [172.18.0.240]) by postal.iol.unh.edu (Postfix) with ESMTP id 0B60B6052471; Wed, 5 Feb 2025 12:23:41 -0500 (EST) Subject: |SUCCESS| pw150205-150206 [PATCH] [v14,3/3] drivers/net: add diagnos From: dpdklab@iol.unh.edu To: Test Report Cc: dpdk-test-reports@iol.unh.edu In-Reply-To: <1737168373-25364-4-git-send-email-andremue@linux.microsoft.com> References: <1737168373-25364-4-git-send-email-andremue@linux.microsoft.com> Content-Type: text/plain X-BeenThere: test-report@dpdk.org X-Mailman-Version: 2.1.29 Precedence: list List-Id: automatic DPDK test reports List-Unsubscribe: , List-Archive: List-Post: List-Help: List-Subscribe: , Errors-To: test-report-bounces@dpdk.org Test-Label: iol-compile-amd64-testing Test-Status: SUCCESS http://dpdk.org/patch/150206 _Testing PASS_ Submitter: Andre Muezerie Date: Saturday, January 18 2025 02:46:13 DPDK git baseline: Repo:dpdk Branch: master CommitID:06e2856620a70000b2a28f0ea715fc247b85fd8d 150205-150206 --> testing pass Test environment and result as below: +---------------------+--------------------+------------------+-------------------+-------------------+-------------------------+----------------------+ | Environment | dpdk_meson_compile | dpdk_compile_ovs | dpdk_compile_spdk | dpdk_msvc_compile | dpdk_llvm_clang_compile | dpdk_mingw64_compile | +=====================+====================+==================+===================+===================+=========================+======================+ | CentOS Stream 9 | PASS | PASS | PASS | SKIPPED | SKIPPED | SKIPPED | +---------------------+--------------------+------------------+-------------------+-------------------+-------------------------+----------------------+ | Debian Bullseye | PASS | PASS | PASS | SKIPPED | SKIPPED | SKIPPED | +---------------------+--------------------+------------------+-------------------+-------------------+-------------------------+----------------------+ | Debian 12 | PASS | PASS | PASS | SKIPPED | SKIPPED | SKIPPED | +---------------------+--------------------+------------------+-------------------+-------------------+-------------------------+----------------------+ | Fedora 40 | PASS | PASS | PASS | SKIPPED | SKIPPED | SKIPPED | +---------------------+--------------------+------------------+-------------------+-------------------+-------------------------+----------------------+ | Fedora 40 (Clang) | PASS | PASS | PASS | SKIPPED | SKIPPED | SKIPPED | +---------------------+--------------------+------------------+-------------------+-------------------+-------------------------+----------------------+ | Fedora 41 (Clang) | PASS | PASS | PASS | SKIPPED | SKIPPED | SKIPPED | +---------------------+--------------------+------------------+-------------------+-------------------+-------------------------+----------------------+ | Fedora 41 | PASS | PASS | PASS | SKIPPED | SKIPPED | SKIPPED | +---------------------+--------------------+------------------+-------------------+-------------------+-------------------------+----------------------+ | openSUSE Leap 15 | PASS | SKIPPED | SKIPPED | SKIPPED | SKIPPED | SKIPPED | +---------------------+--------------------+------------------+-------------------+-------------------+-------------------------+----------------------+ | RHEL8 | PASS | PASS | SKIPPED | SKIPPED | SKIPPED | SKIPPED | +---------------------+--------------------+------------------+-------------------+-------------------+-------------------------+----------------------+ | RHEL9 | PASS | PASS | SKIPPED | SKIPPED | SKIPPED | SKIPPED | +---------------------+--------------------+------------------+-------------------+-------------------+-------------------------+----------------------+ | Ubuntu 20.04 | PASS | SKIPPED | SKIPPED | SKIPPED | SKIPPED | SKIPPED | +---------------------+--------------------+------------------+-------------------+-------------------+-------------------------+----------------------+ | Ubuntu 24.04 | PASS | PASS | PASS | SKIPPED | SKIPPED | SKIPPED | +---------------------+--------------------+------------------+-------------------+-------------------+-------------------------+----------------------+ | Ubuntu 22.04 | PASS | PASS | PASS | SKIPPED | SKIPPED | SKIPPED | +---------------------+--------------------+------------------+-------------------+-------------------+-------------------------+----------------------+ | Alpine | PASS | PASS | SKIPPED | SKIPPED | SKIPPED | SKIPPED | +---------------------+--------------------+------------------+-------------------+-------------------+-------------------------+----------------------+ | FreeBSD 13.4 | PASS | SKIPPED | SKIPPED | SKIPPED | SKIPPED | SKIPPED | +---------------------+--------------------+------------------+-------------------+-------------------+-------------------------+----------------------+ | FreeBSD 14.2 | PASS | SKIPPED | SKIPPED | SKIPPED | SKIPPED | SKIPPED | +---------------------+--------------------+------------------+-------------------+-------------------+-------------------------+----------------------+ | Windows Server 2022 | SKIPPED | SKIPPED | SKIPPED | PASS | PASS | PASS | +---------------------+--------------------+------------------+-------------------+-------------------+-------------------------+----------------------+ CentOS Stream 9 Kernel: Depends on container host Compiler: gcc 11.5.0 20240719 (Red Hat 11.5.0-2) Debian Bullseye Kernel: Depends on container host Compiler: gcc (Debian 10.2.1-6) 10.2.1 20210110 Debian 12 Kernel: Depends on container host Compiler: gcc (Debian 12.2.0-14) 12.2.0 Fedora 40 Kernel: Depends on container host Compiler: gcc 14.2.1 20240912 (Red Hat 14.2.1-3) Fedora 40 (Clang) Kernel: Depends on container host Compiler: clang 18.1.8 (Fedora 18.1.8-1.fc40) Fedora 41 (Clang) Kernel: Depends on container host Compiler: clang 19.1.5 (Fedora 19.1.5-1.fc41) Fedora 41 Kernel: Depends on container host Compiler: gcc 14.2.1 20240912 (Red Hat 14.2.1-3) openSUSE Leap 15 Kernel: Depends on container host Compiler: gcc (SUSE Linux) 7.5.0 RHEL8 Kernel: Depends on container host Compiler: gcc 8.5.0 20210514 (Red Hat 8.5.0-22) RHEL9 Kernel: Depends on container host Compiler: gcc 11.5.0 20240719 (Red Hat 11.5.0-2) Ubuntu 20.04 Kernel: Depends on container host Compiler: gcc (Ubuntu 9.4.0-1ubuntu1~20.04.2) 9.4.0 Ubuntu 24.04 Kernel: Depends on container host Compiler: gcc (Ubuntu 13.3.0-6ubuntu2~24.04) 13.3.0 Ubuntu 22.04 Kernel: Depends on container host Compiler: gcc (Ubuntu 11.4.0-1ubuntu1~22.04) 11.4.0 Alpine Kernel: Depends on container host Compiler: gcc (Alpine 14.2.0) 14.2.0 FreeBSD 13.4 Kernel: 13.4-RELEASE-p1 Compiler: clang 18.1.6 FreeBSD 14.2 Kernel: 14.2-RELEASE Compiler: clang 18.1.6 Windows Server 2022 Kernel: 10.0.20348.2031 Compiler: clang 15.0.7, gcc 14.1.0 (MinGW), and MSVC VS 19.39.33521 To view detailed results, visit: https://lab.dpdk.org/results/dashboard/patchsets/32364/ UNH-IOL DPDK Community Lab To manage your email subscriptions, visit: https://lab.dpdk.org/results/dashboard/preferences/subscriptions/