From mboxrd@z Thu Jan 1 00:00:00 1970 Return-Path: Received: from mails.dpdk.org (mails.dpdk.org [217.70.189.124]) by inbox.dpdk.org (Postfix) with ESMTP id 54DC6461A0 for ; Wed, 5 Feb 2025 18:23:55 +0100 (CET) Received: from mails.dpdk.org (localhost [127.0.0.1]) by mails.dpdk.org (Postfix) with ESMTP id 4D648402E6; Wed, 5 Feb 2025 18:23:55 +0100 (CET) Received: from mail-pl1-f228.google.com (mail-pl1-f228.google.com [209.85.214.228]) by mails.dpdk.org (Postfix) with ESMTP id 4347D402E4 for ; Wed, 5 Feb 2025 18:23:54 +0100 (CET) Received: by mail-pl1-f228.google.com with SMTP id d9443c01a7336-21f200014f1so882995ad.2 for ; Wed, 05 Feb 2025 09:23:54 -0800 (PST) DKIM-Signature: v=1; a=rsa-sha256; c=relaxed/relaxed; d=iol.unh.edu; s=unh-iol; t=1738776233; x=1739381033; darn=dpdk.org; h=cc:to:from:subject:message-id:date:from:to:cc:subject:date :message-id:reply-to; bh=WZUD5qEnfMVrIOq0xb+5UMdmUTFZE8rcllNCFodawF8=; b=h+KmQoKuA1ZSvS+KXWGtMY4gRDt9yErmvj9HkFtfEv1QQrHEt1UdSjvJ+Hfk7FXS3F 5mV1Jd2ikHOEmW9PaMmKU4KGc1KXQ4Dn/uFrkGfD3Hm3csnh881FB8wjOmgdDLArbhrW Ahh9+Z9viBJMNsULoFCeB68yBUkfeTWAnEQR0= X-Google-DKIM-Signature: v=1; a=rsa-sha256; c=relaxed/relaxed; d=1e100.net; s=20230601; t=1738776233; x=1739381033; h=cc:to:from:subject:message-id:date:x-gm-message-state:from:to:cc :subject:date:message-id:reply-to; bh=WZUD5qEnfMVrIOq0xb+5UMdmUTFZE8rcllNCFodawF8=; b=cd8UMhQhEpeo8DlYUNR8w16+++D7Q9hQxmzL5/BQKPvMuPVCeshgc/EXX7MOr5YdPE lVSIXXKPpttqORRtNJW6T1jOALbdcU6+ptulZN2Bx2kUvu3TdX1nY6DejAxWgdgHQ13X C+87tr+dn5P8HYLz4B7bGeeOoUD6x2C78R+SG1mh886q68ag7e7lVbeGKM5dI6ubGsy+ KZQI84+60IwD+QK9aTyjB5YLL8DOtkitnruof/wjcuS9twoW9tLDtX4vxhkudEaURe87 EvWkuQfbBDq4TqbnMUVhxUib21cU/EWUZiBt1st9qkxFDE1KSBKjgmj6is7cQNN0rMZl Q5eA== X-Gm-Message-State: AOJu0YxB6yAurtAK7LX/LsvBwUjdG8WsL+U2BFXgKDnrzPRF//VRBVrt SGRflPelw0y9vuF8CUBtttlP1eukPG2RdT9dkwT8f6zELv0mZ3thRP+9ERSt0N1zRYrXBUFxIzN e+xuTygs+UAiNZHeMvZ0b4WwG4SyI+pHLy3TOMMGK X-Gm-Gg: ASbGncswm3LduI/NM3OI8LUobe8sU9t8pRjO8KwbQ7OhdPR/24hSz31wZjROH48jg1R SHhAfNrf5o7QgPNZuHTw1Sg6EHfuIw9TAf2fkDmRn9ssFcz6swE/HslKmhehmD9wp+xCQ8/5OLh /JWIK577qmOxs/WNIA18f7TvYDXiABuVl9VOlwtl5mEr/OfqpAcWXgq4FW0ts89GC5H/T1oo158 pUG2k8REl2s76rpnw82cAIvfdxYdY7zGVkqXyRVIa2nWG3hhttzzBmA+1BJgUuo7BotfbruWtkN 7s5w2vHvh9+Bc+t/hL7+7NzGMf90Sg== X-Google-Smtp-Source: AGHT+IG6pPxj5S6gruMaI68oAQpBiJXxlog5FEV1IZ18K3w5ZSuAqGLCTOfoc95En3AltZ+fqn2eQE9HhO96 X-Received: by 2002:a17:902:ce03:b0:216:282d:c67a with SMTP id d9443c01a7336-21f17ebb861mr60117425ad.39.1738776233527; Wed, 05 Feb 2025 09:23:53 -0800 (PST) Received: from postal.iol.unh.edu (postal.iol.unh.edu. [132.177.123.84]) by smtp-relay.gmail.com with ESMTPS id d9443c01a7336-21f2dd980b2sm106455ad.117.2025.02.05.09.23.53 (version=TLS1_2 cipher=ECDHE-ECDSA-AES128-GCM-SHA256 bits=128/128); Wed, 05 Feb 2025 09:23:53 -0800 (PST) X-Relaying-Domain: iol.unh.edu Date: Wed, 05 Feb 2025 09:23:53 -0800 (PST) Message-ID: <67a39ea9.170a0220.3b9d16.07caSMTPIN_ADDED_MISSING@mx.google.com> Received: from [172.21.0.12] (unknown [172.18.0.240]) by postal.iol.unh.edu (Postfix) with ESMTP id 018726052471; Wed, 5 Feb 2025 12:23:53 -0500 (EST) Subject: |SUCCESS| [GIT MASTER] 06e2856620a70000b2a28f0ea715fc247b85fd8d From: dpdklab@iol.unh.edu To: Test Report Cc: dpdk-test-reports@iol.unh.edu Content-Type: text/plain X-BeenThere: test-report@dpdk.org X-Mailman-Version: 2.1.29 Precedence: list List-Id: automatic DPDK test reports List-Unsubscribe: , List-Archive: List-Post: List-Help: List-Subscribe: , Errors-To: test-report-bounces@dpdk.org _Testing PASS_ Branch: dpdk 06e2856620a70000b2a28f0ea715fc247b85fd8d --> testing pass Test environment and result as below: +---------------------+--------------------+------------------+-------------------+-------------------------+-------------------+----------------------+ | Environment | dpdk_meson_compile | dpdk_compile_ovs | dpdk_compile_spdk | dpdk_llvm_clang_compile | dpdk_msvc_compile | dpdk_mingw64_compile | +=====================+====================+==================+===================+=========================+===================+======================+ | CentOS Stream 9 | PASS | PASS | PASS | SKIPPED | SKIPPED | SKIPPED | +---------------------+--------------------+------------------+-------------------+-------------------------+-------------------+----------------------+ | Debian Bullseye | PASS | PASS | PASS | SKIPPED | SKIPPED | SKIPPED | +---------------------+--------------------+------------------+-------------------+-------------------------+-------------------+----------------------+ | Debian 12 | PASS | PASS | PASS | SKIPPED | SKIPPED | SKIPPED | +---------------------+--------------------+------------------+-------------------+-------------------------+-------------------+----------------------+ | Fedora 40 | PASS | PASS | PASS | SKIPPED | SKIPPED | SKIPPED | +---------------------+--------------------+------------------+-------------------+-------------------------+-------------------+----------------------+ | Fedora 40 (Clang) | PASS | PASS | PASS | SKIPPED | SKIPPED | SKIPPED | +---------------------+--------------------+------------------+-------------------+-------------------------+-------------------+----------------------+ | Fedora 41 (Clang) | PASS | PASS | PASS | SKIPPED | SKIPPED | SKIPPED | +---------------------+--------------------+------------------+-------------------+-------------------------+-------------------+----------------------+ | Ubuntu 20.04 | PASS | SKIPPED | SKIPPED | SKIPPED | SKIPPED | SKIPPED | +---------------------+--------------------+------------------+-------------------+-------------------------+-------------------+----------------------+ | openSUSE Leap 15 | PASS | SKIPPED | SKIPPED | SKIPPED | SKIPPED | SKIPPED | +---------------------+--------------------+------------------+-------------------+-------------------------+-------------------+----------------------+ | Fedora 41 | PASS | PASS | PASS | SKIPPED | SKIPPED | SKIPPED | +---------------------+--------------------+------------------+-------------------+-------------------------+-------------------+----------------------+ | Ubuntu 24.04 | PASS | PASS | PASS | SKIPPED | SKIPPED | SKIPPED | +---------------------+--------------------+------------------+-------------------+-------------------------+-------------------+----------------------+ | RHEL9 | PASS | PASS | SKIPPED | SKIPPED | SKIPPED | SKIPPED | +---------------------+--------------------+------------------+-------------------+-------------------------+-------------------+----------------------+ | Ubuntu 22.04 | PASS | PASS | PASS | SKIPPED | SKIPPED | SKIPPED | +---------------------+--------------------+------------------+-------------------+-------------------------+-------------------+----------------------+ | RHEL8 | PASS | PASS | SKIPPED | SKIPPED | SKIPPED | SKIPPED | +---------------------+--------------------+------------------+-------------------+-------------------------+-------------------+----------------------+ | Alpine | PASS | PASS | SKIPPED | SKIPPED | SKIPPED | SKIPPED | +---------------------+--------------------+------------------+-------------------+-------------------------+-------------------+----------------------+ | Arch Linux | PASS | PASS | SKIPPED | SKIPPED | SKIPPED | SKIPPED | +---------------------+--------------------+------------------+-------------------+-------------------------+-------------------+----------------------+ | FreeBSD 13.4 | PASS | SKIPPED | SKIPPED | SKIPPED | SKIPPED | SKIPPED | +---------------------+--------------------+------------------+-------------------+-------------------------+-------------------+----------------------+ | FreeBSD 14.2 | PASS | SKIPPED | SKIPPED | SKIPPED | SKIPPED | SKIPPED | +---------------------+--------------------+------------------+-------------------+-------------------------+-------------------+----------------------+ | Windows Server 2022 | SKIPPED | SKIPPED | SKIPPED | PASS | PASS | PASS | +---------------------+--------------------+------------------+-------------------+-------------------------+-------------------+----------------------+ CentOS Stream 9 Kernel: Depends on container host Compiler: gcc 11.5.0 20240719 (Red Hat 11.5.0-2) Debian Bullseye Kernel: Depends on container host Compiler: gcc (Debian 10.2.1-6) 10.2.1 20210110 Debian 12 Kernel: Depends on container host Compiler: gcc (Debian 12.2.0-14) 12.2.0 Fedora 40 Kernel: Depends on container host Compiler: gcc 14.2.1 20240912 (Red Hat 14.2.1-3) Fedora 40 (Clang) Kernel: Depends on container host Compiler: clang 18.1.8 (Fedora 18.1.8-1.fc40) Fedora 41 (Clang) Kernel: Depends on container host Compiler: clang 19.1.5 (Fedora 19.1.5-1.fc41) Ubuntu 20.04 Kernel: Depends on container host Compiler: gcc (Ubuntu 9.4.0-1ubuntu1~20.04.2) 9.4.0 openSUSE Leap 15 Kernel: Depends on container host Compiler: gcc (SUSE Linux) 7.5.0 Fedora 41 Kernel: Depends on container host Compiler: gcc 14.2.1 20240912 (Red Hat 14.2.1-3) Ubuntu 24.04 Kernel: Depends on container host Compiler: gcc (Ubuntu 13.3.0-6ubuntu2~24.04) 13.3.0 RHEL9 Kernel: Depends on container host Compiler: gcc 11.5.0 20240719 (Red Hat 11.5.0-2) Ubuntu 22.04 Kernel: Depends on container host Compiler: gcc (Ubuntu 11.4.0-1ubuntu1~22.04) 11.4.0 RHEL8 Kernel: Depends on container host Compiler: gcc 8.5.0 20210514 (Red Hat 8.5.0-22) Alpine Kernel: Depends on container host Compiler: gcc (Alpine 14.2.0) 14.2.0 Arch Linux Kernel: Depends on container host Compiler: gcc 14.2.1 20240910 FreeBSD 13.4 Kernel: 13.4-RELEASE-p1 Compiler: clang 18.1.6 FreeBSD 14.2 Kernel: 14.2-RELEASE Compiler: clang 18.1.6 Windows Server 2022 Kernel: 10.0.20348.2031 Compiler: clang 15.0.7, gcc 14.1.0 (MinGW), and MSVC VS 19.39.33521 To view detailed results, visit: https://lab.dpdk.org/results/dashboard/tarballs/32246/ UNH-IOL DPDK Community Lab To manage your email subscriptions, visit: https://lab.dpdk.org/results/dashboard/preferences/subscriptions/