From mboxrd@z Thu Jan 1 00:00:00 1970 Return-Path: Received: from mails.dpdk.org (mails.dpdk.org [217.70.189.124]) by inbox.dpdk.org (Postfix) with ESMTP id 71E34461A0 for ; Wed, 5 Feb 2025 18:23:57 +0100 (CET) Received: from mails.dpdk.org (localhost [127.0.0.1]) by mails.dpdk.org (Postfix) with ESMTP id 6F31B40652; Wed, 5 Feb 2025 18:23:57 +0100 (CET) Received: from mail-qt1-f226.google.com (mail-qt1-f226.google.com [209.85.160.226]) by mails.dpdk.org (Postfix) with ESMTP id B2CC8402E6 for ; Wed, 5 Feb 2025 18:23:56 +0100 (CET) Received: by mail-qt1-f226.google.com with SMTP id d75a77b69052e-46fd4bf03cbso1007421cf.0 for ; Wed, 05 Feb 2025 09:23:56 -0800 (PST) DKIM-Signature: v=1; a=rsa-sha256; c=relaxed/relaxed; d=iol.unh.edu; s=unh-iol; t=1738776236; x=1739381036; darn=dpdk.org; h=references:in-reply-to:cc:to:from:subject:message-id:date:from:to :cc:subject:date:message-id:reply-to; bh=EmLE4OxOd1WAStLI5/+8FS6On4akE7e20zHaKDvXiTs=; b=HWI27rVQIg4edK6ka0O+KF7glTvJc18cDQ620y/2o7vnZm7dzIw3CQWINQSKTKw8m8 HhQytsjLurzRMppUL8NIEvsobrjR8YQRIfcL+H4pTfjMppyGAtNfN3MIFY/Yl+TEtAnN 7yJ8Uy1UZJAHPqpxF6ISHL2HQ8jq0+ZJEX8Cc= X-Google-DKIM-Signature: v=1; a=rsa-sha256; c=relaxed/relaxed; d=1e100.net; s=20230601; t=1738776236; x=1739381036; h=references:in-reply-to:cc:to:from:subject:message-id:date :x-gm-message-state:from:to:cc:subject:date:message-id:reply-to; bh=EmLE4OxOd1WAStLI5/+8FS6On4akE7e20zHaKDvXiTs=; b=UjUMXTO7cjSt3VaOJanqlWPeawszhmHfLglOT8rzJ7Sju41ZV0YhgFMtnAM4HffTgZ S7xik0pMMZ9P0VzmlmVCJzubZnkl41IyzpDBvUN1By+fTIpeAO84bH4u5XVvOY6mzlgq ZHUpkrLSPD0B0eLtNLUgo5YhBIZaLZvlAhvpDqGI9Zy2YX8QFjWy8aR+iVrN29/Fdk0g oHaWssPLA3jrp7dom+99O6IfY/0Jsh++G0ieCJ9YtbY0TeULPRtcNLrunClK2K4U+f5G udxPFrOyNVTWI50M4La9Qb8VQkQzZQHwoDbBV63peHLJTb5H2w6MVrlHvGpkdnKztfF6 2ngw== X-Gm-Message-State: AOJu0YwP1rpgAFNCEnLZzZw8JXgRkgrvuCk+A6adplB5hbt9YgQYBPra MSB+DwVSYpA+/vPKvPFTLWyRYol/9wyszbR51FtpdpgTjy8R0fL9iQl3Ig1R5OnDdvSFFf4c4xy mn+mEZ4l0APNhOjPnYAq0zOs3dURUxtnxJ7gFXAao X-Gm-Gg: ASbGncvyMoYwGgnYB5hYHUJ9TYFM0XKjwe8MzOe0+1Bk3rpwM4d1Kzq56LLy1+9dhaK D/EMY9PFUUYKSX5f1v66Q/V1Q2PmIiyLAFdp2sLj00S1kkCjDUj6U9NpNW7ud5JFevBydiXTuzQ fJC+SdvgCsAV5q8al29b1TP9I91mH67I/epuK/rtA5bJgdVy38r1ZtSYwuk6f782hLileqXLsEr WEWmMGOdpSoULDxGTck2/mzmPzpQm2mmHJhTgACxVaXAVNpLYuWM9P8vyL6L0s7cPcqejQ+9sUC z70ySURzYW0hnsJwlgF2xfixZ2OYUw== X-Google-Smtp-Source: AGHT+IGSt8/Q0uFaAyy2awbRFMgSw6yeNAtQgqXokAH/1QDHQHG8JZaZqGyS9+RdI9UncESEJnSulnEMag2d X-Received: by 2002:a05:6214:212c:b0:6d8:8d16:7cf3 with SMTP id 6a1803df08f44-6e42fc72a95mr43787226d6.40.1738776236204; Wed, 05 Feb 2025 09:23:56 -0800 (PST) Received: from postal.iol.unh.edu (postal.iol.unh.edu. [132.177.123.84]) by smtp-relay.gmail.com with ESMTPS id 6a1803df08f44-6e42c7af8ecsm2312346d6.28.2025.02.05.09.23.56 (version=TLS1_2 cipher=ECDHE-ECDSA-AES128-GCM-SHA256 bits=128/128); Wed, 05 Feb 2025 09:23:56 -0800 (PST) X-Relaying-Domain: iol.unh.edu Date: Wed, 05 Feb 2025 09:23:56 -0800 (PST) Message-ID: <67a39eac.d40a0220.fed65.b600SMTPIN_ADDED_MISSING@mx.google.com> Received: from [172.21.0.8] (unknown [172.18.0.240]) by postal.iol.unh.edu (Postfix) with ESMTP id E5B946052472; Wed, 5 Feb 2025 12:23:55 -0500 (EST) Subject: |SUCCESS| pw150146 [PATCH] .mailmap: resort entries From: dpdklab@iol.unh.edu To: Test Report Cc: dpdk-test-reports@iol.unh.edu In-Reply-To: <20250116171010.75942-1-stephen@networkplumber.org> References: <20250116171010.75942-1-stephen@networkplumber.org> Content-Type: text/plain X-BeenThere: test-report@dpdk.org X-Mailman-Version: 2.1.29 Precedence: list List-Id: automatic DPDK test reports List-Unsubscribe: , List-Archive: List-Post: List-Help: List-Subscribe: , Errors-To: test-report-bounces@dpdk.org Test-Label: iol-compile-amd64-testing Test-Status: SUCCESS http://dpdk.org/patch/150146 _Testing PASS_ Submitter: Stephen Hemminger Date: Thursday, January 16 2025 17:10:05 DPDK git baseline: Repo:dpdk Branch: master CommitID:06e2856620a70000b2a28f0ea715fc247b85fd8d 150146 --> testing pass Test environment and result as below: +---------------------+--------------------+------------------+-------------------+-------------------------+-------------------+----------------------+ | Environment | dpdk_meson_compile | dpdk_compile_ovs | dpdk_compile_spdk | dpdk_llvm_clang_compile | dpdk_msvc_compile | dpdk_mingw64_compile | +=====================+====================+==================+===================+=========================+===================+======================+ | CentOS Stream 9 | PASS | PASS | PASS | SKIPPED | SKIPPED | SKIPPED | +---------------------+--------------------+------------------+-------------------+-------------------------+-------------------+----------------------+ | Debian Bullseye | PASS | PASS | PASS | SKIPPED | SKIPPED | SKIPPED | +---------------------+--------------------+------------------+-------------------+-------------------------+-------------------+----------------------+ | Fedora 40 (Clang) | PASS | PASS | PASS | SKIPPED | SKIPPED | SKIPPED | +---------------------+--------------------+------------------+-------------------+-------------------------+-------------------+----------------------+ | Debian 12 | PASS | PASS | PASS | SKIPPED | SKIPPED | SKIPPED | +---------------------+--------------------+------------------+-------------------+-------------------------+-------------------+----------------------+ | Fedora 41 (Clang) | PASS | PASS | PASS | SKIPPED | SKIPPED | SKIPPED | +---------------------+--------------------+------------------+-------------------+-------------------------+-------------------+----------------------+ | Fedora 40 | PASS | PASS | PASS | SKIPPED | SKIPPED | SKIPPED | +---------------------+--------------------+------------------+-------------------+-------------------------+-------------------+----------------------+ | Fedora 41 | PASS | PASS | PASS | SKIPPED | SKIPPED | SKIPPED | +---------------------+--------------------+------------------+-------------------+-------------------------+-------------------+----------------------+ | Ubuntu 22.04 | PASS | PASS | PASS | SKIPPED | SKIPPED | SKIPPED | +---------------------+--------------------+------------------+-------------------+-------------------------+-------------------+----------------------+ | RHEL9 | PASS | PASS | SKIPPED | SKIPPED | SKIPPED | SKIPPED | +---------------------+--------------------+------------------+-------------------+-------------------------+-------------------+----------------------+ | openSUSE Leap 15 | PASS | SKIPPED | SKIPPED | SKIPPED | SKIPPED | SKIPPED | +---------------------+--------------------+------------------+-------------------+-------------------------+-------------------+----------------------+ | Ubuntu 20.04 | PASS | SKIPPED | SKIPPED | SKIPPED | SKIPPED | SKIPPED | +---------------------+--------------------+------------------+-------------------+-------------------------+-------------------+----------------------+ | RHEL8 | PASS | PASS | SKIPPED | SKIPPED | SKIPPED | SKIPPED | +---------------------+--------------------+------------------+-------------------+-------------------------+-------------------+----------------------+ | Ubuntu 24.04 | PASS | PASS | PASS | SKIPPED | SKIPPED | SKIPPED | +---------------------+--------------------+------------------+-------------------+-------------------------+-------------------+----------------------+ | Alpine | PASS | PASS | SKIPPED | SKIPPED | SKIPPED | SKIPPED | +---------------------+--------------------+------------------+-------------------+-------------------------+-------------------+----------------------+ | FreeBSD 13.4 | PASS | SKIPPED | SKIPPED | SKIPPED | SKIPPED | SKIPPED | +---------------------+--------------------+------------------+-------------------+-------------------------+-------------------+----------------------+ | FreeBSD 14.2 | PASS | SKIPPED | SKIPPED | SKIPPED | SKIPPED | SKIPPED | +---------------------+--------------------+------------------+-------------------+-------------------------+-------------------+----------------------+ | Windows Server 2022 | SKIPPED | SKIPPED | SKIPPED | PASS | PASS | PASS | +---------------------+--------------------+------------------+-------------------+-------------------------+-------------------+----------------------+ CentOS Stream 9 Kernel: Depends on container host Compiler: gcc 11.5.0 20240719 (Red Hat 11.5.0-2) Debian Bullseye Kernel: Depends on container host Compiler: gcc (Debian 10.2.1-6) 10.2.1 20210110 Fedora 40 (Clang) Kernel: Depends on container host Compiler: clang 18.1.8 (Fedora 18.1.8-1.fc40) Debian 12 Kernel: Depends on container host Compiler: gcc (Debian 12.2.0-14) 12.2.0 Fedora 41 (Clang) Kernel: Depends on container host Compiler: clang 19.1.5 (Fedora 19.1.5-1.fc41) Fedora 40 Kernel: Depends on container host Compiler: gcc 14.2.1 20240912 (Red Hat 14.2.1-3) Fedora 41 Kernel: Depends on container host Compiler: gcc 14.2.1 20240912 (Red Hat 14.2.1-3) Ubuntu 22.04 Kernel: Depends on container host Compiler: gcc (Ubuntu 11.4.0-1ubuntu1~22.04) 11.4.0 RHEL9 Kernel: Depends on container host Compiler: gcc 11.5.0 20240719 (Red Hat 11.5.0-2) openSUSE Leap 15 Kernel: Depends on container host Compiler: gcc (SUSE Linux) 7.5.0 Ubuntu 20.04 Kernel: Depends on container host Compiler: gcc (Ubuntu 9.4.0-1ubuntu1~20.04.2) 9.4.0 RHEL8 Kernel: Depends on container host Compiler: gcc 8.5.0 20210514 (Red Hat 8.5.0-22) Ubuntu 24.04 Kernel: Depends on container host Compiler: gcc (Ubuntu 13.3.0-6ubuntu2~24.04) 13.3.0 Alpine Kernel: Depends on container host Compiler: gcc (Alpine 14.2.0) 14.2.0 FreeBSD 13.4 Kernel: 13.4-RELEASE-p1 Compiler: clang 18.1.6 FreeBSD 14.2 Kernel: 14.2-RELEASE Compiler: clang 18.1.6 Windows Server 2022 Kernel: 10.0.20348.2031 Compiler: clang 15.0.7, gcc 14.1.0 (MinGW), and MSVC VS 19.39.33521 To view detailed results, visit: https://lab.dpdk.org/results/dashboard/patchsets/32345/ UNH-IOL DPDK Community Lab To manage your email subscriptions, visit: https://lab.dpdk.org/results/dashboard/preferences/subscriptions/