From mboxrd@z Thu Jan 1 00:00:00 1970 Return-Path: Received: from mails.dpdk.org (mails.dpdk.org [217.70.189.124]) by inbox.dpdk.org (Postfix) with ESMTP id 89031461A0 for ; Wed, 5 Feb 2025 18:24:07 +0100 (CET) Received: from mails.dpdk.org (localhost [127.0.0.1]) by mails.dpdk.org (Postfix) with ESMTP id 82CBA402E4; Wed, 5 Feb 2025 18:24:07 +0100 (CET) Received: from mail-pl1-f225.google.com (mail-pl1-f225.google.com [209.85.214.225]) by mails.dpdk.org (Postfix) with ESMTP id 0DC28402E0 for ; Wed, 5 Feb 2025 18:24:06 +0100 (CET) Received: by mail-pl1-f225.google.com with SMTP id d9443c01a7336-21670dce0a7so1393625ad.1 for ; Wed, 05 Feb 2025 09:24:05 -0800 (PST) DKIM-Signature: v=1; a=rsa-sha256; c=relaxed/relaxed; d=iol.unh.edu; s=unh-iol; t=1738776245; x=1739381045; darn=dpdk.org; h=references:in-reply-to:cc:to:from:subject:message-id:date:from:to :cc:subject:date:message-id:reply-to; bh=5m/qb0yohs73Hy/FoZxxwVS+Id766jcpkkxLiCTvRsw=; b=KbKoo+O9zAdkJf03fWZ13d1rJndMSaWy1FGKdvnAUxvWWRPuvWZXIKEEzIXpzDYCuv ySWY3X9wcsnwlvQwYDLPYDATQSq0Z1F3kIIg/8smOv4QlwZGy9uPu0t7+LoSnerXKylI BQGzNJtlXWG9riA/wdZP7tJLwhUGSr6U1bHa0= X-Google-DKIM-Signature: v=1; a=rsa-sha256; c=relaxed/relaxed; d=1e100.net; s=20230601; t=1738776245; x=1739381045; h=references:in-reply-to:cc:to:from:subject:message-id:date :x-gm-message-state:from:to:cc:subject:date:message-id:reply-to; bh=5m/qb0yohs73Hy/FoZxxwVS+Id766jcpkkxLiCTvRsw=; b=coM3fWj7djNtaA3J3Par1JQq0yKBzjfaW38KvW/V7rBxVRVBccTB9EeQRCav1cJi0a LDSsCynZuxa7sPzLk5KhV8nkibU0teEpMvV5J7DNpFBHsiIvoGN6jh1oEBBci4keWT1I lVWITKS2Y5jlxbFniwhwW34dBS8Ufdb5sp3XlPaz0QzDOqzHpbMkxD7u9ip5EFaq4A39 ApmCAYKKVh6NyBYs3nITmadWdOHMnqQ9dNgXAE+9d6URnYK7HHLS+k2PgeKCxbT/mgVh GOZx6PAe2x3wxX+0x3nxar1BX1z6jfJTL2TUTFNhJwuSEtPTSxKNHa7tAjXruFnfJQlc PLCg== X-Gm-Message-State: AOJu0Yxlynz6Th0YQ/4efZpxxHv/tgidrwKBOFTHZ98pyqYUy69zLsyg e3IT4eGZ8vJsKwh0zhV2YTVHbie4BJ6MdynBRoiGqFFD+TUjezctp5RsaEcRvaxzvMAVqAwbmWc pnB5nD8rPjbBVTMje5XeSohTeSNN8gzE9YIYpmDUEKZz6bPMqNgo7RXyS X-Gm-Gg: ASbGncuQfmRYBNl5mKtAIzCqC5iySouyTxC5IG/nyh9+/oVFBrvPAWZjGCjqHhnOSNf 2CA5SyfUt7HOeqg4icASjkTVhUKF3B1kGG/T9GEUuEDSRVu3JieA7Afpkc+X6k+7Qt7zZwH3Yja TE5MsWB3qsv0bAjRoQrLM/zTOYPGf7LIXmyaxBAOLSBzzE1K3I5+Ouw7nNW2d6yYAFEHVgH5WtD mFKSXJNZWuMIRdBGBMaojWwycEbhyXc2XtqtlCpmH7jJbiZPDN1bhwG3LxrkqU0+4NOZZ8YsGdd 0kMsIa4EZp50KhC4vk/hd6Z5BNDONi2m7YjM8djrxg== X-Google-Smtp-Source: AGHT+IGABCVjTMKqKuIIWkLqO618nasdRoataMtDHxhLx+MUA/uTLu47koeCYbYrOWUZ8Ax0jwEf0bwPZa9H X-Received: by 2002:a17:902:d4cd:b0:212:55c0:7e80 with SMTP id d9443c01a7336-21f17dfa16cmr62717865ad.20.1738776245222; Wed, 05 Feb 2025 09:24:05 -0800 (PST) Received: from postal.iol.unh.edu (postal.iol.unh.edu. [2606:4100:3880:1234::84]) by smtp-relay.gmail.com with ESMTPS id d9443c01a7336-21de321a758sm6856285ad.12.2025.02.05.09.24.05 (version=TLS1_2 cipher=ECDHE-ECDSA-AES128-GCM-SHA256 bits=128/128); Wed, 05 Feb 2025 09:24:05 -0800 (PST) X-Relaying-Domain: iol.unh.edu Date: Wed, 05 Feb 2025 09:24:05 -0800 (PST) Message-ID: <67a39eb5.170a0220.3a07d7.eaa6SMTPIN_ADDED_MISSING@mx.google.com> Received: from [172.21.0.13] (unknown [172.18.0.240]) by postal.iol.unh.edu (Postfix) with ESMTP id 67EF06052471; Wed, 5 Feb 2025 12:24:04 -0500 (EST) Subject: |SUCCESS| pw150180-150181 [PATCH] [v1,2/2] net/ice: add Tx Time queu From: dpdklab@iol.unh.edu To: Test Report Cc: dpdk-test-reports@iol.unh.edu In-Reply-To: <20250117093938.1184042-3-soumyadeep.hore@intel.com> References: <20250117093938.1184042-3-soumyadeep.hore@intel.com> Content-Type: text/plain X-BeenThere: test-report@dpdk.org X-Mailman-Version: 2.1.29 Precedence: list List-Id: automatic DPDK test reports List-Unsubscribe: , List-Archive: List-Post: List-Help: List-Subscribe: , Errors-To: test-report-bounces@dpdk.org Test-Label: iol-compile-amd64-testing Test-Status: SUCCESS http://dpdk.org/patch/150181 _Testing PASS_ Submitter: Soumyadeep Hore Date: Friday, January 17 2025 09:39:38 DPDK git baseline: Repo:dpdk Branch: master CommitID:ce85dd8562ad9673eb4fe46b4a8bd3a508e8b32f 150180-150181 --> testing pass Test environment and result as below: +---------------------+--------------------+------------------+-------------------+-------------------+-------------------------+----------------------+ | Environment | dpdk_meson_compile | dpdk_compile_ovs | dpdk_compile_spdk | dpdk_msvc_compile | dpdk_llvm_clang_compile | dpdk_mingw64_compile | +=====================+====================+==================+===================+===================+=========================+======================+ | CentOS Stream 9 | PASS | PASS | PASS | SKIPPED | SKIPPED | SKIPPED | +---------------------+--------------------+------------------+-------------------+-------------------+-------------------------+----------------------+ | Debian Bullseye | PASS | PASS | PASS | SKIPPED | SKIPPED | SKIPPED | +---------------------+--------------------+------------------+-------------------+-------------------+-------------------------+----------------------+ | Debian 12 | PASS | PASS | PASS | SKIPPED | SKIPPED | SKIPPED | +---------------------+--------------------+------------------+-------------------+-------------------+-------------------------+----------------------+ | Fedora 41 (Clang) | PASS | PASS | PASS | SKIPPED | SKIPPED | SKIPPED | +---------------------+--------------------+------------------+-------------------+-------------------+-------------------------+----------------------+ | Fedora 41 | PASS | PASS | PASS | SKIPPED | SKIPPED | SKIPPED | +---------------------+--------------------+------------------+-------------------+-------------------+-------------------------+----------------------+ | Fedora 40 | PASS | PASS | PASS | SKIPPED | SKIPPED | SKIPPED | +---------------------+--------------------+------------------+-------------------+-------------------+-------------------------+----------------------+ | RHEL9 | PASS | PASS | SKIPPED | SKIPPED | SKIPPED | SKIPPED | +---------------------+--------------------+------------------+-------------------+-------------------+-------------------------+----------------------+ | openSUSE Leap 15 | PASS | SKIPPED | SKIPPED | SKIPPED | SKIPPED | SKIPPED | +---------------------+--------------------+------------------+-------------------+-------------------+-------------------------+----------------------+ | RHEL8 | PASS | PASS | SKIPPED | SKIPPED | SKIPPED | SKIPPED | +---------------------+--------------------+------------------+-------------------+-------------------+-------------------------+----------------------+ | Ubuntu 20.04 | PASS | SKIPPED | SKIPPED | SKIPPED | SKIPPED | SKIPPED | +---------------------+--------------------+------------------+-------------------+-------------------+-------------------------+----------------------+ | Ubuntu 22.04 | PASS | PASS | PASS | SKIPPED | SKIPPED | SKIPPED | +---------------------+--------------------+------------------+-------------------+-------------------+-------------------------+----------------------+ | Ubuntu 24.04 | PASS | PASS | PASS | SKIPPED | SKIPPED | SKIPPED | +---------------------+--------------------+------------------+-------------------+-------------------+-------------------------+----------------------+ | Alpine | PASS | PASS | SKIPPED | SKIPPED | SKIPPED | SKIPPED | +---------------------+--------------------+------------------+-------------------+-------------------+-------------------------+----------------------+ | FreeBSD 13.4 | PASS | SKIPPED | SKIPPED | SKIPPED | SKIPPED | SKIPPED | +---------------------+--------------------+------------------+-------------------+-------------------+-------------------------+----------------------+ | FreeBSD 14.2 | PASS | SKIPPED | SKIPPED | SKIPPED | SKIPPED | SKIPPED | +---------------------+--------------------+------------------+-------------------+-------------------+-------------------------+----------------------+ | Fedora 40 (Clang) | PASS | PASS | PASS | SKIPPED | SKIPPED | SKIPPED | +---------------------+--------------------+------------------+-------------------+-------------------+-------------------------+----------------------+ | Windows Server 2022 | SKIPPED | SKIPPED | SKIPPED | PASS | PASS | PASS | +---------------------+--------------------+------------------+-------------------+-------------------+-------------------------+----------------------+ CentOS Stream 9 Kernel: Depends on container host Compiler: gcc 11.5.0 20240719 (Red Hat 11.5.0-2) Debian Bullseye Kernel: Depends on container host Compiler: gcc (Debian 10.2.1-6) 10.2.1 20210110 Debian 12 Kernel: Depends on container host Compiler: gcc (Debian 12.2.0-14) 12.2.0 Fedora 41 (Clang) Kernel: Depends on container host Compiler: clang 19.1.5 (Fedora 19.1.5-1.fc41) Fedora 41 Kernel: Depends on container host Compiler: gcc 14.2.1 20240912 (Red Hat 14.2.1-3) Fedora 40 Kernel: Depends on container host Compiler: gcc 14.2.1 20240912 (Red Hat 14.2.1-3) RHEL9 Kernel: Depends on container host Compiler: gcc 11.5.0 20240719 (Red Hat 11.5.0-2) openSUSE Leap 15 Kernel: Depends on container host Compiler: gcc (SUSE Linux) 7.5.0 RHEL8 Kernel: Depends on container host Compiler: gcc 8.5.0 20210514 (Red Hat 8.5.0-22) Ubuntu 20.04 Kernel: Depends on container host Compiler: gcc (Ubuntu 9.4.0-1ubuntu1~20.04.2) 9.4.0 Ubuntu 22.04 Kernel: Depends on container host Compiler: gcc (Ubuntu 11.4.0-1ubuntu1~22.04) 11.4.0 Ubuntu 24.04 Kernel: Depends on container host Compiler: gcc (Ubuntu 13.3.0-6ubuntu2~24.04) 13.3.0 Alpine Kernel: Depends on container host Compiler: gcc (Alpine 14.2.0) 14.2.0 FreeBSD 13.4 Kernel: 13.4-RELEASE-p1 Compiler: clang 18.1.6 FreeBSD 14.2 Kernel: 14.2-RELEASE Compiler: clang 18.1.6 Fedora 40 (Clang) Kernel: Depends on container host Compiler: clang 18.1.8 (Fedora 18.1.8-1.fc40) Windows Server 2022 Kernel: 10.0.20348.2031 Compiler: clang 15.0.7, gcc 14.1.0 (MinGW), and MSVC VS 19.39.33521 To view detailed results, visit: https://lab.dpdk.org/results/dashboard/patchsets/32356/ UNH-IOL DPDK Community Lab To manage your email subscriptions, visit: https://lab.dpdk.org/results/dashboard/preferences/subscriptions/