From mboxrd@z Thu Jan 1 00:00:00 1970 Return-Path: Received: from mails.dpdk.org (mails.dpdk.org [217.70.189.124]) by inbox.dpdk.org (Postfix) with ESMTP id 99C74461A0 for ; Wed, 5 Feb 2025 18:24:07 +0100 (CET) Received: from mails.dpdk.org (localhost [127.0.0.1]) by mails.dpdk.org (Postfix) with ESMTP id 941314060C; Wed, 5 Feb 2025 18:24:07 +0100 (CET) Received: from mail-qv1-f99.google.com (mail-qv1-f99.google.com [209.85.219.99]) by mails.dpdk.org (Postfix) with ESMTP id 6C9D2402E0 for ; Wed, 5 Feb 2025 18:24:06 +0100 (CET) Received: by mail-qv1-f99.google.com with SMTP id 6a1803df08f44-6e432d88179so7052946d6.1 for ; Wed, 05 Feb 2025 09:24:06 -0800 (PST) DKIM-Signature: v=1; a=rsa-sha256; c=relaxed/relaxed; d=iol.unh.edu; s=unh-iol; t=1738776246; x=1739381046; darn=dpdk.org; h=references:in-reply-to:cc:to:from:subject:message-id:date:from:to :cc:subject:date:message-id:reply-to; bh=ui736rpfPRw0t33PIYmhKB7XzsZJHpmDRlJZotCVmG4=; b=GfoJtFzu5IiSFPKKGaR3C/m0jyjLYJjLbm/k0Ht17rpRJgg0h6iVXK9M9DD4fPsy8Y 4ocymyNoW7bBIcl5/7dUWJQtllhRyiq8xHVYDK66MGHXaB9pAXb3oC/+CjRLYITLsvZd FAITxI7uu2BYvoVctE2QzpqUklk43HuZhXvkU= X-Google-DKIM-Signature: v=1; a=rsa-sha256; c=relaxed/relaxed; d=1e100.net; s=20230601; t=1738776246; x=1739381046; h=references:in-reply-to:cc:to:from:subject:message-id:date :x-gm-message-state:from:to:cc:subject:date:message-id:reply-to; bh=ui736rpfPRw0t33PIYmhKB7XzsZJHpmDRlJZotCVmG4=; b=qA+l15MCbJy5udl1vm6YpXvd6y2Wt66Kth94YfF3NafUWzqtk/et40CSUY19imnoa1 V1IPTqYzLzIVvxt/YrorA84hlv7Pu1vPlU/guvwE5WOy51Ho7bmqbCojSdfHoq+mvr+o GOzygL/DhdxbeFDLRC7NsdfgQJdoPxpNONGLlnyPGVKwMXtgwSI5O8aB+opnq9ZlQiG3 qku9pB+P7CMijhjUQc2mbu7BTYkWys/vLM6w2hU9Tgp6HAjoQj39449liLoiBj7sxzOM 7eilrWpuMofkEgTyZ8R0I0SPB5SN32OtNAW5xrL+67HbD31moG3lEKxOmfEl4MnWJfvZ 9lSA== X-Gm-Message-State: AOJu0Yzm2RWlGUd2dS0VKX0gG/7JrRdeBkvFnA+GC6+AZD5YeAVsTpEm 2l+WI+6E+HTdeRC/yL4SrLk4ERR2fqOhoOlUo4+1koBxtxP/mN8K1KZ8bQ7By4bONXmciC+i9ov z436KIa1gAlo7xbgoKB8yjK7YNQ3mR360wju03foS X-Gm-Gg: ASbGncuhzuMdbwT2ec4jX+h4LTdrWzcjNgIBNrMdxgSIB7xF+4oZZoRH3uwDbS2k0i5 lTb0RR01gixXUggJk9CtmqONn+tYiFQ7SwRFm5hTNDP5VZ8TgD+DUZYqo4gd+C2LnMvEXnBt0D5 Zgk3zOaa4zf2r25J3lCN80aW95rGLhYjAuXeoCDpATIFkAgiPn/5m/5jFB42p5UB+Pa9KbAJYIW mJXLUUwkbbOiJCahvPHvHCWlKHxWtjlCgtfcdUCu7BIRwzf2YO5OPNUGuIYplNOCzAK6VocG6v2 Ob+NGCW+cOzlv43OQSs/3w3ihU6ZNw== X-Google-Smtp-Source: AGHT+IHFc/FygRp827g1OkjO+ggOtik6tivBe5BUg6UzAHKXsqhmg0hVDXu8Nbx+Bh6zodRAbp0GqOmyUTGF X-Received: by 2002:a05:6214:242a:b0:6e2:383f:4acd with SMTP id 6a1803df08f44-6e439acdff6mr1733696d6.7.1738776245905; Wed, 05 Feb 2025 09:24:05 -0800 (PST) Received: from postal.iol.unh.edu (postal.iol.unh.edu. [132.177.123.84]) by smtp-relay.gmail.com with ESMTPS id 6a1803df08f44-6e2544df6dasm10308856d6.9.2025.02.05.09.24.05 (version=TLS1_2 cipher=ECDHE-ECDSA-AES128-GCM-SHA256 bits=128/128); Wed, 05 Feb 2025 09:24:05 -0800 (PST) X-Relaying-Domain: iol.unh.edu Date: Wed, 05 Feb 2025 09:24:05 -0800 (PST) Message-ID: <67a39eb5.d40a0220.28b772.04b7SMTPIN_ADDED_MISSING@mx.google.com> Received: from [172.21.0.7] (unknown [172.18.0.240]) by postal.iol.unh.edu (Postfix) with ESMTP id A74CB6052471; Wed, 5 Feb 2025 12:24:05 -0500 (EST) Subject: |SUCCESS| pw150199 [PATCH] [v3] test: improve resiliency of malloc a From: dpdklab@iol.unh.edu To: Test Report Cc: dpdk-test-reports@iol.unh.edu In-Reply-To: <20250117144112.2544963-1-bruce.richardson@intel.com> References: <20250117144112.2544963-1-bruce.richardson@intel.com> Content-Type: text/plain X-BeenThere: test-report@dpdk.org X-Mailman-Version: 2.1.29 Precedence: list List-Id: automatic DPDK test reports List-Unsubscribe: , List-Archive: List-Post: List-Help: List-Subscribe: , Errors-To: test-report-bounces@dpdk.org Test-Label: iol-compile-amd64-testing Test-Status: SUCCESS http://dpdk.org/patch/150199 _Testing PASS_ Submitter: Bruce Richardson Date: Friday, January 17 2025 14:40:40 DPDK git baseline: Repo:dpdk Branch: master CommitID:06e2856620a70000b2a28f0ea715fc247b85fd8d 150199 --> testing pass Test environment and result as below: +---------------------+--------------------+------------------+-------------------+-------------------+-------------------------+----------------------+ | Environment | dpdk_meson_compile | dpdk_compile_ovs | dpdk_compile_spdk | dpdk_msvc_compile | dpdk_llvm_clang_compile | dpdk_mingw64_compile | +=====================+====================+==================+===================+===================+=========================+======================+ | CentOS Stream 9 | PASS | PASS | PASS | SKIPPED | SKIPPED | SKIPPED | +---------------------+--------------------+------------------+-------------------+-------------------+-------------------------+----------------------+ | Fedora 40 (Clang) | PASS | PASS | PASS | SKIPPED | SKIPPED | SKIPPED | +---------------------+--------------------+------------------+-------------------+-------------------+-------------------------+----------------------+ | Debian 12 | PASS | PASS | PASS | SKIPPED | SKIPPED | SKIPPED | +---------------------+--------------------+------------------+-------------------+-------------------+-------------------------+----------------------+ | Debian Bullseye | PASS | PASS | PASS | SKIPPED | SKIPPED | SKIPPED | +---------------------+--------------------+------------------+-------------------+-------------------+-------------------------+----------------------+ | Fedora 40 | PASS | PASS | PASS | SKIPPED | SKIPPED | SKIPPED | +---------------------+--------------------+------------------+-------------------+-------------------+-------------------------+----------------------+ | Fedora 41 (Clang) | PASS | PASS | PASS | SKIPPED | SKIPPED | SKIPPED | +---------------------+--------------------+------------------+-------------------+-------------------+-------------------------+----------------------+ | Fedora 41 | PASS | PASS | PASS | SKIPPED | SKIPPED | SKIPPED | +---------------------+--------------------+------------------+-------------------+-------------------+-------------------------+----------------------+ | RHEL8 | PASS | PASS | SKIPPED | SKIPPED | SKIPPED | SKIPPED | +---------------------+--------------------+------------------+-------------------+-------------------+-------------------------+----------------------+ | openSUSE Leap 15 | PASS | SKIPPED | SKIPPED | SKIPPED | SKIPPED | SKIPPED | +---------------------+--------------------+------------------+-------------------+-------------------+-------------------------+----------------------+ | RHEL9 | PASS | PASS | SKIPPED | SKIPPED | SKIPPED | SKIPPED | +---------------------+--------------------+------------------+-------------------+-------------------+-------------------------+----------------------+ | Ubuntu 20.04 | PASS | SKIPPED | SKIPPED | SKIPPED | SKIPPED | SKIPPED | +---------------------+--------------------+------------------+-------------------+-------------------+-------------------------+----------------------+ | Ubuntu 22.04 | PASS | PASS | PASS | SKIPPED | SKIPPED | SKIPPED | +---------------------+--------------------+------------------+-------------------+-------------------+-------------------------+----------------------+ | Ubuntu 24.04 | PASS | PASS | PASS | SKIPPED | SKIPPED | SKIPPED | +---------------------+--------------------+------------------+-------------------+-------------------+-------------------------+----------------------+ | Alpine | PASS | PASS | SKIPPED | SKIPPED | SKIPPED | SKIPPED | +---------------------+--------------------+------------------+-------------------+-------------------+-------------------------+----------------------+ | FreeBSD 13.4 | PASS | SKIPPED | SKIPPED | SKIPPED | SKIPPED | SKIPPED | +---------------------+--------------------+------------------+-------------------+-------------------+-------------------------+----------------------+ | FreeBSD 14.2 | PASS | SKIPPED | SKIPPED | SKIPPED | SKIPPED | SKIPPED | +---------------------+--------------------+------------------+-------------------+-------------------+-------------------------+----------------------+ | Windows Server 2022 | SKIPPED | SKIPPED | SKIPPED | PASS | PASS | PASS | +---------------------+--------------------+------------------+-------------------+-------------------+-------------------------+----------------------+ CentOS Stream 9 Kernel: Depends on container host Compiler: gcc 11.5.0 20240719 (Red Hat 11.5.0-2) Fedora 40 (Clang) Kernel: Depends on container host Compiler: clang 18.1.8 (Fedora 18.1.8-1.fc40) Debian 12 Kernel: Depends on container host Compiler: gcc (Debian 12.2.0-14) 12.2.0 Debian Bullseye Kernel: Depends on container host Compiler: gcc (Debian 10.2.1-6) 10.2.1 20210110 Fedora 40 Kernel: Depends on container host Compiler: gcc 14.2.1 20240912 (Red Hat 14.2.1-3) Fedora 41 (Clang) Kernel: Depends on container host Compiler: clang 19.1.5 (Fedora 19.1.5-1.fc41) Fedora 41 Kernel: Depends on container host Compiler: gcc 14.2.1 20240912 (Red Hat 14.2.1-3) RHEL8 Kernel: Depends on container host Compiler: gcc 8.5.0 20210514 (Red Hat 8.5.0-22) openSUSE Leap 15 Kernel: Depends on container host Compiler: gcc (SUSE Linux) 7.5.0 RHEL9 Kernel: Depends on container host Compiler: gcc 11.5.0 20240719 (Red Hat 11.5.0-2) Ubuntu 20.04 Kernel: Depends on container host Compiler: gcc (Ubuntu 9.4.0-1ubuntu1~20.04.2) 9.4.0 Ubuntu 22.04 Kernel: Depends on container host Compiler: gcc (Ubuntu 11.4.0-1ubuntu1~22.04) 11.4.0 Ubuntu 24.04 Kernel: Depends on container host Compiler: gcc (Ubuntu 13.3.0-6ubuntu2~24.04) 13.3.0 Alpine Kernel: Depends on container host Compiler: gcc (Alpine 14.2.0) 14.2.0 FreeBSD 13.4 Kernel: 13.4-RELEASE-p1 Compiler: clang 18.1.6 FreeBSD 14.2 Kernel: 14.2-RELEASE Compiler: clang 18.1.6 Windows Server 2022 Kernel: 10.0.20348.2031 Compiler: clang 15.0.7, gcc 14.1.0 (MinGW), and MSVC VS 19.39.33521 To view detailed results, visit: https://lab.dpdk.org/results/dashboard/patchsets/32360/ UNH-IOL DPDK Community Lab To manage your email subscriptions, visit: https://lab.dpdk.org/results/dashboard/preferences/subscriptions/