From mboxrd@z Thu Jan 1 00:00:00 1970 Return-Path: Received: from mails.dpdk.org (mails.dpdk.org [217.70.189.124]) by inbox.dpdk.org (Postfix) with ESMTP id AE4E3461A0 for ; Wed, 5 Feb 2025 18:24:22 +0100 (CET) Received: from mails.dpdk.org (localhost [127.0.0.1]) by mails.dpdk.org (Postfix) with ESMTP id A834D402E4; Wed, 5 Feb 2025 18:24:22 +0100 (CET) Received: from mail-ua1-f97.google.com (mail-ua1-f97.google.com [209.85.222.97]) by mails.dpdk.org (Postfix) with ESMTP id 1D4B2402E0 for ; Wed, 5 Feb 2025 18:24:21 +0100 (CET) Received: by mail-ua1-f97.google.com with SMTP id a1e0cc1a2514c-866def1e9c1so567743241.0 for ; Wed, 05 Feb 2025 09:24:21 -0800 (PST) DKIM-Signature: v=1; a=rsa-sha256; c=relaxed/relaxed; d=iol.unh.edu; s=unh-iol; t=1738776260; x=1739381060; darn=dpdk.org; h=references:in-reply-to:cc:to:from:subject:message-id:date:from:to :cc:subject:date:message-id:reply-to; bh=p5ugXz4bpXX0mpes9R2T9cbIo3OqjThBqGCzre1TRQc=; b=W9HrTp0A6FYmovWA2HLs0UjoqnLy241BrDhV43+Qw9Hpq+hBHmHcGO6EbwmrxLqN1e 5OMidUWc8i/1xC8ILCLIGA1JDfKmqxRKtXQE0wkfTQUcswI+/mF1dmqA/sdY3wJBzS/X vcJdW6Lw6Z6x2LC9cnQmdPLjqfciP11kDWupQ= X-Google-DKIM-Signature: v=1; a=rsa-sha256; c=relaxed/relaxed; d=1e100.net; s=20230601; t=1738776260; x=1739381060; h=references:in-reply-to:cc:to:from:subject:message-id:date :x-gm-message-state:from:to:cc:subject:date:message-id:reply-to; bh=p5ugXz4bpXX0mpes9R2T9cbIo3OqjThBqGCzre1TRQc=; b=A+vnOalHEUSBE84l1YYslsv5yNSgYMTQS3rOxdUTY/ZYZshj+m9CBWM3mWxOihOJ3k SGRr2EnSCYd5BEUUht48M/UEQTG4jZFzCEl6pS6/FXckGrfMUIZPXtOAj/jcWK59n+he syI8p5ZXF3M9tcERKqI68B2+7uNp5c2pR6ije8DdNrmhhIxdf+BKAoBbUbqqEToOMHl7 9BANseREhQ4ofauVpJKQjVNgncFgbV84HgIBXctZfVgOqHH1BSwiE5LetTg85+wLmVrC cqxpzbJyw8kY20OU+wU/Ii/7ca9rj2m574OkEXV9SmiC/tLTV2BkTXUOQkn3SY6pdD8u uwTg== X-Gm-Message-State: AOJu0Yxmr6DiL/d8OF2ngAeGHMuOraLCKD0ytZW5RSOiTjxlOldnFnr8 JhM0NlA143M6yjsn4eIeCdG97D9la6YrNBEP8rM6sUW8dBmM0GiMz86Dp/7Zq32FI/5G3Ppwvgm ivwAf3rllNJyaavoUaFZUlsvYd1FQR2dmyLNi425Yv0RD0Tp1EIxIzb4H X-Gm-Gg: ASbGncujfWbDduJkqHsNoaRYdj3EApeRznZCndDQ7ObVWPk3hTV3Nu/fBXM5ye9R8bd K1+u6HGrSz59r8d+ZU6/mG1wnWFkuAfQ+aM9IANICAEXYVUvvlDZb4ig/JnTkQRGQ3ApKrLdsqD JpqYKtUPCgvsNrxhBFRpBTgae8ab10HoTS/dsB0IVRBOh1XZ9FC80KbtVgh8RTOm2XAoOzMtrLh GCTkJoBrNgv4wfud/b9RANKb+VwFN/G742AOL4LT1Sr8ToYUA0y3HJkjDJzG/2NVko3T1IxU/bD dPPdDZUyFfSkDyWUYM8ZxNoU5CXYbVDLxu/djy9jNw== X-Google-Smtp-Source: AGHT+IEwJbc1K6sCmptv1t1mYbWNTtZoHF5j8bjsUYxkgUzG0pvmSa0UqlxPxsAFY8D5vr8opS+tXLKlccbM X-Received: by 2002:a05:6102:4bc7:b0:4b1:3409:5dcd with SMTP id ada2fe7eead31-4ba47a6b67emr2657470137.20.1738776260439; Wed, 05 Feb 2025 09:24:20 -0800 (PST) Received: from postal.iol.unh.edu (postal.iol.unh.edu. [2606:4100:3880:1234::84]) by smtp-relay.gmail.com with ESMTPS id a1e0cc1a2514c-86693f62eaasm200898241.0.2025.02.05.09.24.20 (version=TLS1_2 cipher=ECDHE-ECDSA-AES128-GCM-SHA256 bits=128/128); Wed, 05 Feb 2025 09:24:20 -0800 (PST) X-Relaying-Domain: iol.unh.edu Date: Wed, 05 Feb 2025 09:24:20 -0800 (PST) Message-ID: <67a39ec4.050a0220.34165b.95abSMTPIN_ADDED_MISSING@mx.google.com> Received: from [172.21.0.15] (unknown [172.18.0.240]) by postal.iol.unh.edu (Postfix) with ESMTP id EDABE6052471; Wed, 5 Feb 2025 12:24:19 -0500 (EST) Subject: |SUCCESS| pw150122-150136 [PATCH] [v7,15/15] net/zxdh: mtu update op From: dpdklab@iol.unh.edu To: Test Report Cc: dpdk-test-reports@iol.unh.edu In-Reply-To: <20250116021100.2767122-16-wang.junlong1@zte.com.cn> References: <20250116021100.2767122-16-wang.junlong1@zte.com.cn> Content-Type: text/plain X-BeenThere: test-report@dpdk.org X-Mailman-Version: 2.1.29 Precedence: list List-Id: automatic DPDK test reports List-Unsubscribe: , List-Archive: List-Post: List-Help: List-Subscribe: , Errors-To: test-report-bounces@dpdk.org Test-Label: iol-compile-amd64-testing Test-Status: SUCCESS http://dpdk.org/patch/150136 _Testing PASS_ Submitter: Junlong Wang Date: Thursday, January 16 2025 02:11:00 DPDK git baseline: Repo:dpdk Branch: master CommitID:167adc84d05c732af3c47dd569f152fa4ba234d6 150122-150136 --> testing pass Test environment and result as below: +---------------------+--------------------+------------------+-------------------+-------------------+-------------------------+----------------------+ | Environment | dpdk_meson_compile | dpdk_compile_ovs | dpdk_compile_spdk | dpdk_msvc_compile | dpdk_llvm_clang_compile | dpdk_mingw64_compile | +=====================+====================+==================+===================+===================+=========================+======================+ | CentOS Stream 9 | PASS | PASS | PASS | SKIPPED | SKIPPED | SKIPPED | +---------------------+--------------------+------------------+-------------------+-------------------+-------------------------+----------------------+ | Debian Bullseye | PASS | PASS | PASS | SKIPPED | SKIPPED | SKIPPED | +---------------------+--------------------+------------------+-------------------+-------------------+-------------------------+----------------------+ | Debian 12 | PASS | PASS | PASS | SKIPPED | SKIPPED | SKIPPED | +---------------------+--------------------+------------------+-------------------+-------------------+-------------------------+----------------------+ | Fedora 40 (Clang) | PASS | PASS | PASS | SKIPPED | SKIPPED | SKIPPED | +---------------------+--------------------+------------------+-------------------+-------------------+-------------------------+----------------------+ | Fedora 40 | PASS | PASS | PASS | SKIPPED | SKIPPED | SKIPPED | +---------------------+--------------------+------------------+-------------------+-------------------+-------------------------+----------------------+ | Fedora 41 (Clang) | PASS | PASS | PASS | SKIPPED | SKIPPED | SKIPPED | +---------------------+--------------------+------------------+-------------------+-------------------+-------------------------+----------------------+ | openSUSE Leap 15 | PASS | SKIPPED | SKIPPED | SKIPPED | SKIPPED | SKIPPED | +---------------------+--------------------+------------------+-------------------+-------------------+-------------------------+----------------------+ | Fedora 41 | PASS | PASS | PASS | SKIPPED | SKIPPED | SKIPPED | +---------------------+--------------------+------------------+-------------------+-------------------+-------------------------+----------------------+ | RHEL8 | PASS | PASS | SKIPPED | SKIPPED | SKIPPED | SKIPPED | +---------------------+--------------------+------------------+-------------------+-------------------+-------------------------+----------------------+ | RHEL9 | PASS | PASS | SKIPPED | SKIPPED | SKIPPED | SKIPPED | +---------------------+--------------------+------------------+-------------------+-------------------+-------------------------+----------------------+ | Ubuntu 20.04 | PASS | SKIPPED | SKIPPED | SKIPPED | SKIPPED | SKIPPED | +---------------------+--------------------+------------------+-------------------+-------------------+-------------------------+----------------------+ | Ubuntu 22.04 | PASS | PASS | PASS | SKIPPED | SKIPPED | SKIPPED | +---------------------+--------------------+------------------+-------------------+-------------------+-------------------------+----------------------+ | Ubuntu 24.04 | PASS | PASS | PASS | SKIPPED | SKIPPED | SKIPPED | +---------------------+--------------------+------------------+-------------------+-------------------+-------------------------+----------------------+ | Alpine | PASS | PASS | SKIPPED | SKIPPED | SKIPPED | SKIPPED | +---------------------+--------------------+------------------+-------------------+-------------------+-------------------------+----------------------+ | FreeBSD 13.4 | PASS | SKIPPED | SKIPPED | SKIPPED | SKIPPED | SKIPPED | +---------------------+--------------------+------------------+-------------------+-------------------+-------------------------+----------------------+ | FreeBSD 14.2 | PASS | SKIPPED | SKIPPED | SKIPPED | SKIPPED | SKIPPED | +---------------------+--------------------+------------------+-------------------+-------------------+-------------------------+----------------------+ | Windows Server 2022 | SKIPPED | SKIPPED | SKIPPED | PASS | PASS | PASS | +---------------------+--------------------+------------------+-------------------+-------------------+-------------------------+----------------------+ CentOS Stream 9 Kernel: Depends on container host Compiler: gcc 11.5.0 20240719 (Red Hat 11.5.0-2) Debian Bullseye Kernel: Depends on container host Compiler: gcc (Debian 10.2.1-6) 10.2.1 20210110 Debian 12 Kernel: Depends on container host Compiler: gcc (Debian 12.2.0-14) 12.2.0 Fedora 40 (Clang) Kernel: Depends on container host Compiler: clang 18.1.8 (Fedora 18.1.8-1.fc40) Fedora 40 Kernel: Depends on container host Compiler: gcc 14.2.1 20240912 (Red Hat 14.2.1-3) Fedora 41 (Clang) Kernel: Depends on container host Compiler: clang 19.1.5 (Fedora 19.1.5-1.fc41) openSUSE Leap 15 Kernel: Depends on container host Compiler: gcc (SUSE Linux) 7.5.0 Fedora 41 Kernel: Depends on container host Compiler: gcc 14.2.1 20240912 (Red Hat 14.2.1-3) RHEL8 Kernel: Depends on container host Compiler: gcc 8.5.0 20210514 (Red Hat 8.5.0-22) RHEL9 Kernel: Depends on container host Compiler: gcc 11.5.0 20240719 (Red Hat 11.5.0-2) Ubuntu 20.04 Kernel: Depends on container host Compiler: gcc (Ubuntu 9.4.0-1ubuntu1~20.04.2) 9.4.0 Ubuntu 22.04 Kernel: Depends on container host Compiler: gcc (Ubuntu 11.4.0-1ubuntu1~22.04) 11.4.0 Ubuntu 24.04 Kernel: Depends on container host Compiler: gcc (Ubuntu 13.3.0-6ubuntu2~24.04) 13.3.0 Alpine Kernel: Depends on container host Compiler: gcc (Alpine 14.2.0) 14.2.0 FreeBSD 13.4 Kernel: 13.4-RELEASE-p1 Compiler: clang 18.1.6 FreeBSD 14.2 Kernel: 14.2-RELEASE Compiler: clang 18.1.6 Windows Server 2022 Kernel: 10.0.20348.2031 Compiler: clang 15.0.7, gcc 14.1.0 (MinGW), and MSVC VS 19.39.33521 To view detailed results, visit: https://lab.dpdk.org/results/dashboard/patchsets/32339/ UNH-IOL DPDK Community Lab To manage your email subscriptions, visit: https://lab.dpdk.org/results/dashboard/preferences/subscriptions/