From mboxrd@z Thu Jan 1 00:00:00 1970 Return-Path: Received: from mails.dpdk.org (mails.dpdk.org [217.70.189.124]) by inbox.dpdk.org (Postfix) with ESMTP id C42C6461A0 for ; Wed, 5 Feb 2025 18:24:37 +0100 (CET) Received: from mails.dpdk.org (localhost [127.0.0.1]) by mails.dpdk.org (Postfix) with ESMTP id BFB8F402E4; Wed, 5 Feb 2025 18:24:37 +0100 (CET) Received: from mail-yw1-f225.google.com (mail-yw1-f225.google.com [209.85.128.225]) by mails.dpdk.org (Postfix) with ESMTP id 4FE91402E0 for ; Wed, 5 Feb 2025 18:24:36 +0100 (CET) Received: by mail-yw1-f225.google.com with SMTP id 00721157ae682-6f47ed1f40dso223887b3.1 for ; Wed, 05 Feb 2025 09:24:36 -0800 (PST) DKIM-Signature: v=1; a=rsa-sha256; c=relaxed/relaxed; d=iol.unh.edu; s=unh-iol; t=1738776275; x=1739381075; darn=dpdk.org; h=references:in-reply-to:cc:to:from:subject:message-id:date:from:to :cc:subject:date:message-id:reply-to; bh=U/d7Dfg7iMl7jFCnfpOdoaKHeNgQFpIkc1/j6F4OdGI=; b=MBQR+lT7vFxQV39P2Y8hyPKUzLuCMRV9BrCbVKcd43puiuuEiq4YSWtzhNVpc2Fc88 a7xUqazfhShdbLxX4sMhqZ43pNu/rsdVFVepcJJa+fryx3pOdzWESv8yiiNQu2FNbxIo Jy0sfga7WGas2c2bkeewZhoI7hPPbQM07hmos= X-Google-DKIM-Signature: v=1; a=rsa-sha256; c=relaxed/relaxed; d=1e100.net; s=20230601; t=1738776275; x=1739381075; h=references:in-reply-to:cc:to:from:subject:message-id:date :x-gm-message-state:from:to:cc:subject:date:message-id:reply-to; bh=U/d7Dfg7iMl7jFCnfpOdoaKHeNgQFpIkc1/j6F4OdGI=; b=JW/ClBvZ4AYnBmiWdZWAowDqrfM7TALliBvG9w7LDAmIlGd+h0RFe6mx9iX64qCpWy +awFuSotwIL6ssMmhkaZX6Ja4twrZSP9KZanfCINQkQfVO8A34fT73+seFBlEeT9UOQU lvhYFaKR9W0k0nervnDKiZavYzIWNKu7yXpzmSSB9rmiVxLWpiiE61ORnJi8bn4uHmLw B5ChsV8wPUaGHD6lIlZWFDKqF6HHNdPlJbKhBY6lfHgn9wZq4ywHv0y93qeZbIo9vPkr +qSIloSM+7Y+KDoSRxzoYvXixaA8Vo1y8r1rRSpJKZW+DKER5QRBRz7XjEoSoPjofi9s gdIg== X-Gm-Message-State: AOJu0YxIZhCGRgq6/rCHrnVSWsTNRFAU7SAZrZUR7HfOqtgnmXXLQLLp XKhFpD1hAwuMBQo63BRpWPU2s3vj+1lDlVtW7mPvK3C3EjqzNjYcLpbQJc5twM6muhcatZ7mWBu 6loIi3ilQAb6a3ImAExkqea4w6QaDzFpLXXwrGwmnFO+N1fw4Wr5cK9LK X-Gm-Gg: ASbGncvJBQuJdTE3CK88zMhspNRCQhkPhhJR2kcX17l3rGlRSSlL+txP1IGnGuKo98/ PF/MfODC68aWB8Vpv6tam10CAEs21BB/+lw+pGQ1Els9cp7I7DgPaXFejyWiAajLyx4QxLH35KV WFARwiSSJFHmb/EQHcVMNL9XzN+7PN/KxjvASA0nZo1JrROlunsOTVO+OF/WaAdp4PbRWPr3aQM gy9iV65gUAmJGBJY9+F3+MDAHkyIAWeWEI7NxK1m/Ke6RNCQGRjKHhXRvy0jZDIVcBwQVUVZnEn 3RwhAZS+S+AMqLqbXmtjEDYC7k/7boD9hvbOtA+J4g== X-Google-Smtp-Source: AGHT+IGxEgacIIVF8e84AK4RkPO1Zz2mrAQINqXQW6a9R40x4k6+JeGeLyIfR8qWaB3eLlXvxk20wIqz8GFz X-Received: by 2002:a05:690c:6f8d:b0:6f7:ae0e:a70d with SMTP id 00721157ae682-6f989f9ed17mr30780717b3.38.1738776275719; Wed, 05 Feb 2025 09:24:35 -0800 (PST) Received: from postal.iol.unh.edu (postal.iol.unh.edu. [2606:4100:3880:1234::84]) by smtp-relay.gmail.com with ESMTPS id 00721157ae682-6f8c47c91eesm11251467b3.39.2025.02.05.09.24.35 (version=TLS1_2 cipher=ECDHE-ECDSA-AES128-GCM-SHA256 bits=128/128); Wed, 05 Feb 2025 09:24:35 -0800 (PST) X-Relaying-Domain: iol.unh.edu Date: Wed, 05 Feb 2025 09:24:35 -0800 (PST) Message-ID: <67a39ed3.0d0a0220.19a055.7dbaSMTPIN_ADDED_MISSING@mx.google.com> Received: from [172.17.0.4] (unknown [172.18.0.57]) by postal.iol.unh.edu (Postfix) with ESMTP id 65EC36052471; Wed, 5 Feb 2025 12:24:35 -0500 (EST) Subject: |SUCCESS| pw150408-150409 [PATCH] [v4,2/2] net/cnxk: support rte flo From: dpdklab@iol.unh.edu To: Test Report Cc: dpdk-test-reports@iol.unh.edu In-Reply-To: <20250123055247.3784086-2-psatheesh@marvell.com> References: <20250123055247.3784086-2-psatheesh@marvell.com> Content-Type: text/plain X-BeenThere: test-report@dpdk.org X-Mailman-Version: 2.1.29 Precedence: list List-Id: automatic DPDK test reports List-Unsubscribe: , List-Archive: List-Post: List-Help: List-Subscribe: , Errors-To: test-report-bounces@dpdk.org Test-Label: iol-compile-amd64-testing Test-Status: SUCCESS http://dpdk.org/patch/150409 _Testing PASS_ Submitter: Satheesh Paul Antonysamy Date: Thursday, January 23 2025 05:52:47 DPDK git baseline: Repo:dpdk Branch: master CommitID:ccde23ae1da8b7695489e7122921943ebf20160d 150408-150409 --> testing pass Test environment and result as below: +---------------------+--------------------+-------------------+------------------+-------------------+-------------------------+----------------------+ | Environment | dpdk_meson_compile | dpdk_msvc_compile | dpdk_compile_ovs | dpdk_compile_spdk | dpdk_llvm_clang_compile | dpdk_mingw64_compile | +=====================+====================+===================+==================+===================+=========================+======================+ | FreeBSD 13.4 | PASS | SKIPPED | SKIPPED | SKIPPED | SKIPPED | SKIPPED | +---------------------+--------------------+-------------------+------------------+-------------------+-------------------------+----------------------+ | FreeBSD 14.2 | PASS | SKIPPED | SKIPPED | SKIPPED | SKIPPED | SKIPPED | +---------------------+--------------------+-------------------+------------------+-------------------+-------------------------+----------------------+ | CentOS Stream 9 | PASS | SKIPPED | PASS | PASS | SKIPPED | SKIPPED | +---------------------+--------------------+-------------------+------------------+-------------------+-------------------------+----------------------+ | Debian Bullseye | PASS | SKIPPED | PASS | PASS | SKIPPED | SKIPPED | +---------------------+--------------------+-------------------+------------------+-------------------+-------------------------+----------------------+ | Fedora 40 | PASS | SKIPPED | PASS | PASS | SKIPPED | SKIPPED | +---------------------+--------------------+-------------------+------------------+-------------------+-------------------------+----------------------+ | Fedora 41 (Clang) | PASS | SKIPPED | PASS | PASS | SKIPPED | SKIPPED | +---------------------+--------------------+-------------------+------------------+-------------------+-------------------------+----------------------+ | Fedora 41 | PASS | SKIPPED | PASS | PASS | SKIPPED | SKIPPED | +---------------------+--------------------+-------------------+------------------+-------------------+-------------------------+----------------------+ | openSUSE Leap 15 | PASS | SKIPPED | SKIPPED | SKIPPED | SKIPPED | SKIPPED | +---------------------+--------------------+-------------------+------------------+-------------------+-------------------------+----------------------+ | RHEL8 | PASS | SKIPPED | PASS | SKIPPED | SKIPPED | SKIPPED | +---------------------+--------------------+-------------------+------------------+-------------------+-------------------------+----------------------+ | RHEL9 | PASS | SKIPPED | PASS | SKIPPED | SKIPPED | SKIPPED | +---------------------+--------------------+-------------------+------------------+-------------------+-------------------------+----------------------+ | Ubuntu 20.04 | PASS | SKIPPED | SKIPPED | SKIPPED | SKIPPED | SKIPPED | +---------------------+--------------------+-------------------+------------------+-------------------+-------------------------+----------------------+ | Ubuntu 22.04 | PASS | SKIPPED | PASS | PASS | SKIPPED | SKIPPED | +---------------------+--------------------+-------------------+------------------+-------------------+-------------------------+----------------------+ | Ubuntu 24.04 | PASS | SKIPPED | PASS | PASS | SKIPPED | SKIPPED | +---------------------+--------------------+-------------------+------------------+-------------------+-------------------------+----------------------+ | Alpine | PASS | SKIPPED | PASS | SKIPPED | SKIPPED | SKIPPED | +---------------------+--------------------+-------------------+------------------+-------------------+-------------------------+----------------------+ | Debian 12 | PASS | SKIPPED | PASS | PASS | SKIPPED | SKIPPED | +---------------------+--------------------+-------------------+------------------+-------------------+-------------------------+----------------------+ | Windows Server 2022 | SKIPPED | PASS | SKIPPED | SKIPPED | PASS | PASS | +---------------------+--------------------+-------------------+------------------+-------------------+-------------------------+----------------------+ FreeBSD 13.4 Kernel: 13.4-RELEASE-p1 Compiler: clang 18.1.6 FreeBSD 14.2 Kernel: 14.2-RELEASE Compiler: clang 18.1.6 CentOS Stream 9 Kernel: Depends on container host Compiler: gcc 11.5.0 20240719 (Red Hat 11.5.0-2) Debian Bullseye Kernel: Depends on container host Compiler: gcc (Debian 10.2.1-6) 10.2.1 20210110 Fedora 40 Kernel: Depends on container host Compiler: gcc 14.2.1 20240912 (Red Hat 14.2.1-3) Fedora 41 (Clang) Kernel: Depends on container host Compiler: clang 19.1.5 (Fedora 19.1.5-1.fc41) Fedora 41 Kernel: Depends on container host Compiler: gcc 14.2.1 20240912 (Red Hat 14.2.1-3) openSUSE Leap 15 Kernel: Depends on container host Compiler: gcc (SUSE Linux) 7.5.0 RHEL8 Kernel: Depends on container host Compiler: gcc 8.5.0 20210514 (Red Hat 8.5.0-22) RHEL9 Kernel: Depends on container host Compiler: gcc 11.5.0 20240719 (Red Hat 11.5.0-2) Ubuntu 20.04 Kernel: Depends on container host Compiler: gcc (Ubuntu 9.4.0-1ubuntu1~20.04.2) 9.4.0 Ubuntu 22.04 Kernel: Depends on container host Compiler: gcc (Ubuntu 11.4.0-1ubuntu1~22.04) 11.4.0 Ubuntu 24.04 Kernel: Depends on container host Compiler: gcc (Ubuntu 13.3.0-6ubuntu2~24.04) 13.3.0 Alpine Kernel: Depends on container host Compiler: gcc (Alpine 14.2.0) 14.2.0 Debian 12 Kernel: Depends on container host Compiler: gcc (Debian 12.2.0-14) 12.2.0 Windows Server 2022 Kernel: 10.0.20348.2031 Compiler: clang 15.0.7, gcc 14.1.0 (MinGW), and MSVC VS 19.39.33521 To view detailed results, visit: https://lab.dpdk.org/results/dashboard/patchsets/32401/ UNH-IOL DPDK Community Lab To manage your email subscriptions, visit: https://lab.dpdk.org/results/dashboard/preferences/subscriptions/