From mboxrd@z Thu Jan 1 00:00:00 1970 Return-Path: Received: from mails.dpdk.org (mails.dpdk.org [217.70.189.124]) by inbox.dpdk.org (Postfix) with ESMTP id E5AB1461A0 for ; Wed, 5 Feb 2025 18:24:41 +0100 (CET) Received: from mails.dpdk.org (localhost [127.0.0.1]) by mails.dpdk.org (Postfix) with ESMTP id E1EF0402E4; Wed, 5 Feb 2025 18:24:41 +0100 (CET) Received: from mail-il1-f228.google.com (mail-il1-f228.google.com [209.85.166.228]) by mails.dpdk.org (Postfix) with ESMTP id 605AF402E0 for ; Wed, 5 Feb 2025 18:24:39 +0100 (CET) Received: by mail-il1-f228.google.com with SMTP id e9e14a558f8ab-3a9cdcec53fso47607735ab.1 for ; Wed, 05 Feb 2025 09:24:39 -0800 (PST) DKIM-Signature: v=1; a=rsa-sha256; c=relaxed/relaxed; d=iol.unh.edu; s=unh-iol; t=1738776278; x=1739381078; darn=dpdk.org; h=references:in-reply-to:cc:to:from:subject:message-id:date:from:to :cc:subject:date:message-id:reply-to; bh=IC2qSs3FijG7LG8w8fNg+/12FGFAlk1HI/xsM7LOxhQ=; b=GYSd3BTRHt06Pdw3/qoBUjZpVCLXYyKWPraSkXCQvLv4cicMs/ETpFv7C95Odi7Gj8 8aXC3PFiRqKEHiuB8jsNGo3YshJduJlA/RVrgX4EyMWWHONMQk78FlXIF7MrQ88M1/HR sUXSNRhC7G8rr5HxmT94tlRM9EFP4IOYaPHnw= X-Google-DKIM-Signature: v=1; a=rsa-sha256; c=relaxed/relaxed; d=1e100.net; s=20230601; t=1738776278; x=1739381078; h=references:in-reply-to:cc:to:from:subject:message-id:date :x-gm-message-state:from:to:cc:subject:date:message-id:reply-to; bh=IC2qSs3FijG7LG8w8fNg+/12FGFAlk1HI/xsM7LOxhQ=; b=Mv8NEroaJ5L/s/XDd8H1JMRrdoOyRwT2v3wFhWgO6e2CsBqeCd612zmOjFE4Khb21K HjYQ5oOoB4bZVfVB8FXJYdgoDb9AbqCOCc/LjhSHEke1sO+DVkWA+IAGkW2vGTVePQlV 6/kqOWcbOxkXV1YLmGsJyhbH0AcmOYMcyJPIy7DR6cF0JLs2tRGtoi5Gx+IBf9IwFcdW 4V2uvnbYpyHz969lZOy0DNHUlHOaXhANdg1HJhK2MaftT7DnPf4DH55uNkw8qPxSVQ9j Ifjpz1Bxash1zB4OZ7h/WlJ7Bcv2jRgj8BVpOHsOScLciEOX+O0wDyQOPjyDiYq3QpRl tWNA== X-Gm-Message-State: AOJu0Yz8hKOn0/behfRArI/rzVuyCE1tU9GQ685KdWXW2yqnajtygXvE PNUJ/uxAcgVio5CbsREGJVOBfkEFyXXBrbrQt/FArBU+eyCDSKHpfx1ah12/KA+CeszodSgb/Uc WMtsCw7GhJ046djy1DgVWdCqWGoizM/PsMo+H+4ztU2LYbIqkpRhSoSCF X-Gm-Gg: ASbGnctQ5vKipFmz6Zd+CePB6PoFgCo+IfRuHvAdYJvVzEERsRQGj2cZY0xHy2m+vjJ mGaqAylJA7ijYdAU/axyCZm78JVAVjyBVxMG4P15MudNOj3K206UPGwrHImMhAY2qpbjYDkOLFi yVluJa65Fb+2QAtGSla+3p0UsxdPU8eufzVvWfFDmezsjp4J8CVBrxv94LYCu6X7Zkrq1U7w7H7 9cBZt5qpxwVgl8DD7bKfx0sVkYLIvF9bwtWOiG/MrdJ4cSG2tWJ02qbocm7UnDUfcp0sB5+RSVg JgEeY+kGUVvxRhMT9a2tTJCktIblfeGOphv62JO7Bg== X-Google-Smtp-Source: AGHT+IF9G0dhnNPy3KwV0ceP3ClwKdzv7lUxPg3BWKy1ENj0frncvm2C6iZrbbgi/qUevUCYqegkbRyRU2Uu X-Received: by 2002:a05:6e02:1c84:b0:3cf:bb7d:ac13 with SMTP id e9e14a558f8ab-3d04f3fd9femr39341385ab.1.1738776278715; Wed, 05 Feb 2025 09:24:38 -0800 (PST) Received: from postal.iol.unh.edu (postal.iol.unh.edu. [2606:4100:3880:1234::84]) by smtp-relay.gmail.com with ESMTPS id 8926c6da1cb9f-4ec7469eb36sm850194173.49.2025.02.05.09.24.38 (version=TLS1_2 cipher=ECDHE-ECDSA-AES128-GCM-SHA256 bits=128/128); Wed, 05 Feb 2025 09:24:38 -0800 (PST) X-Relaying-Domain: iol.unh.edu Date: Wed, 05 Feb 2025 09:24:38 -0800 (PST) Message-ID: <67a39ed6.050a0220.320e38.89d9SMTPIN_ADDED_MISSING@mx.google.com> Received: from [172.21.0.16] (unknown [172.18.0.240]) by postal.iol.unh.edu (Postfix) with ESMTP id 3BF796052472; Wed, 5 Feb 2025 12:24:38 -0500 (EST) Subject: |SUCCESS| pw150112 [PATCH] [v2] dts: fix pass rate edge case in resu From: dpdklab@iol.unh.edu To: Test Report Cc: dpdk-test-reports@iol.unh.edu In-Reply-To: <20250115154345.23790-1-dmarx@iol.unh.edu> References: <20250115154345.23790-1-dmarx@iol.unh.edu> Content-Type: text/plain X-BeenThere: test-report@dpdk.org X-Mailman-Version: 2.1.29 Precedence: list List-Id: automatic DPDK test reports List-Unsubscribe: , List-Archive: List-Post: List-Help: List-Subscribe: , Errors-To: test-report-bounces@dpdk.org Test-Label: iol-compile-amd64-testing Test-Status: SUCCESS http://dpdk.org/patch/150112 _Testing PASS_ Submitter: Dean Marx Date: Wednesday, January 15 2025 15:43:45 DPDK git baseline: Repo:dpdk Branch: master CommitID:154303b06ab29e040000f0536961601d952e2974 150112 --> testing pass Test environment and result as below: +---------------------+--------------------+------------------+-------------------+-------------------+-------------------------+----------------------+ | Environment | dpdk_meson_compile | dpdk_compile_ovs | dpdk_compile_spdk | dpdk_msvc_compile | dpdk_llvm_clang_compile | dpdk_mingw64_compile | +=====================+====================+==================+===================+===================+=========================+======================+ | CentOS Stream 9 | PASS | PASS | PASS | SKIPPED | SKIPPED | SKIPPED | +---------------------+--------------------+------------------+-------------------+-------------------+-------------------------+----------------------+ | Debian Bullseye | PASS | PASS | PASS | SKIPPED | SKIPPED | SKIPPED | +---------------------+--------------------+------------------+-------------------+-------------------+-------------------------+----------------------+ | Debian 12 | PASS | PASS | PASS | SKIPPED | SKIPPED | SKIPPED | +---------------------+--------------------+------------------+-------------------+-------------------+-------------------------+----------------------+ | Fedora 41 (Clang) | PASS | PASS | PASS | SKIPPED | SKIPPED | SKIPPED | +---------------------+--------------------+------------------+-------------------+-------------------+-------------------------+----------------------+ | RHEL9 | PASS | PASS | SKIPPED | SKIPPED | SKIPPED | SKIPPED | +---------------------+--------------------+------------------+-------------------+-------------------+-------------------------+----------------------+ | Fedora 41 | PASS | PASS | PASS | SKIPPED | SKIPPED | SKIPPED | +---------------------+--------------------+------------------+-------------------+-------------------+-------------------------+----------------------+ | Fedora 40 (Clang) | PASS | PASS | PASS | SKIPPED | SKIPPED | SKIPPED | +---------------------+--------------------+------------------+-------------------+-------------------+-------------------------+----------------------+ | Fedora 40 | PASS | PASS | PASS | SKIPPED | SKIPPED | SKIPPED | +---------------------+--------------------+------------------+-------------------+-------------------+-------------------------+----------------------+ | RHEL8 | PASS | PASS | SKIPPED | SKIPPED | SKIPPED | SKIPPED | +---------------------+--------------------+------------------+-------------------+-------------------+-------------------------+----------------------+ | openSUSE Leap 15 | PASS | SKIPPED | SKIPPED | SKIPPED | SKIPPED | SKIPPED | +---------------------+--------------------+------------------+-------------------+-------------------+-------------------------+----------------------+ | Ubuntu 22.04 | PASS | PASS | PASS | SKIPPED | SKIPPED | SKIPPED | +---------------------+--------------------+------------------+-------------------+-------------------+-------------------------+----------------------+ | Ubuntu 20.04 | PASS | SKIPPED | SKIPPED | SKIPPED | SKIPPED | SKIPPED | +---------------------+--------------------+------------------+-------------------+-------------------+-------------------------+----------------------+ | Ubuntu 24.04 | PASS | PASS | PASS | SKIPPED | SKIPPED | SKIPPED | +---------------------+--------------------+------------------+-------------------+-------------------+-------------------------+----------------------+ | Alpine | PASS | PASS | SKIPPED | SKIPPED | SKIPPED | SKIPPED | +---------------------+--------------------+------------------+-------------------+-------------------+-------------------------+----------------------+ | FreeBSD 13.4 | PASS | SKIPPED | SKIPPED | SKIPPED | SKIPPED | SKIPPED | +---------------------+--------------------+------------------+-------------------+-------------------+-------------------------+----------------------+ | FreeBSD 14.2 | PASS | SKIPPED | SKIPPED | SKIPPED | SKIPPED | SKIPPED | +---------------------+--------------------+------------------+-------------------+-------------------+-------------------------+----------------------+ | Windows Server 2022 | SKIPPED | SKIPPED | SKIPPED | PASS | PASS | PASS | +---------------------+--------------------+------------------+-------------------+-------------------+-------------------------+----------------------+ CentOS Stream 9 Kernel: Depends on container host Compiler: gcc 11.5.0 20240719 (Red Hat 11.5.0-2) Debian Bullseye Kernel: Depends on container host Compiler: gcc (Debian 10.2.1-6) 10.2.1 20210110 Debian 12 Kernel: Depends on container host Compiler: gcc (Debian 12.2.0-14) 12.2.0 Fedora 41 (Clang) Kernel: Depends on container host Compiler: clang 19.1.5 (Fedora 19.1.5-1.fc41) RHEL9 Kernel: Depends on container host Compiler: gcc 11.5.0 20240719 (Red Hat 11.5.0-2) Fedora 41 Kernel: Depends on container host Compiler: gcc 14.2.1 20240912 (Red Hat 14.2.1-3) Fedora 40 (Clang) Kernel: Depends on container host Compiler: clang 18.1.8 (Fedora 18.1.8-1.fc40) Fedora 40 Kernel: Depends on container host Compiler: gcc 14.2.1 20240912 (Red Hat 14.2.1-3) RHEL8 Kernel: Depends on container host Compiler: gcc 8.5.0 20210514 (Red Hat 8.5.0-22) openSUSE Leap 15 Kernel: Depends on container host Compiler: gcc (SUSE Linux) 7.5.0 Ubuntu 22.04 Kernel: Depends on container host Compiler: gcc (Ubuntu 11.4.0-1ubuntu1~22.04) 11.4.0 Ubuntu 20.04 Kernel: Depends on container host Compiler: gcc (Ubuntu 9.4.0-1ubuntu1~20.04.2) 9.4.0 Ubuntu 24.04 Kernel: Depends on container host Compiler: gcc (Ubuntu 13.3.0-6ubuntu2~24.04) 13.3.0 Alpine Kernel: Depends on container host Compiler: gcc (Alpine 14.2.0) 14.2.0 FreeBSD 13.4 Kernel: 13.4-RELEASE-p1 Compiler: clang 18.1.6 FreeBSD 14.2 Kernel: 14.2-RELEASE Compiler: clang 18.1.6 Windows Server 2022 Kernel: 10.0.20348.2031 Compiler: clang 15.0.7, gcc 14.1.0 (MinGW), and MSVC VS 19.39.33521 To view detailed results, visit: https://lab.dpdk.org/results/dashboard/patchsets/32333/ UNH-IOL DPDK Community Lab To manage your email subscriptions, visit: https://lab.dpdk.org/results/dashboard/preferences/subscriptions/