From mboxrd@z Thu Jan 1 00:00:00 1970 Return-Path: Received: from mails.dpdk.org (mails.dpdk.org [217.70.189.124]) by inbox.dpdk.org (Postfix) with ESMTP id D5AF0461A0 for ; Wed, 5 Feb 2025 18:24:39 +0100 (CET) Received: from mails.dpdk.org (localhost [127.0.0.1]) by mails.dpdk.org (Postfix) with ESMTP id CFB54402E4; Wed, 5 Feb 2025 18:24:39 +0100 (CET) Received: from mail-yb1-f228.google.com (mail-yb1-f228.google.com [209.85.219.228]) by mails.dpdk.org (Postfix) with ESMTP id DCA48402E0 for ; Wed, 5 Feb 2025 18:24:38 +0100 (CET) Received: by mail-yb1-f228.google.com with SMTP id 3f1490d57ef6-e3983426f80so6121667276.1 for ; Wed, 05 Feb 2025 09:24:38 -0800 (PST) DKIM-Signature: v=1; a=rsa-sha256; c=relaxed/relaxed; d=iol.unh.edu; s=unh-iol; t=1738776278; x=1739381078; darn=dpdk.org; h=references:in-reply-to:cc:to:from:subject:message-id:date:from:to :cc:subject:date:message-id:reply-to; bh=BXFVY9OcAVhpm+BXt5x5JAmdWWXrOxOLEGpWM3Wi7e4=; b=Ql5pbSzJQHdvJ+8/5K5JGHXUmFGmE6SYTYgS7c8yxZghRNlES+Eoz6iGHtsqKyNC+Z FDaqHITyaMLj24gWZtzsENy6cG5zJ/LtbAHz8qrOzqgA6Q5l6a8H4coBPPlHBxUZ37bO pDAaiqko7xBNor5KsRZwfVVltd6NIp0jwwwms= X-Google-DKIM-Signature: v=1; a=rsa-sha256; c=relaxed/relaxed; d=1e100.net; s=20230601; t=1738776278; x=1739381078; h=references:in-reply-to:cc:to:from:subject:message-id:date :x-gm-message-state:from:to:cc:subject:date:message-id:reply-to; bh=BXFVY9OcAVhpm+BXt5x5JAmdWWXrOxOLEGpWM3Wi7e4=; b=lm+bfJdETDDxkRWJiClGeiQsq2/00p6R/LAiffScSV2R+KUmJi6dawgnHUp+FW0uKk VNlR9jtCVsMgox3jvPsTa0c87c9s+PdX57XTV8ce3U5Z/jT/aTaM9IJsFHx9B6wT2Fhz RWrPD/RRAI48vX4/hQwftau1JDBuyE4yFZYf90PBWVDcg6y6rYvSRmC+g++lWNch1spM PHkW8RhCWj1bdru5Lhsh1jxZDF2Q1IkxPIDv5FPZKDYkJMqsdIBPY6puxwaNVJXpaoBC 6l1wQS7yeMZNLHmpYv7oQ62wMbQVikIkWw7DBOf7TeRJBibNzmH/iBc61ILE5Uwh5mrj 6CsA== X-Gm-Message-State: AOJu0YwsTOyJvqm+z6mtP7rUSPMYLUkCOXUDJEgv/ZjVJIBY+3uT7oSl l4EvESwbBi2NSFYUwuWnLAUi8IyA5hU2kjNoFwR1ijoA9emUQfI0NQQEwi/9966pDwPofybp4Q+ AQ9ZeV1JNLCPtD35sOG+EdWQ+hKWXTqcVLQby/TPuGN+WWBk24t9b1Da2 X-Gm-Gg: ASbGncu7WUJ/16fUmzSn8+QWU/yM8XQz7eB/yoODQxY/ksd78mwSNtuxZXrfI+U4wD4 PBjJKOQjDFIt+/eZmsUJazt/mi0ez2gzS2PWgDIX8TWSA8i71ea0qsdREgWOKKwOCRow5lE+8aS MTTn2kTM8DovxR0LbTGTX81xt571RxR9iHih4LVc8S/adqB2THpIDJaPXExKDKWGM4qK6hawKGZ E4faFPXU6qRoBKYnot8GA1iAiJoUQaKtAJ7aRY3Uf+L0UmhsgBCsHGu5ifWspof6TnjMm2eysR/ B2dZeGwULTbWS6XfL0AD6svO0LCEss8jDT1BBLYBzA== X-Google-Smtp-Source: AGHT+IHrFhidY5CZ0jzr2NBYehIhQXM9tPyK5m5U2D+0/GvSmEVP4adJaf4zpE25P898YEj9hK3gHujk1B93 X-Received: by 2002:a05:6902:2e05:b0:e57:3e85:60f6 with SMTP id 3f1490d57ef6-e5b25b45484mr3694048276.27.1738776278338; Wed, 05 Feb 2025 09:24:38 -0800 (PST) Received: from postal.iol.unh.edu (postal.iol.unh.edu. [2606:4100:3880:1234::84]) by smtp-relay.gmail.com with ESMTPS id 3f1490d57ef6-e5b1bd38610sm197015276.5.2025.02.05.09.24.38 (version=TLS1_2 cipher=ECDHE-ECDSA-AES128-GCM-SHA256 bits=128/128); Wed, 05 Feb 2025 09:24:38 -0800 (PST) X-Relaying-Domain: iol.unh.edu Date: Wed, 05 Feb 2025 09:24:38 -0800 (PST) Message-ID: <67a39ed6.250a0220.39c62f.99efSMTPIN_ADDED_MISSING@mx.google.com> Received: from [172.21.0.14] (unknown [172.18.0.240]) by postal.iol.unh.edu (Postfix) with ESMTP id 038BA6052471; Wed, 5 Feb 2025 12:24:38 -0500 (EST) Subject: |SUCCESS| pw150137 [PATCH] test/crypto: fix the bug of AES-ECB test From: dpdklab@iol.unh.edu To: Test Report Cc: dpdk-test-reports@iol.unh.edu In-Reply-To: <20250116083548.118-1-felix.zhang@jaguarmicro.com> References: <20250116083548.118-1-felix.zhang@jaguarmicro.com> Content-Type: text/plain X-BeenThere: test-report@dpdk.org X-Mailman-Version: 2.1.29 Precedence: list List-Id: automatic DPDK test reports List-Unsubscribe: , List-Archive: List-Post: List-Help: List-Subscribe: , Errors-To: test-report-bounces@dpdk.org Test-Label: iol-compile-amd64-testing Test-Status: SUCCESS http://dpdk.org/patch/150137 _Testing PASS_ Submitter: Shaokai Zhang Date: Thursday, January 16 2025 08:35:48 DPDK git baseline: Repo:dpdk Branch: master CommitID:cdf7f14fae72cdf64bcccff3ed4ab30accdf436e 150137 --> testing pass Test environment and result as below: +---------------------+--------------------+------------------+-------------------+-------------------------+-------------------+----------------------+ | Environment | dpdk_meson_compile | dpdk_compile_ovs | dpdk_compile_spdk | dpdk_llvm_clang_compile | dpdk_msvc_compile | dpdk_mingw64_compile | +=====================+====================+==================+===================+=========================+===================+======================+ | Debian Bullseye | PASS | PASS | PASS | SKIPPED | SKIPPED | SKIPPED | +---------------------+--------------------+------------------+-------------------+-------------------------+-------------------+----------------------+ | CentOS Stream 9 | PASS | PASS | PASS | SKIPPED | SKIPPED | SKIPPED | +---------------------+--------------------+------------------+-------------------+-------------------------+-------------------+----------------------+ | Fedora 40 (Clang) | PASS | PASS | PASS | SKIPPED | SKIPPED | SKIPPED | +---------------------+--------------------+------------------+-------------------+-------------------------+-------------------+----------------------+ | Debian 12 | PASS | PASS | PASS | SKIPPED | SKIPPED | SKIPPED | +---------------------+--------------------+------------------+-------------------+-------------------------+-------------------+----------------------+ | Fedora 40 | PASS | PASS | PASS | SKIPPED | SKIPPED | SKIPPED | +---------------------+--------------------+------------------+-------------------+-------------------------+-------------------+----------------------+ | Fedora 41 | PASS | PASS | PASS | SKIPPED | SKIPPED | SKIPPED | +---------------------+--------------------+------------------+-------------------+-------------------------+-------------------+----------------------+ | Fedora 41 (Clang) | PASS | PASS | PASS | SKIPPED | SKIPPED | SKIPPED | +---------------------+--------------------+------------------+-------------------+-------------------------+-------------------+----------------------+ | openSUSE Leap 15 | PASS | SKIPPED | SKIPPED | SKIPPED | SKIPPED | SKIPPED | +---------------------+--------------------+------------------+-------------------+-------------------------+-------------------+----------------------+ | RHEL9 | PASS | PASS | SKIPPED | SKIPPED | SKIPPED | SKIPPED | +---------------------+--------------------+------------------+-------------------+-------------------------+-------------------+----------------------+ | Ubuntu 20.04 | PASS | SKIPPED | SKIPPED | SKIPPED | SKIPPED | SKIPPED | +---------------------+--------------------+------------------+-------------------+-------------------------+-------------------+----------------------+ | Ubuntu 22.04 | PASS | PASS | PASS | SKIPPED | SKIPPED | SKIPPED | +---------------------+--------------------+------------------+-------------------+-------------------------+-------------------+----------------------+ | Ubuntu 24.04 | PASS | PASS | PASS | SKIPPED | SKIPPED | SKIPPED | +---------------------+--------------------+------------------+-------------------+-------------------------+-------------------+----------------------+ | Alpine | PASS | PASS | SKIPPED | SKIPPED | SKIPPED | SKIPPED | +---------------------+--------------------+------------------+-------------------+-------------------------+-------------------+----------------------+ | FreeBSD 13.4 | PASS | SKIPPED | SKIPPED | SKIPPED | SKIPPED | SKIPPED | +---------------------+--------------------+------------------+-------------------+-------------------------+-------------------+----------------------+ | FreeBSD 14.2 | PASS | SKIPPED | SKIPPED | SKIPPED | SKIPPED | SKIPPED | +---------------------+--------------------+------------------+-------------------+-------------------------+-------------------+----------------------+ | RHEL8 | PASS | PASS | SKIPPED | SKIPPED | SKIPPED | SKIPPED | +---------------------+--------------------+------------------+-------------------+-------------------------+-------------------+----------------------+ | Windows Server 2022 | SKIPPED | SKIPPED | SKIPPED | PASS | PASS | PASS | +---------------------+--------------------+------------------+-------------------+-------------------------+-------------------+----------------------+ Debian Bullseye Kernel: Depends on container host Compiler: gcc (Debian 10.2.1-6) 10.2.1 20210110 CentOS Stream 9 Kernel: Depends on container host Compiler: gcc 11.5.0 20240719 (Red Hat 11.5.0-2) Fedora 40 (Clang) Kernel: Depends on container host Compiler: clang 18.1.8 (Fedora 18.1.8-1.fc40) Debian 12 Kernel: Depends on container host Compiler: gcc (Debian 12.2.0-14) 12.2.0 Fedora 40 Kernel: Depends on container host Compiler: gcc 14.2.1 20240912 (Red Hat 14.2.1-3) Fedora 41 Kernel: Depends on container host Compiler: gcc 14.2.1 20240912 (Red Hat 14.2.1-3) Fedora 41 (Clang) Kernel: Depends on container host Compiler: clang 19.1.5 (Fedora 19.1.5-1.fc41) openSUSE Leap 15 Kernel: Depends on container host Compiler: gcc (SUSE Linux) 7.5.0 RHEL9 Kernel: Depends on container host Compiler: gcc 11.5.0 20240719 (Red Hat 11.5.0-2) Ubuntu 20.04 Kernel: Depends on container host Compiler: gcc (Ubuntu 9.4.0-1ubuntu1~20.04.2) 9.4.0 Ubuntu 22.04 Kernel: Depends on container host Compiler: gcc (Ubuntu 11.4.0-1ubuntu1~22.04) 11.4.0 Ubuntu 24.04 Kernel: Depends on container host Compiler: gcc (Ubuntu 13.3.0-6ubuntu2~24.04) 13.3.0 Alpine Kernel: Depends on container host Compiler: gcc (Alpine 14.2.0) 14.2.0 FreeBSD 13.4 Kernel: 13.4-RELEASE-p1 Compiler: clang 18.1.6 FreeBSD 14.2 Kernel: 14.2-RELEASE Compiler: clang 18.1.6 RHEL8 Kernel: Depends on container host Compiler: gcc 8.5.0 20210514 (Red Hat 8.5.0-22) Windows Server 2022 Kernel: 10.0.20348.2031 Compiler: clang 15.0.7, gcc 14.1.0 (MinGW), and MSVC VS 19.39.33521 To view detailed results, visit: https://lab.dpdk.org/results/dashboard/patchsets/32340/ UNH-IOL DPDK Community Lab To manage your email subscriptions, visit: https://lab.dpdk.org/results/dashboard/preferences/subscriptions/