From mboxrd@z Thu Jan 1 00:00:00 1970 Return-Path: Received: from mails.dpdk.org (mails.dpdk.org [217.70.189.124]) by inbox.dpdk.org (Postfix) with ESMTP id 01146461A0 for ; Wed, 5 Feb 2025 18:24:44 +0100 (CET) Received: from mails.dpdk.org (localhost [127.0.0.1]) by mails.dpdk.org (Postfix) with ESMTP id F1A74402E4; Wed, 5 Feb 2025 18:24:43 +0100 (CET) Received: from mail-pl1-f227.google.com (mail-pl1-f227.google.com [209.85.214.227]) by mails.dpdk.org (Postfix) with ESMTP id E1FD6402E6 for ; Wed, 5 Feb 2025 18:24:41 +0100 (CET) Received: by mail-pl1-f227.google.com with SMTP id d9443c01a7336-21f21cc7af5so955375ad.2 for ; Wed, 05 Feb 2025 09:24:41 -0800 (PST) DKIM-Signature: v=1; a=rsa-sha256; c=relaxed/relaxed; d=iol.unh.edu; s=unh-iol; t=1738776281; x=1739381081; darn=dpdk.org; h=references:in-reply-to:cc:to:from:subject:message-id:date:from:to :cc:subject:date:message-id:reply-to; bh=l3ynHp8qz/ZxfjmxEsJ2HZIX74UkAy4PhXh7XmBFR2c=; b=NwEJiZnwvfrQEp+XT/w0gDmivjZOGTX9+2mkcoROVO6l8PFxfcjDgDbjjOTnR8blex IrjinYi7CNVIaFIVZhsRdW7rb8AUaJxr7JUoPO0qelzBFwwR1eVvTo+aPjlUsAfG6/RO FV8w8zTNRl+6I7jNzS8v5MqlAZ+tAh+CRmlhQ= X-Google-DKIM-Signature: v=1; a=rsa-sha256; c=relaxed/relaxed; d=1e100.net; s=20230601; t=1738776281; x=1739381081; h=references:in-reply-to:cc:to:from:subject:message-id:date :x-gm-message-state:from:to:cc:subject:date:message-id:reply-to; bh=l3ynHp8qz/ZxfjmxEsJ2HZIX74UkAy4PhXh7XmBFR2c=; b=hwzsBwg7trXxqkBHj4iZDHMNtfIJlrA7Ra8nI/eodwJUAjY380zTIzXJn8uoAaO9fd dZoOvpJ4qfaeBPHCqK04hbfUTR66tG2zNMcVAq8Cc5ciqtj9f5pijm13/oPFqeq3/Crg U33/4wJyb5MRK3NJUli3QeSPykrvQp4CDUg6uF1mKQvTwCU9cVh8Fbx32Jv5IA6YvwxV 9o+U41EPyK34O/PN2lQgsk5ZDL7tRwLciPONb2xw0qr3C607ymk/GLNUFlXi5HzY+cCZ 3gpHRgQy5ctDxmbUz2bDF0q3J870CDif1KpMcuWaaMDoLEwKeCvCp960ji6KewyTMgVO USjg== X-Gm-Message-State: AOJu0YycPS22detcRxOT0JxKjn/zlIeLuKwGNtJBgu75e5GGodeKVQZ0 RtAzdIOoEnKj8YDHOsCXEr4XHNYmJ1IqVb25ddmfWVyKK6Z4RcToLQZJTqJnVJSdMI9qO/Z+HHI YvAXW86k/ojP2XwUVgke0m1vNI7LBja0P0q4gqFCssS6QMIqnY3hlWoS5 X-Gm-Gg: ASbGnctMUUvQuJQgQl5EQcTtZBB2Ie9qa764PzLdQM3W/1gyNWO/iM29+bSoLE/byom jvWYeJoe6xpGaqyAoxYJHmItn/AnWVT9eECwIL5fzH4+u7O2r+H5iJMTIBgcj4lkenj0yiB5OrU WJBQ2/fqfbuM2maKtfWQKzKkaBfhj26gkX4aIy36dOcvDRs6YRDj2cyQp5JwY9n4XiG1Fj3opv9 69HyYRwRkXrqPuND6wne2ptAQYClIzo6JfFt5BdxMKYIni3p1zG51IreLHV8oUIe618RG+gapXY wxH9fvsesKHrTlvGLEfUz4JCc7wgJGZ2Am/WnKNZtA== X-Google-Smtp-Source: AGHT+IGClU4C1fWMcteQRGXLbFd8qTO4kmxJck5LiR+31vM43W1lbJAsqCWezFhK0u9jwKpAeEjLzmqJnm/Z X-Received: by 2002:a17:903:2346:b0:215:8809:b3b7 with SMTP id d9443c01a7336-21f17df5bcamr47624465ad.7.1738776281090; Wed, 05 Feb 2025 09:24:41 -0800 (PST) Received: from postal.iol.unh.edu (postal.iol.unh.edu. [2606:4100:3880:1234::84]) by smtp-relay.gmail.com with ESMTPS id d9443c01a7336-21de32491d3sm6975865ad.35.2025.02.05.09.24.40 (version=TLS1_2 cipher=ECDHE-ECDSA-AES128-GCM-SHA256 bits=128/128); Wed, 05 Feb 2025 09:24:41 -0800 (PST) X-Relaying-Domain: iol.unh.edu Date: Wed, 05 Feb 2025 09:24:41 -0800 (PST) Message-ID: <67a39ed9.170a0220.19541b.036fSMTPIN_ADDED_MISSING@mx.google.com> Received: from [172.17.0.2] (unknown [172.18.0.215]) by postal.iol.unh.edu (Postfix) with ESMTP id 83DDB6052471; Wed, 5 Feb 2025 12:24:40 -0500 (EST) Subject: |SUCCESS| pw150087-150089 [PATCH] [v12,3/3] drivers/net: add diagnos From: dpdklab@iol.unh.edu To: Test Report Cc: dpdk-test-reports@iol.unh.edu In-Reply-To: <1736915238-779-4-git-send-email-andremue@linux.microsoft.com> References: <1736915238-779-4-git-send-email-andremue@linux.microsoft.com> Content-Type: text/plain X-BeenThere: test-report@dpdk.org X-Mailman-Version: 2.1.29 Precedence: list List-Id: automatic DPDK test reports List-Unsubscribe: , List-Archive: List-Post: List-Help: List-Subscribe: , Errors-To: test-report-bounces@dpdk.org Test-Label: iol-compile-amd64-testing Test-Status: SUCCESS http://dpdk.org/patch/150089 _Testing PASS_ Submitter: Andre Muezerie Date: Wednesday, January 15 2025 04:27:18 DPDK git baseline: Repo:dpdk Branch: master CommitID:fd51012de5369679e807be1d6a81d63ef15015ce 150087-150089 --> testing pass Test environment and result as below: +---------------------+--------------------+------------------+-------------------+-------------------+-------------------------+----------------------+ | Environment | dpdk_meson_compile | dpdk_compile_ovs | dpdk_compile_spdk | dpdk_msvc_compile | dpdk_llvm_clang_compile | dpdk_mingw64_compile | +=====================+====================+==================+===================+===================+=========================+======================+ | Debian Bullseye | PASS | PASS | PASS | SKIPPED | SKIPPED | SKIPPED | +---------------------+--------------------+------------------+-------------------+-------------------+-------------------------+----------------------+ | Fedora 40 (Clang) | PASS | PASS | PASS | SKIPPED | SKIPPED | SKIPPED | +---------------------+--------------------+------------------+-------------------+-------------------+-------------------------+----------------------+ | Debian 12 | PASS | PASS | PASS | SKIPPED | SKIPPED | SKIPPED | +---------------------+--------------------+------------------+-------------------+-------------------+-------------------------+----------------------+ | Fedora 40 | PASS | PASS | PASS | SKIPPED | SKIPPED | SKIPPED | +---------------------+--------------------+------------------+-------------------+-------------------+-------------------------+----------------------+ | Fedora 41 (Clang) | PASS | PASS | PASS | SKIPPED | SKIPPED | SKIPPED | +---------------------+--------------------+------------------+-------------------+-------------------+-------------------------+----------------------+ | Fedora 41 | PASS | PASS | PASS | SKIPPED | SKIPPED | SKIPPED | +---------------------+--------------------+------------------+-------------------+-------------------+-------------------------+----------------------+ | openSUSE Leap 15 | PASS | SKIPPED | SKIPPED | SKIPPED | SKIPPED | SKIPPED | +---------------------+--------------------+------------------+-------------------+-------------------+-------------------------+----------------------+ | RHEL8 | PASS | PASS | SKIPPED | SKIPPED | SKIPPED | SKIPPED | +---------------------+--------------------+------------------+-------------------+-------------------+-------------------------+----------------------+ | RHEL9 | PASS | PASS | SKIPPED | SKIPPED | SKIPPED | SKIPPED | +---------------------+--------------------+------------------+-------------------+-------------------+-------------------------+----------------------+ | Ubuntu 20.04 | PASS | SKIPPED | SKIPPED | SKIPPED | SKIPPED | SKIPPED | +---------------------+--------------------+------------------+-------------------+-------------------+-------------------------+----------------------+ | Ubuntu 22.04 | PASS | PASS | PASS | SKIPPED | SKIPPED | SKIPPED | +---------------------+--------------------+------------------+-------------------+-------------------+-------------------------+----------------------+ | Ubuntu 24.04 | PASS | PASS | PASS | SKIPPED | SKIPPED | SKIPPED | +---------------------+--------------------+------------------+-------------------+-------------------+-------------------------+----------------------+ | Alpine | PASS | PASS | SKIPPED | SKIPPED | SKIPPED | SKIPPED | +---------------------+--------------------+------------------+-------------------+-------------------+-------------------------+----------------------+ | FreeBSD 13.4 | PASS | SKIPPED | SKIPPED | SKIPPED | SKIPPED | SKIPPED | +---------------------+--------------------+------------------+-------------------+-------------------+-------------------------+----------------------+ | FreeBSD 14.2 | PASS | SKIPPED | SKIPPED | SKIPPED | SKIPPED | SKIPPED | +---------------------+--------------------+------------------+-------------------+-------------------+-------------------------+----------------------+ | Windows Server 2022 | SKIPPED | SKIPPED | SKIPPED | PASS | PASS | PASS | +---------------------+--------------------+------------------+-------------------+-------------------+-------------------------+----------------------+ Debian Bullseye Kernel: Depends on container host Compiler: gcc (Debian 10.2.1-6) 10.2.1 20210110 Fedora 40 (Clang) Kernel: Depends on container host Compiler: clang 18.1.8 (Fedora 18.1.8-1.fc40) Debian 12 Kernel: Depends on container host Compiler: gcc (Debian 12.2.0-14) 12.2.0 Fedora 40 Kernel: Depends on container host Compiler: gcc 14.2.1 20240912 (Red Hat 14.2.1-3) Fedora 41 (Clang) Kernel: Depends on container host Compiler: clang 19.1.5 (Fedora 19.1.5-1.fc41) Fedora 41 Kernel: Depends on container host Compiler: gcc 14.2.1 20240912 (Red Hat 14.2.1-3) openSUSE Leap 15 Kernel: Depends on container host Compiler: gcc (SUSE Linux) 7.5.0 RHEL8 Kernel: Depends on container host Compiler: gcc 8.5.0 20210514 (Red Hat 8.5.0-22) RHEL9 Kernel: Depends on container host Compiler: gcc 11.5.0 20240719 (Red Hat 11.5.0-2) Ubuntu 20.04 Kernel: Depends on container host Compiler: gcc (Ubuntu 9.4.0-1ubuntu1~20.04.2) 9.4.0 Ubuntu 22.04 Kernel: Depends on container host Compiler: gcc (Ubuntu 11.4.0-1ubuntu1~22.04) 11.4.0 Ubuntu 24.04 Kernel: Depends on container host Compiler: gcc (Ubuntu 13.3.0-6ubuntu2~24.04) 13.3.0 Alpine Kernel: Depends on container host Compiler: gcc (Alpine 14.2.0) 14.2.0 FreeBSD 13.4 Kernel: 13.4-RELEASE-p1 Compiler: clang 18.1.6 FreeBSD 14.2 Kernel: 14.2-RELEASE Compiler: clang 18.1.6 Windows Server 2022 Kernel: 10.0.20348.2031 Compiler: clang 15.0.7, gcc 14.1.0 (MinGW), and MSVC VS 19.39.33521 To view detailed results, visit: https://lab.dpdk.org/results/dashboard/patchsets/32324/ UNH-IOL DPDK Community Lab To manage your email subscriptions, visit: https://lab.dpdk.org/results/dashboard/preferences/subscriptions/