From mboxrd@z Thu Jan 1 00:00:00 1970 Return-Path: Received: from mails.dpdk.org (mails.dpdk.org [217.70.189.124]) by inbox.dpdk.org (Postfix) with ESMTP id 1A9E0461A0 for ; Wed, 5 Feb 2025 18:24:49 +0100 (CET) Received: from mails.dpdk.org (localhost [127.0.0.1]) by mails.dpdk.org (Postfix) with ESMTP id 173F7402E4; Wed, 5 Feb 2025 18:24:49 +0100 (CET) Received: from mail-qv1-f100.google.com (mail-qv1-f100.google.com [209.85.219.100]) by mails.dpdk.org (Postfix) with ESMTP id 986E1402E0 for ; Wed, 5 Feb 2025 18:24:47 +0100 (CET) Received: by mail-qv1-f100.google.com with SMTP id 6a1803df08f44-6dd420f82e2so363876d6.1 for ; Wed, 05 Feb 2025 09:24:47 -0800 (PST) DKIM-Signature: v=1; a=rsa-sha256; c=relaxed/relaxed; d=iol.unh.edu; s=unh-iol; t=1738776287; x=1739381087; darn=dpdk.org; h=cc:to:from:subject:message-id:date:from:to:cc:subject:date :message-id:reply-to; bh=x8x8nL7J8/hXOO/iuF4p71tyVZSDoneN/ZWnQcq1iaU=; b=aHxWAUvFLZ7mQGAmudiornwzOyEfmAEzBo4O2UB+GhpQincfJ32mM+0Dzu+s5H8Rfn Hmw14dFw8ivs/psWN43J5SuG9QHYj3TVD7O7IpdJBqfkCF1b/3cR0NWChJlmgYxuXEz5 dQGS4vf8niC4gpcYWrfl8UrGV1/cUJAaMhdIM= X-Google-DKIM-Signature: v=1; a=rsa-sha256; c=relaxed/relaxed; d=1e100.net; s=20230601; t=1738776287; x=1739381087; h=cc:to:from:subject:message-id:date:x-gm-message-state:from:to:cc :subject:date:message-id:reply-to; bh=x8x8nL7J8/hXOO/iuF4p71tyVZSDoneN/ZWnQcq1iaU=; b=STxbHVzdXx7xFnDF09ov3B9ioSCECuEX2sbRW3LlTbg5NqA6A+mbALjMmHq2gZi/o4 nOM6hwFbQnLxnALkE2O4/pfddnXsls1iXnzlkwBWvzKatCU+ropGjhgcENoz2MmtJM8w b0m6a795zvdnydJOP6O+dFiJ8/fRF8L+I6V5xHiU22vapIEahBhgizjJsj0qs38e+9va fkYk4AXSnn1/tDsvgXerMR6iehuDzkeGtFQdwdz4spCeRei+79a51l4jLQppmGPCa5AI IySEBnMV/3Mev68yPyuqim9Q0DDGNjggsE+NHiVpmuvk+zsC3tYup/FWUgUuMkhJkiQ0 sxfg== X-Gm-Message-State: AOJu0Yz1V5H3LQcV5zV5YBW0Ddy7CxWR4dSLW6asJuiAmuSRkEu0mIRs 52jequUtjk28Bs4tHrymTajLJk4MblSKMGn74+uwvy1GRDiDd5tdhksrVYIUmAolr7fBnka37Lh bcCOTRlLl9n5vGht3inw5oQ8LvuE6oHD5O062XrJB X-Gm-Gg: ASbGnct3ktf0zGRbKWs/s7+Kpma+SHC32UXo6Y5EF8pUbSSQUbOjJLlpsKO5CDLogVH cOEXJ01jdumW5LIkZMibMQ5C0v6wXLSWq3MsMPU2AhQHk6TLGlWbXc4vGDgnNzvhbd0xrvUkcrb zE4QpdopDmPRirwVNz7LWlhLo0eTSfqGMhvCBpv9ZnYQV7DfABJ6ju/aEKiGWonxZMkPw8ZVXDz PumPH0GlPhKqmEfqovdq6xiqY5+8pCCvmUQ8V/SwHzDw3F5ivxd3MR90OiA5GZoyskul/N+zMl0 cvvhj0ipAu6oIJkPXN6FdcT7zqAenQ== X-Google-Smtp-Source: AGHT+IEp61UBZ/zgZsw77hq2CCvdwrAEF3kW2/Ir3gCa/CwNC6XBHvjPbITyrjIgDhERgpaspXf8YccbiZrT X-Received: by 2002:a05:6214:3187:b0:6d4:4100:75a1 with SMTP id 6a1803df08f44-6e42fc724c0mr50070416d6.39.1738776287098; Wed, 05 Feb 2025 09:24:47 -0800 (PST) Received: from postal.iol.unh.edu (postal.iol.unh.edu. [132.177.123.84]) by smtp-relay.gmail.com with ESMTPS id 6a1803df08f44-6e42c7af8ecsm2313346d6.28.2025.02.05.09.24.47 (version=TLS1_2 cipher=ECDHE-ECDSA-AES128-GCM-SHA256 bits=128/128); Wed, 05 Feb 2025 09:24:47 -0800 (PST) X-Relaying-Domain: iol.unh.edu Date: Wed, 05 Feb 2025 09:24:47 -0800 (PST) Message-ID: <67a39edf.d40a0220.fed65.b61cSMTPIN_ADDED_MISSING@mx.google.com> Received: from [172.21.0.19] (unknown [172.18.0.240]) by postal.iol.unh.edu (Postfix) with ESMTP id D27246052471; Wed, 5 Feb 2025 12:24:46 -0500 (EST) Subject: |SUCCESS| [GIT MASTER] c5b363510f8319b4c89f4ed45568864968fa156d From: dpdklab@iol.unh.edu To: Test Report Cc: dpdk-test-reports@iol.unh.edu, Stephen Hemminger Content-Type: text/plain X-BeenThere: test-report@dpdk.org X-Mailman-Version: 2.1.29 Precedence: list List-Id: automatic DPDK test reports List-Unsubscribe: , List-Archive: List-Post: List-Help: List-Subscribe: , Errors-To: test-report-bounces@dpdk.org _Testing PASS_ Branch: dpdk-next-net c5b363510f8319b4c89f4ed45568864968fa156d --> testing pass Test environment and result as below: +---------------------+--------------------+------------------+-------------------+-------------------+-------------------------+----------------------+ | Environment | dpdk_meson_compile | dpdk_compile_ovs | dpdk_compile_spdk | dpdk_msvc_compile | dpdk_llvm_clang_compile | dpdk_mingw64_compile | +=====================+====================+==================+===================+===================+=========================+======================+ | CentOS Stream 9 | PASS | PASS | PASS | SKIPPED | SKIPPED | SKIPPED | +---------------------+--------------------+------------------+-------------------+-------------------+-------------------------+----------------------+ | Debian Bullseye | PASS | PASS | PASS | SKIPPED | SKIPPED | SKIPPED | +---------------------+--------------------+------------------+-------------------+-------------------+-------------------------+----------------------+ | Fedora 40 (Clang) | PASS | PASS | PASS | SKIPPED | SKIPPED | SKIPPED | +---------------------+--------------------+------------------+-------------------+-------------------+-------------------------+----------------------+ | Debian 12 | PASS | PASS | PASS | SKIPPED | SKIPPED | SKIPPED | +---------------------+--------------------+------------------+-------------------+-------------------+-------------------------+----------------------+ | Fedora 40 | PASS | PASS | PASS | SKIPPED | SKIPPED | SKIPPED | +---------------------+--------------------+------------------+-------------------+-------------------+-------------------------+----------------------+ | Fedora 41 (Clang) | PASS | PASS | PASS | SKIPPED | SKIPPED | SKIPPED | +---------------------+--------------------+------------------+-------------------+-------------------+-------------------------+----------------------+ | Fedora 41 | PASS | PASS | PASS | SKIPPED | SKIPPED | SKIPPED | +---------------------+--------------------+------------------+-------------------+-------------------+-------------------------+----------------------+ | openSUSE Leap 15 | PASS | SKIPPED | SKIPPED | SKIPPED | SKIPPED | SKIPPED | +---------------------+--------------------+------------------+-------------------+-------------------+-------------------------+----------------------+ | RHEL9 | PASS | PASS | SKIPPED | SKIPPED | SKIPPED | SKIPPED | +---------------------+--------------------+------------------+-------------------+-------------------+-------------------------+----------------------+ | Ubuntu 22.04 | PASS | PASS | PASS | SKIPPED | SKIPPED | SKIPPED | +---------------------+--------------------+------------------+-------------------+-------------------+-------------------------+----------------------+ | Ubuntu 24.04 | PASS | PASS | PASS | SKIPPED | SKIPPED | SKIPPED | +---------------------+--------------------+------------------+-------------------+-------------------+-------------------------+----------------------+ | RHEL8 | PASS | PASS | SKIPPED | SKIPPED | SKIPPED | SKIPPED | +---------------------+--------------------+------------------+-------------------+-------------------+-------------------------+----------------------+ | Ubuntu 20.04 | PASS | SKIPPED | SKIPPED | SKIPPED | SKIPPED | SKIPPED | +---------------------+--------------------+------------------+-------------------+-------------------+-------------------------+----------------------+ | Alpine | PASS | PASS | SKIPPED | SKIPPED | SKIPPED | SKIPPED | +---------------------+--------------------+------------------+-------------------+-------------------+-------------------------+----------------------+ | FreeBSD 13.4 | PASS | SKIPPED | SKIPPED | SKIPPED | SKIPPED | SKIPPED | +---------------------+--------------------+------------------+-------------------+-------------------+-------------------------+----------------------+ | FreeBSD 14.2 | PASS | SKIPPED | SKIPPED | SKIPPED | SKIPPED | SKIPPED | +---------------------+--------------------+------------------+-------------------+-------------------+-------------------------+----------------------+ | Windows Server 2022 | SKIPPED | SKIPPED | SKIPPED | PASS | PASS | PASS | +---------------------+--------------------+------------------+-------------------+-------------------+-------------------------+----------------------+ CentOS Stream 9 Kernel: Depends on container host Compiler: gcc 11.5.0 20240719 (Red Hat 11.5.0-2) Debian Bullseye Kernel: Depends on container host Compiler: gcc (Debian 10.2.1-6) 10.2.1 20210110 Fedora 40 (Clang) Kernel: Depends on container host Compiler: clang 18.1.8 (Fedora 18.1.8-1.fc40) Debian 12 Kernel: Depends on container host Compiler: gcc (Debian 12.2.0-14) 12.2.0 Fedora 40 Kernel: Depends on container host Compiler: gcc 14.2.1 20240912 (Red Hat 14.2.1-3) Fedora 41 (Clang) Kernel: Depends on container host Compiler: clang 19.1.5 (Fedora 19.1.5-1.fc41) Fedora 41 Kernel: Depends on container host Compiler: gcc 14.2.1 20240912 (Red Hat 14.2.1-3) openSUSE Leap 15 Kernel: Depends on container host Compiler: gcc (SUSE Linux) 7.5.0 RHEL9 Kernel: Depends on container host Compiler: gcc 11.5.0 20240719 (Red Hat 11.5.0-2) Ubuntu 22.04 Kernel: Depends on container host Compiler: gcc (Ubuntu 11.4.0-1ubuntu1~22.04) 11.4.0 Ubuntu 24.04 Kernel: Depends on container host Compiler: gcc (Ubuntu 13.3.0-6ubuntu2~24.04) 13.3.0 RHEL8 Kernel: Depends on container host Compiler: gcc 8.5.0 20210514 (Red Hat 8.5.0-22) Ubuntu 20.04 Kernel: Depends on container host Compiler: gcc (Ubuntu 9.4.0-1ubuntu1~20.04.2) 9.4.0 Alpine Kernel: Depends on container host Compiler: gcc (Alpine 14.2.0) 14.2.0 FreeBSD 13.4 Kernel: 13.4-RELEASE-p1 Compiler: clang 18.1.6 FreeBSD 14.2 Kernel: 14.2-RELEASE Compiler: clang 18.1.6 Windows Server 2022 Kernel: 10.0.20348.2031 Compiler: clang 15.0.7, gcc 14.1.0 (MinGW), and MSVC VS 19.39.33521 To view detailed results, visit: https://lab.dpdk.org/results/dashboard/tarballs/32313/ UNH-IOL DPDK Community Lab To manage your email subscriptions, visit: https://lab.dpdk.org/results/dashboard/preferences/subscriptions/