From mboxrd@z Thu Jan 1 00:00:00 1970 Return-Path: Received: from mails.dpdk.org (mails.dpdk.org [217.70.189.124]) by inbox.dpdk.org (Postfix) with ESMTP id 77BEB461A0 for ; Wed, 5 Feb 2025 18:24:53 +0100 (CET) Received: from mails.dpdk.org (localhost [127.0.0.1]) by mails.dpdk.org (Postfix) with ESMTP id 71B904060C; Wed, 5 Feb 2025 18:24:53 +0100 (CET) Received: from mail-pl1-f227.google.com (mail-pl1-f227.google.com [209.85.214.227]) by mails.dpdk.org (Postfix) with ESMTP id BB319402E0 for ; Wed, 5 Feb 2025 18:24:51 +0100 (CET) Received: by mail-pl1-f227.google.com with SMTP id d9443c01a7336-21c2f1b610dso1790575ad.0 for ; Wed, 05 Feb 2025 09:24:51 -0800 (PST) DKIM-Signature: v=1; a=rsa-sha256; c=relaxed/relaxed; d=iol.unh.edu; s=unh-iol; t=1738776291; x=1739381091; darn=dpdk.org; h=references:in-reply-to:cc:to:from:subject:message-id:date:from:to :cc:subject:date:message-id:reply-to; bh=NmJlv4fOBvDPkJNGP9fgDGVUUB9HFrd89hilEiFGJcw=; b=JhhoEpkf+TUKzsYJkPsJoCyG7HSFlsssrjz3evqdvZy1R6wFK4lA1ZI1S96LKPwc5t f34ZHIvxSlvtDkdgua2kYjvvNLkaQxwMMtenjlIUu7Iw+mULwdeNOn6hhchr9SGXpQC7 P/Eb70T/0/kqQXE16DwKeKz4Dl/xBapHNT7VQ= X-Google-DKIM-Signature: v=1; a=rsa-sha256; c=relaxed/relaxed; d=1e100.net; s=20230601; t=1738776291; x=1739381091; h=references:in-reply-to:cc:to:from:subject:message-id:date :x-gm-message-state:from:to:cc:subject:date:message-id:reply-to; bh=NmJlv4fOBvDPkJNGP9fgDGVUUB9HFrd89hilEiFGJcw=; b=rP/9G2UTHUrl59smtenY1SmQVnFvKv1hEz6VNvdXEjHynoiQJJTLjXVfmo22bcOprK MOK3wfZ+XfUNRyPbs49YDkWSUJe74G9+/zup6a9JIfNINgrosxL7ZLHrvkPRk6rrmvzr +EfPrSFSUoLRYKYgtXXqMEiaBSFr6PNjzoUv5f2RTO0jqt4Ghql2P9ppdP9Y/ZZA+h1K USWmG6MRwXP2SbwkGlwkKwwd1mbYa1jgBMt0CZRPd4hUA8Az2WtYZocDqlhHTK/tiKJi cx3xm4ArRCNQFcLRvP34nwmr+ZuqJJU7iv7v5tahkHMt4vgKSMB/SeHurTmiicPIar1X rjBw== X-Gm-Message-State: AOJu0YxpAArO38WmJZ2Ms7H5zulq3yT7EtvMjlgHHPAAdEIJyhEOoc69 K4xn8Adv6Jb8WhbcVCC8Pb2IJhXLMoSDYNIbe5t8iOSCyaVgyIbChhzGpW+dfF7esNt6G5aUi4g 2ayJZGkQ++RAiD0CDrRuCqb7Ggi764dVthAtR8cBR X-Gm-Gg: ASbGnctSnFG2YwSDPF/RA+vB/JubX4S1yJKpOEWx159nAzn6PxvQjkCKiNXThOfRvL6 K2ElYFUwVErsyGKXgXmN95lR94dtO08UOnvunrUtISgbjvV0nUZAIn5ao2i9BC7PYm0apI2Fs1T LT2rIgaq6CfD9k+AYQBNtHxrob3sQ3aFv+5cfL5pLpZ6NGFafkEFIStzQGEoJpuzvTuYAoDs8gw CxVf3TLXMGfCrhC6T5wNoVPzu3sI03ysHWuB4Bh6N7/YluIL32XuJNhwx/7sUfBx2vMdSY5Bol7 qAPCJHduJE3j6zgflEV5FE3aBRxDBg== X-Google-Smtp-Source: AGHT+IEWZCDCdtBHf/9U3VWKjVOo+anOaGIN3aXXzLAwkTQVMfh4mj+/eudjXx882sTS/9xt+/MD3fUQVOT8 X-Received: by 2002:a17:902:ce05:b0:215:30d1:36fa with SMTP id d9443c01a7336-21f17ec88c8mr57679545ad.39.1738776290977; Wed, 05 Feb 2025 09:24:50 -0800 (PST) Received: from postal.iol.unh.edu (postal.iol.unh.edu. [132.177.123.84]) by smtp-relay.gmail.com with ESMTPS id d9443c01a7336-21de326bf8dsm6721345ad.57.2025.02.05.09.24.50 (version=TLS1_2 cipher=ECDHE-ECDSA-AES128-GCM-SHA256 bits=128/128); Wed, 05 Feb 2025 09:24:50 -0800 (PST) X-Relaying-Domain: iol.unh.edu Date: Wed, 05 Feb 2025 09:24:50 -0800 (PST) Message-ID: <67a39ee2.170a0220.2cbb27.e525SMTPIN_ADDED_MISSING@mx.google.com> Received: from [172.17.0.6] (unknown [172.18.0.214]) by postal.iol.unh.edu (Postfix) with ESMTP id 635586052471; Wed, 5 Feb 2025 12:24:50 -0500 (EST) Subject: |SUCCESS| pw150092-150094 [PATCH] [3/3] vhost: rework async dequeue From: dpdklab@iol.unh.edu To: Test Report Cc: dpdk-test-reports@iol.unh.edu In-Reply-To: <20250115102905.2572035-4-maxime.coquelin@redhat.com> References: <20250115102905.2572035-4-maxime.coquelin@redhat.com> Content-Type: text/plain X-BeenThere: test-report@dpdk.org X-Mailman-Version: 2.1.29 Precedence: list List-Id: automatic DPDK test reports List-Unsubscribe: , List-Archive: List-Post: List-Help: List-Subscribe: , Errors-To: test-report-bounces@dpdk.org Test-Label: iol-compile-amd64-testing Test-Status: SUCCESS http://dpdk.org/patch/150094 _Testing PASS_ Submitter: Maxime Coquelin Date: Wednesday, January 15 2025 10:29:05 DPDK git baseline: Repo:dpdk Branch: master CommitID:07604f264417959d76aa9fcb8cb0c3665f62f0d3 150092-150094 --> testing pass Test environment and result as below: +---------------------+--------------------+------------------+-------------------+-------------------+-------------------------+----------------------+ | Environment | dpdk_meson_compile | dpdk_compile_ovs | dpdk_compile_spdk | dpdk_msvc_compile | dpdk_llvm_clang_compile | dpdk_mingw64_compile | +=====================+====================+==================+===================+===================+=========================+======================+ | CentOS Stream 9 | PASS | PASS | PASS | SKIPPED | SKIPPED | SKIPPED | +---------------------+--------------------+------------------+-------------------+-------------------+-------------------------+----------------------+ | Debian Bullseye | PASS | PASS | PASS | SKIPPED | SKIPPED | SKIPPED | +---------------------+--------------------+------------------+-------------------+-------------------+-------------------------+----------------------+ | Debian 12 | PASS | PASS | PASS | SKIPPED | SKIPPED | SKIPPED | +---------------------+--------------------+------------------+-------------------+-------------------+-------------------------+----------------------+ | Fedora 40 (Clang) | PASS | PASS | PASS | SKIPPED | SKIPPED | SKIPPED | +---------------------+--------------------+------------------+-------------------+-------------------+-------------------------+----------------------+ | Fedora 41 (Clang) | PASS | PASS | PASS | SKIPPED | SKIPPED | SKIPPED | +---------------------+--------------------+------------------+-------------------+-------------------+-------------------------+----------------------+ | Fedora 40 | PASS | PASS | PASS | SKIPPED | SKIPPED | SKIPPED | +---------------------+--------------------+------------------+-------------------+-------------------+-------------------------+----------------------+ | RHEL8 | PASS | PASS | SKIPPED | SKIPPED | SKIPPED | SKIPPED | +---------------------+--------------------+------------------+-------------------+-------------------+-------------------------+----------------------+ | RHEL9 | PASS | PASS | SKIPPED | SKIPPED | SKIPPED | SKIPPED | +---------------------+--------------------+------------------+-------------------+-------------------+-------------------------+----------------------+ | openSUSE Leap 15 | PASS | SKIPPED | SKIPPED | SKIPPED | SKIPPED | SKIPPED | +---------------------+--------------------+------------------+-------------------+-------------------+-------------------------+----------------------+ | Fedora 41 | PASS | PASS | PASS | SKIPPED | SKIPPED | SKIPPED | +---------------------+--------------------+------------------+-------------------+-------------------+-------------------------+----------------------+ | Ubuntu 20.04 | PASS | SKIPPED | SKIPPED | SKIPPED | SKIPPED | SKIPPED | +---------------------+--------------------+------------------+-------------------+-------------------+-------------------------+----------------------+ | Ubuntu 22.04 | PASS | PASS | PASS | SKIPPED | SKIPPED | SKIPPED | +---------------------+--------------------+------------------+-------------------+-------------------+-------------------------+----------------------+ | Ubuntu 24.04 | PASS | PASS | PASS | SKIPPED | SKIPPED | SKIPPED | +---------------------+--------------------+------------------+-------------------+-------------------+-------------------------+----------------------+ | Alpine | PASS | PASS | SKIPPED | SKIPPED | SKIPPED | SKIPPED | +---------------------+--------------------+------------------+-------------------+-------------------+-------------------------+----------------------+ | FreeBSD 13.4 | PASS | SKIPPED | SKIPPED | SKIPPED | SKIPPED | SKIPPED | +---------------------+--------------------+------------------+-------------------+-------------------+-------------------------+----------------------+ | FreeBSD 14.2 | PASS | SKIPPED | SKIPPED | SKIPPED | SKIPPED | SKIPPED | +---------------------+--------------------+------------------+-------------------+-------------------+-------------------------+----------------------+ | Windows Server 2022 | SKIPPED | SKIPPED | SKIPPED | PASS | PASS | PASS | +---------------------+--------------------+------------------+-------------------+-------------------+-------------------------+----------------------+ CentOS Stream 9 Kernel: Depends on container host Compiler: gcc 11.5.0 20240719 (Red Hat 11.5.0-2) Debian Bullseye Kernel: Depends on container host Compiler: gcc (Debian 10.2.1-6) 10.2.1 20210110 Debian 12 Kernel: Depends on container host Compiler: gcc (Debian 12.2.0-14) 12.2.0 Fedora 40 (Clang) Kernel: Depends on container host Compiler: clang 18.1.8 (Fedora 18.1.8-1.fc40) Fedora 41 (Clang) Kernel: Depends on container host Compiler: clang 19.1.5 (Fedora 19.1.5-1.fc41) Fedora 40 Kernel: Depends on container host Compiler: gcc 14.2.1 20240912 (Red Hat 14.2.1-3) RHEL8 Kernel: Depends on container host Compiler: gcc 8.5.0 20210514 (Red Hat 8.5.0-22) RHEL9 Kernel: Depends on container host Compiler: gcc 11.5.0 20240719 (Red Hat 11.5.0-2) openSUSE Leap 15 Kernel: Depends on container host Compiler: gcc (SUSE Linux) 7.5.0 Fedora 41 Kernel: Depends on container host Compiler: gcc 14.2.1 20240912 (Red Hat 14.2.1-3) Ubuntu 20.04 Kernel: Depends on container host Compiler: gcc (Ubuntu 9.4.0-1ubuntu1~20.04.2) 9.4.0 Ubuntu 22.04 Kernel: Depends on container host Compiler: gcc (Ubuntu 11.4.0-1ubuntu1~22.04) 11.4.0 Ubuntu 24.04 Kernel: Depends on container host Compiler: gcc (Ubuntu 13.3.0-6ubuntu2~24.04) 13.3.0 Alpine Kernel: Depends on container host Compiler: gcc (Alpine 14.2.0) 14.2.0 FreeBSD 13.4 Kernel: 13.4-RELEASE-p1 Compiler: clang 18.1.6 FreeBSD 14.2 Kernel: 14.2-RELEASE Compiler: clang 18.1.6 Windows Server 2022 Kernel: 10.0.20348.2031 Compiler: clang 15.0.7, gcc 14.1.0 (MinGW), and MSVC VS 19.39.33521 To view detailed results, visit: https://lab.dpdk.org/results/dashboard/patchsets/32327/ UNH-IOL DPDK Community Lab To manage your email subscriptions, visit: https://lab.dpdk.org/results/dashboard/preferences/subscriptions/