From mboxrd@z Thu Jan 1 00:00:00 1970 Return-Path: Received: from mails.dpdk.org (mails.dpdk.org [217.70.189.124]) by inbox.dpdk.org (Postfix) with ESMTP id 8D645461A0 for ; Wed, 5 Feb 2025 18:24:57 +0100 (CET) Received: from mails.dpdk.org (localhost [127.0.0.1]) by mails.dpdk.org (Postfix) with ESMTP id 82A97402E4; Wed, 5 Feb 2025 18:24:57 +0100 (CET) Received: from mail-pj1-f98.google.com (mail-pj1-f98.google.com [209.85.216.98]) by mails.dpdk.org (Postfix) with ESMTP id E18BA402E0 for ; Wed, 5 Feb 2025 18:24:55 +0100 (CET) Received: by mail-pj1-f98.google.com with SMTP id 98e67ed59e1d1-2f43d17b0e3so12000157a91.0 for ; Wed, 05 Feb 2025 09:24:55 -0800 (PST) DKIM-Signature: v=1; a=rsa-sha256; c=relaxed/relaxed; d=iol.unh.edu; s=unh-iol; t=1738776295; x=1739381095; darn=dpdk.org; h=references:in-reply-to:cc:to:from:subject:message-id:date:from:to :cc:subject:date:message-id:reply-to; bh=faFozNt+CS0lXcEZRnl7rDBPQ0JhtWRrY6XzjrI1PM0=; b=ec9kGfsyrEM6oIpdrO52t727H1BiUeO/XbAuLsuzgqHReZ66OZUBYAyZwGxpCUL7iP ktrlJmky3GJQJ4uBk/y/sxiqtkB5z4/SI33EuEh2eGzZ2GxQ1wzlU06JNhxYN6f94suI dK9SKbG7O2bW9isiTF55kzSmDpy2tWXHEwUrs= X-Google-DKIM-Signature: v=1; a=rsa-sha256; c=relaxed/relaxed; d=1e100.net; s=20230601; t=1738776295; x=1739381095; h=references:in-reply-to:cc:to:from:subject:message-id:date :x-gm-message-state:from:to:cc:subject:date:message-id:reply-to; bh=faFozNt+CS0lXcEZRnl7rDBPQ0JhtWRrY6XzjrI1PM0=; b=nuB2o8A8eZXMq+j4YQj0tBTmBd7vHQ2bwRX4nqCjBounzIrV1m1J0HMKa7S8AzLKDQ oaoMte54eT9icym+RFQwhkymjcvrWubILteMFvJFCIaoT3/G67B72Y1Pi5ugdrXtJ+nE 4WsdnoUi3OoDKjg+Yq7Y4GE46xaIkpowLOv0ZVepq/QNSFpjOxatUmPF6ElbmP6jTzNO egsprO7cnOjbOXt/vMfjgC3Hr6dWZ+mgV9Ezzkl8mW9LcI3L1+emAuy4wBy58y7lWQcA tw6Ti13cNFPlldyOmL/rga35mY3F+4wqIXgw1J7Ilttirq0uoRLNIPVJ/OswyYmBH3vW UL6Q== X-Gm-Message-State: AOJu0YwPPzE+bWGc4iJj0r7jyPOM/pGkz2j7GzCctKHmSS91gPj5izIb 1pyhu7PIWnjfm9GKjS29RPanuqAL50SDlgISKYnra0K8a0CPzhLhmhScKM/RFqQDqEdgGGVEv7w DRvcoM7LttVAJTNSNgeSarbxVx3NKDzHgp2kLwjm3hKRodaSPuwtwzP0q X-Gm-Gg: ASbGncsv/KITkad65L52WcNqkScmu8oZeVYTs6BUnsbsPjXAQLhDTonY7ciG++kM/Y2 H9AClZ+DwCynGWNrmDNHt0m2IL8kOfbgC24MW2KDPjWilen9Os/8/y41Ry217EPCahfVdPxsL1C aXZMPpGKC70LJr2gF8zYEJEMzZuM26INnxr/ywJXFxj1NHAlf1Xl+uh+0sVEIzdpe0SaARjsBrb b1IAM4LEALgjAAM5HCX9r1z8iMyX3WB3Sk9P+jpcrI4pYolG1VNI2V8U/8S7ZGUNQzU+1iuNv7d nABvTqDQzq2kE2zHhsnr6XZONM8GK17d5uELje/wMg== X-Google-Smtp-Source: AGHT+IGN9PC0gPpnehGATORQQOkE++syPN9VM+BTGqFNcz2xBrdY+KWvyS4a1OEbAPqmS73dCGUU6FoaaHG0 X-Received: by 2002:a17:90b:1e50:b0:2ee:9e06:7db0 with SMTP id 98e67ed59e1d1-2f9e07677cdmr5988773a91.11.1738776294147; Wed, 05 Feb 2025 09:24:54 -0800 (PST) Received: from postal.iol.unh.edu (postal.iol.unh.edu. [2606:4100:3880:1234::84]) by smtp-relay.gmail.com with ESMTPS id 98e67ed59e1d1-2f9e1d8caafsm176406a91.7.2025.02.05.09.24.54 (version=TLS1_2 cipher=ECDHE-ECDSA-AES128-GCM-SHA256 bits=128/128); Wed, 05 Feb 2025 09:24:54 -0800 (PST) X-Relaying-Domain: iol.unh.edu Date: Wed, 05 Feb 2025 09:24:54 -0800 (PST) Message-ID: <67a39ee6.170a0220.31c20.7b51SMTPIN_ADDED_MISSING@mx.google.com> Received: from [172.21.0.17] (unknown [172.18.0.240]) by postal.iol.unh.edu (Postfix) with ESMTP id 482256052471; Wed, 5 Feb 2025 12:24:53 -0500 (EST) Subject: |SUCCESS| pw150068-150077 [PATCH] [10/10] net/ixgbe: update base dri From: dpdklab@iol.unh.edu To: Test Report Cc: dpdk-test-reports@iol.unh.edu In-Reply-To: <20250114101024.159941-11-yuanx.wang@intel.com> References: <20250114101024.159941-11-yuanx.wang@intel.com> Content-Type: text/plain X-BeenThere: test-report@dpdk.org X-Mailman-Version: 2.1.29 Precedence: list List-Id: automatic DPDK test reports List-Unsubscribe: , List-Archive: List-Post: List-Help: List-Subscribe: , Errors-To: test-report-bounces@dpdk.org Test-Label: iol-compile-amd64-testing Test-Status: SUCCESS http://dpdk.org/patch/150077 _Testing PASS_ Submitter: Yuan Wang Date: Tuesday, January 14 2025 10:10:20 DPDK git baseline: Repo:dpdk Branch: master CommitID:ce85dd8562ad9673eb4fe46b4a8bd3a508e8b32f 150068-150077 --> testing pass Test environment and result as below: +---------------------+--------------------+------------------+-------------------+-------------------+-------------------------+----------------------+ | Environment | dpdk_meson_compile | dpdk_compile_ovs | dpdk_compile_spdk | dpdk_msvc_compile | dpdk_llvm_clang_compile | dpdk_mingw64_compile | +=====================+====================+==================+===================+===================+=========================+======================+ | Fedora 40 | PASS | PASS | PASS | SKIPPED | SKIPPED | SKIPPED | +---------------------+--------------------+------------------+-------------------+-------------------+-------------------------+----------------------+ | Debian 12 | PASS | PASS | PASS | SKIPPED | SKIPPED | SKIPPED | +---------------------+--------------------+------------------+-------------------+-------------------+-------------------------+----------------------+ | Fedora 40 (Clang) | PASS | PASS | PASS | SKIPPED | SKIPPED | SKIPPED | +---------------------+--------------------+------------------+-------------------+-------------------+-------------------------+----------------------+ | CentOS Stream 9 | PASS | PASS | PASS | SKIPPED | SKIPPED | SKIPPED | +---------------------+--------------------+------------------+-------------------+-------------------+-------------------------+----------------------+ | Fedora 41 (Clang) | PASS | PASS | PASS | SKIPPED | SKIPPED | SKIPPED | +---------------------+--------------------+------------------+-------------------+-------------------+-------------------------+----------------------+ | Debian Bullseye | PASS | PASS | PASS | SKIPPED | SKIPPED | SKIPPED | +---------------------+--------------------+------------------+-------------------+-------------------+-------------------------+----------------------+ | Fedora 41 | PASS | PASS | PASS | SKIPPED | SKIPPED | SKIPPED | +---------------------+--------------------+------------------+-------------------+-------------------+-------------------------+----------------------+ | openSUSE Leap 15 | PASS | SKIPPED | SKIPPED | SKIPPED | SKIPPED | SKIPPED | +---------------------+--------------------+------------------+-------------------+-------------------+-------------------------+----------------------+ | RHEL8 | PASS | PASS | SKIPPED | SKIPPED | SKIPPED | SKIPPED | +---------------------+--------------------+------------------+-------------------+-------------------+-------------------------+----------------------+ | RHEL9 | PASS | PASS | SKIPPED | SKIPPED | SKIPPED | SKIPPED | +---------------------+--------------------+------------------+-------------------+-------------------+-------------------------+----------------------+ | Ubuntu 20.04 | PASS | SKIPPED | SKIPPED | SKIPPED | SKIPPED | SKIPPED | +---------------------+--------------------+------------------+-------------------+-------------------+-------------------------+----------------------+ | Ubuntu 22.04 | PASS | PASS | PASS | SKIPPED | SKIPPED | SKIPPED | +---------------------+--------------------+------------------+-------------------+-------------------+-------------------------+----------------------+ | Ubuntu 24.04 | PASS | PASS | PASS | SKIPPED | SKIPPED | SKIPPED | +---------------------+--------------------+------------------+-------------------+-------------------+-------------------------+----------------------+ | FreeBSD 13.4 | PASS | SKIPPED | SKIPPED | SKIPPED | SKIPPED | SKIPPED | +---------------------+--------------------+------------------+-------------------+-------------------+-------------------------+----------------------+ | Alpine | PASS | PASS | SKIPPED | SKIPPED | SKIPPED | SKIPPED | +---------------------+--------------------+------------------+-------------------+-------------------+-------------------------+----------------------+ | FreeBSD 14.2 | PASS | SKIPPED | SKIPPED | SKIPPED | SKIPPED | SKIPPED | +---------------------+--------------------+------------------+-------------------+-------------------+-------------------------+----------------------+ | Windows Server 2022 | SKIPPED | SKIPPED | SKIPPED | PASS | PASS | PASS | +---------------------+--------------------+------------------+-------------------+-------------------+-------------------------+----------------------+ Fedora 40 Kernel: Depends on container host Compiler: gcc 14.2.1 20240912 (Red Hat 14.2.1-3) Debian 12 Kernel: Depends on container host Compiler: gcc (Debian 12.2.0-14) 12.2.0 Fedora 40 (Clang) Kernel: Depends on container host Compiler: clang 18.1.8 (Fedora 18.1.8-1.fc40) CentOS Stream 9 Kernel: Depends on container host Compiler: gcc 11.5.0 20240719 (Red Hat 11.5.0-2) Fedora 41 (Clang) Kernel: Depends on container host Compiler: clang 19.1.5 (Fedora 19.1.5-1.fc41) Debian Bullseye Kernel: Depends on container host Compiler: gcc (Debian 10.2.1-6) 10.2.1 20210110 Fedora 41 Kernel: Depends on container host Compiler: gcc 14.2.1 20240912 (Red Hat 14.2.1-3) openSUSE Leap 15 Kernel: Depends on container host Compiler: gcc (SUSE Linux) 7.5.0 RHEL8 Kernel: Depends on container host Compiler: gcc 8.5.0 20210514 (Red Hat 8.5.0-22) RHEL9 Kernel: Depends on container host Compiler: gcc 11.5.0 20240719 (Red Hat 11.5.0-2) Ubuntu 20.04 Kernel: Depends on container host Compiler: gcc (Ubuntu 9.4.0-1ubuntu1~20.04.2) 9.4.0 Ubuntu 22.04 Kernel: Depends on container host Compiler: gcc (Ubuntu 11.4.0-1ubuntu1~22.04) 11.4.0 Ubuntu 24.04 Kernel: Depends on container host Compiler: gcc (Ubuntu 13.3.0-6ubuntu2~24.04) 13.3.0 FreeBSD 13.4 Kernel: 13.4-RELEASE-p1 Compiler: clang 18.1.6 Alpine Kernel: Depends on container host Compiler: gcc (Alpine 14.2.0) 14.2.0 FreeBSD 14.2 Kernel: 14.2-RELEASE Compiler: clang 18.1.6 Windows Server 2022 Kernel: 10.0.20348.2031 Compiler: clang 15.0.7, gcc 14.1.0 (MinGW), and MSVC VS 19.39.33521 To view detailed results, visit: https://lab.dpdk.org/results/dashboard/patchsets/32316/ UNH-IOL DPDK Community Lab To manage your email subscriptions, visit: https://lab.dpdk.org/results/dashboard/preferences/subscriptions/