From mboxrd@z Thu Jan 1 00:00:00 1970 Return-Path: Received: from mails.dpdk.org (mails.dpdk.org [217.70.189.124]) by inbox.dpdk.org (Postfix) with ESMTP id A4800461A0 for ; Wed, 5 Feb 2025 18:24:59 +0100 (CET) Received: from mails.dpdk.org (localhost [127.0.0.1]) by mails.dpdk.org (Postfix) with ESMTP id A0D3F402E4; Wed, 5 Feb 2025 18:24:59 +0100 (CET) Received: from mail-qv1-f100.google.com (mail-qv1-f100.google.com [209.85.219.100]) by mails.dpdk.org (Postfix) with ESMTP id 98A08402E0 for ; Wed, 5 Feb 2025 18:24:58 +0100 (CET) Received: by mail-qv1-f100.google.com with SMTP id 6a1803df08f44-6d89a727a19so11025256d6.0 for ; Wed, 05 Feb 2025 09:24:58 -0800 (PST) DKIM-Signature: v=1; a=rsa-sha256; c=relaxed/relaxed; d=iol.unh.edu; s=unh-iol; t=1738776298; x=1739381098; darn=dpdk.org; h=references:in-reply-to:cc:to:from:subject:message-id:date:from:to :cc:subject:date:message-id:reply-to; bh=603F36Ui74RmmxbMVw5DOFLGN4q6xkXMAMS/awCxk7g=; b=GF9b0jvP3bnenOAB58ABkMCU7YMQWKWtzCjBAXDMNrLBPIT20O8b1wq7jerLbell0R tnqETb/3AEnQTx86ECaNj6kqtULoNxBKGbM2lHicglNNkwO3mJBg/YaIGFkewlSGwEkg wpyNWewBhAaukra6PDzYNvS21wRCIaIv9iA94= X-Google-DKIM-Signature: v=1; a=rsa-sha256; c=relaxed/relaxed; d=1e100.net; s=20230601; t=1738776298; x=1739381098; h=references:in-reply-to:cc:to:from:subject:message-id:date :x-gm-message-state:from:to:cc:subject:date:message-id:reply-to; bh=603F36Ui74RmmxbMVw5DOFLGN4q6xkXMAMS/awCxk7g=; b=DOQWRBdqdzLt2kNXf0FwYiaEk2TbS/l15uwadGRBrQRCTTLm4NpMnA5p8SobFsQFQG JjYlrTxypyC4jgyqa+nNbOGc1ayuQ8vuHgbqp+belk3AvwtLT9weyy79eP5DaRVcV5ej kYht6LcjgkzRa+FvYn32PWPCZu8Lnu9pyxCrmhQOCotZ/dfZWAa4JUSeaXOWalcJiniE nvCgpEU+Xz4wRQyLEr96aM3LYYAYDwmo0Ia8tbnPHh4IoI/xLnKhqIkcZHF8VzrVOHJp 6NBjVTDmhX55EjZp9gp9+vNbX+42bOoszc155cnwAhIsShazyZ+DN2fyj6iy3u8IWUki rfJA== X-Gm-Message-State: AOJu0YweHNTkyHunwEnWUextHhFOlCILuRVRS/CqU2L0hg8VtCtY8wZM 3zU8mUgFSj+sPJs2XB6ze7x+Vtpm9qX0w5+S5a6aw52KRXakXX4ux5sm+QPCxhwJOL8cyRl6ilE t6IgNfJWqRuS7rQrW2LNDpe716q7sfCb6bcTRbFFd X-Gm-Gg: ASbGnctDotzLi4oYLUUiJrmO2WFtzkzfR4yAMYolxH7DzajJ8VxCJuRLdmIKxClHxqE O6sX8zgrgYJQYM9owotrmhedkPmDdEx2ki3d9F2HqAjGp5tKanERdhaHt7732QOFZjwOXXlF29E 7Hj2nlifeYSv0kN69CkHBvksWrnz+So5pGLGhb2/XYq8Hs9dqTFPs2DZL4dMWNUJIfuClNrmIH9 PC0DQsvnS2G73OSdBtvsJJkXPvK419v3skBCZarz+dNCWNb7jFPWAP9uFtaHfGgGCQBHURxczgE /dDmVQMElR2rAnox9NNzjoVXpUi59A== X-Google-Smtp-Source: AGHT+IE1Y2Z0rwENwLSHS2ziJQjNVHXcyR3oxxNe8Dx++a4IG4UhO81tAOxoDuzp1ewR1X+Erauj7HEA89jz X-Received: by 2002:a05:6214:252c:b0:6d8:99cf:d2d0 with SMTP id 6a1803df08f44-6e439b611f5mr1330966d6.19.1738776298060; Wed, 05 Feb 2025 09:24:58 -0800 (PST) Received: from postal.iol.unh.edu (postal.iol.unh.edu. [132.177.123.84]) by smtp-relay.gmail.com with ESMTPS id 6a1803df08f44-6e254810114sm10577126d6.25.2025.02.05.09.24.58 (version=TLS1_2 cipher=ECDHE-ECDSA-AES128-GCM-SHA256 bits=128/128); Wed, 05 Feb 2025 09:24:58 -0800 (PST) X-Relaying-Domain: iol.unh.edu Date: Wed, 05 Feb 2025 09:24:58 -0800 (PST) Message-ID: <67a39eea.050a0220.2fe4aa.09e3SMTPIN_ADDED_MISSING@mx.google.com> Received: from [172.21.0.20] (unknown [172.18.0.240]) by postal.iol.unh.edu (Postfix) with ESMTP id CB1CB6052471; Wed, 5 Feb 2025 12:24:57 -0500 (EST) Subject: |SUCCESS| pw150367-150368 [PATCH] [2/2] net/nfp: support load firmwa From: dpdklab@iol.unh.edu To: Test Report Cc: dpdk-test-reports@iol.unh.edu In-Reply-To: <20250122014751.1706413-3-chaoyong.he@corigine.com> References: <20250122014751.1706413-3-chaoyong.he@corigine.com> Content-Type: text/plain X-BeenThere: test-report@dpdk.org X-Mailman-Version: 2.1.29 Precedence: list List-Id: automatic DPDK test reports List-Unsubscribe: , List-Archive: List-Post: List-Help: List-Subscribe: , Errors-To: test-report-bounces@dpdk.org Test-Label: iol-compile-amd64-testing Test-Status: SUCCESS http://dpdk.org/patch/150368 _Testing PASS_ Submitter: Chaoyong He Date: Wednesday, January 22 2025 01:47:51 DPDK git baseline: Repo:dpdk Branch: master CommitID:347a988b93e7b63b27f1dfa09bd03318d810a9a9 150367-150368 --> testing pass Test environment and result as below: +---------------------+--------------------+------------------+-------------------+-------------------------+-------------------+----------------------+ | Environment | dpdk_meson_compile | dpdk_compile_ovs | dpdk_compile_spdk | dpdk_llvm_clang_compile | dpdk_msvc_compile | dpdk_mingw64_compile | +=====================+====================+==================+===================+=========================+===================+======================+ | CentOS Stream 9 | PASS | PASS | PASS | SKIPPED | SKIPPED | SKIPPED | +---------------------+--------------------+------------------+-------------------+-------------------------+-------------------+----------------------+ | Debian 12 | PASS | PASS | PASS | SKIPPED | SKIPPED | SKIPPED | +---------------------+--------------------+------------------+-------------------+-------------------------+-------------------+----------------------+ | Debian Bullseye | PASS | PASS | PASS | SKIPPED | SKIPPED | SKIPPED | +---------------------+--------------------+------------------+-------------------+-------------------------+-------------------+----------------------+ | Fedora 40 | PASS | PASS | PASS | SKIPPED | SKIPPED | SKIPPED | +---------------------+--------------------+------------------+-------------------+-------------------------+-------------------+----------------------+ | Fedora 40 (Clang) | PASS | PASS | PASS | SKIPPED | SKIPPED | SKIPPED | +---------------------+--------------------+------------------+-------------------+-------------------------+-------------------+----------------------+ | Fedora 41 | PASS | PASS | PASS | SKIPPED | SKIPPED | SKIPPED | +---------------------+--------------------+------------------+-------------------+-------------------------+-------------------+----------------------+ | Fedora 41 (Clang) | PASS | PASS | PASS | SKIPPED | SKIPPED | SKIPPED | +---------------------+--------------------+------------------+-------------------+-------------------------+-------------------+----------------------+ | openSUSE Leap 15 | PASS | SKIPPED | SKIPPED | SKIPPED | SKIPPED | SKIPPED | +---------------------+--------------------+------------------+-------------------+-------------------------+-------------------+----------------------+ | RHEL9 | PASS | PASS | SKIPPED | SKIPPED | SKIPPED | SKIPPED | +---------------------+--------------------+------------------+-------------------+-------------------------+-------------------+----------------------+ | RHEL8 | PASS | PASS | SKIPPED | SKIPPED | SKIPPED | SKIPPED | +---------------------+--------------------+------------------+-------------------+-------------------------+-------------------+----------------------+ | Ubuntu 20.04 | PASS | SKIPPED | SKIPPED | SKIPPED | SKIPPED | SKIPPED | +---------------------+--------------------+------------------+-------------------+-------------------------+-------------------+----------------------+ | Ubuntu 22.04 | PASS | PASS | PASS | SKIPPED | SKIPPED | SKIPPED | +---------------------+--------------------+------------------+-------------------+-------------------------+-------------------+----------------------+ | Ubuntu 24.04 | PASS | PASS | PASS | SKIPPED | SKIPPED | SKIPPED | +---------------------+--------------------+------------------+-------------------+-------------------------+-------------------+----------------------+ | Alpine | PASS | PASS | SKIPPED | SKIPPED | SKIPPED | SKIPPED | +---------------------+--------------------+------------------+-------------------+-------------------------+-------------------+----------------------+ | FreeBSD 13.4 | PASS | SKIPPED | SKIPPED | SKIPPED | SKIPPED | SKIPPED | +---------------------+--------------------+------------------+-------------------+-------------------------+-------------------+----------------------+ | FreeBSD 14.2 | PASS | SKIPPED | SKIPPED | SKIPPED | SKIPPED | SKIPPED | +---------------------+--------------------+------------------+-------------------+-------------------------+-------------------+----------------------+ | Windows Server 2022 | SKIPPED | SKIPPED | SKIPPED | PASS | PASS | PASS | +---------------------+--------------------+------------------+-------------------+-------------------------+-------------------+----------------------+ CentOS Stream 9 Kernel: Depends on container host Compiler: gcc 11.5.0 20240719 (Red Hat 11.5.0-2) Debian 12 Kernel: Depends on container host Compiler: gcc (Debian 12.2.0-14) 12.2.0 Debian Bullseye Kernel: Depends on container host Compiler: gcc (Debian 10.2.1-6) 10.2.1 20210110 Fedora 40 Kernel: Depends on container host Compiler: gcc 14.2.1 20240912 (Red Hat 14.2.1-3) Fedora 40 (Clang) Kernel: Depends on container host Compiler: clang 18.1.8 (Fedora 18.1.8-1.fc40) Fedora 41 Kernel: Depends on container host Compiler: gcc 14.2.1 20240912 (Red Hat 14.2.1-3) Fedora 41 (Clang) Kernel: Depends on container host Compiler: clang 19.1.5 (Fedora 19.1.5-1.fc41) openSUSE Leap 15 Kernel: Depends on container host Compiler: gcc (SUSE Linux) 7.5.0 RHEL9 Kernel: Depends on container host Compiler: gcc 11.5.0 20240719 (Red Hat 11.5.0-2) RHEL8 Kernel: Depends on container host Compiler: gcc 8.5.0 20210514 (Red Hat 8.5.0-22) Ubuntu 20.04 Kernel: Depends on container host Compiler: gcc (Ubuntu 9.4.0-1ubuntu1~20.04.2) 9.4.0 Ubuntu 22.04 Kernel: Depends on container host Compiler: gcc (Ubuntu 11.4.0-1ubuntu1~22.04) 11.4.0 Ubuntu 24.04 Kernel: Depends on container host Compiler: gcc (Ubuntu 13.3.0-6ubuntu2~24.04) 13.3.0 Alpine Kernel: Depends on container host Compiler: gcc (Alpine 14.2.0) 14.2.0 FreeBSD 13.4 Kernel: 13.4-RELEASE-p1 Compiler: clang 18.1.6 FreeBSD 14.2 Kernel: 14.2-RELEASE Compiler: clang 18.1.6 Windows Server 2022 Kernel: 10.0.20348.2031 Compiler: clang 15.0.7, gcc 14.1.0 (MinGW), and MSVC VS 19.39.33521 To view detailed results, visit: https://lab.dpdk.org/results/dashboard/patchsets/32392/ UNH-IOL DPDK Community Lab To manage your email subscriptions, visit: https://lab.dpdk.org/results/dashboard/preferences/subscriptions/