From mboxrd@z Thu Jan 1 00:00:00 1970 Return-Path: Received: from mails.dpdk.org (mails.dpdk.org [217.70.189.124]) by inbox.dpdk.org (Postfix) with ESMTP id BADCB461A0 for ; Wed, 5 Feb 2025 18:25:01 +0100 (CET) Received: from mails.dpdk.org (localhost [127.0.0.1]) by mails.dpdk.org (Postfix) with ESMTP id B5864402E4; Wed, 5 Feb 2025 18:25:01 +0100 (CET) Received: from mail-yw1-f225.google.com (mail-yw1-f225.google.com [209.85.128.225]) by mails.dpdk.org (Postfix) with ESMTP id 1621D402E0 for ; Wed, 5 Feb 2025 18:25:00 +0100 (CET) Received: by mail-yw1-f225.google.com with SMTP id 00721157ae682-6f678a27787so289427b3.1 for ; Wed, 05 Feb 2025 09:25:00 -0800 (PST) DKIM-Signature: v=1; a=rsa-sha256; c=relaxed/relaxed; d=iol.unh.edu; s=unh-iol; t=1738776299; x=1739381099; darn=dpdk.org; h=cc:to:from:subject:message-id:date:from:to:cc:subject:date :message-id:reply-to; bh=cJUklU4fC1letuZhiKtLbyv22fUVxngkc920XnaQ8mg=; b=f9R3hWxXbbsxhR0Ix/IS7xvMuQTtwc6k1vNVtorZrWFPbvzbegGbv09p4R7oHduAPE u7jm9Sx0wcoDjQIV0INZjmVV6yUBREb0i1C4MiUxNM8R5sCT/i9s8IucOwaoWD8EqqmS crrRwR0gcXTaysyF7VMBdO7d9JcN9A7ZPGzkQ= X-Google-DKIM-Signature: v=1; a=rsa-sha256; c=relaxed/relaxed; d=1e100.net; s=20230601; t=1738776299; x=1739381099; h=cc:to:from:subject:message-id:date:x-gm-message-state:from:to:cc :subject:date:message-id:reply-to; bh=cJUklU4fC1letuZhiKtLbyv22fUVxngkc920XnaQ8mg=; b=I7e6o8TD74qwqjfKDZ1vt3ZQTxyvoGS2Gv3ghBFrkSr4xL81teWkDpLoAm6cf646a4 97uhKLCiLtoXwNA0MrStr7HKhd0LVVr4EAVTzDBtgvIpBjOOC7IHQkb4oOaTtSYF7Ut5 Zp9j8x7zWw8uqkxcbJLTApaRs0bgOa166durBYnbJdd54zbW2ohT6OVDDOpNVna63Qpi 5L20uTwDIUNCn0EWXNQNYLGInQ0ZZP29sbHH3CQxHD3gTn2Zha+pPVxxKjvZ95yteNb+ F9nefZB82eDWxyj/t+We0mrrJsjlrRLgwFE8yDCyfjxNhIdBLQi/h4tjfT+uTtTopRx/ w6Fw== X-Gm-Message-State: AOJu0YzXGNFBncm8pfhkwgCvX8H/5ndX7yCtNTgroKMpW0PoXGcP54vc ecRVghTETKRnQ8iiqMeYE5Yy78+ppnfERyNX5KC37oL1Q1zS1TdM8hTk5lQ76DP48MKQvVxzw7H in6cJUrDvySjAttPz79KMPnOkJzk+7bGsL9MriGhRtRcMsu6g X-Gm-Gg: ASbGncvbHH9siUycmRfzKuwqsOVrws/fvz2mTW9U85JEY0xmGLuO+41pQRcKX9iqcuO BYBl1mu7u1UvjTcUXA92oO+58xM3PwXiRxBdCK1p9PbzwGNft7inO3aX9ZpZ+QVXtoVbQIR5AMy UJqNLsXu72riRGiIW7FX3xqSkItHVQUHlmJ3PYA8rnkhc9EputpCwItsQwe80yuNOxCl6RgczF7 tz5p7ZYv169R6a85Kg8vBtB2v5ku3ZtDjtDbefCX2kgV3dwXUrTkzX3Ik/s4lBCxiF3BMSv33Ws dSeNfPvR8nsZtANXTX8ns7mzIU0VwLvhprDuMiCUaQ== X-Google-Smtp-Source: AGHT+IFPS4/M6HlDF5Qa5OYk9SFa5xnY9W9dz0pKPrQBvucnkrll/iorpEOVSKw20F6ZHNwZGe/wxwW4zReZ X-Received: by 2002:a05:690c:7090:b0:6f9:447d:d1aa with SMTP id 00721157ae682-6f989f82551mr34490057b3.27.1738776299484; Wed, 05 Feb 2025 09:24:59 -0800 (PST) Received: from postal.iol.unh.edu (postal.iol.unh.edu. [2606:4100:3880:1234::84]) by smtp-relay.gmail.com with ESMTPS id 00721157ae682-6f8c463ca95sm7333477b3.20.2025.02.05.09.24.59 (version=TLS1_2 cipher=ECDHE-ECDSA-AES128-GCM-SHA256 bits=128/128); Wed, 05 Feb 2025 09:24:59 -0800 (PST) X-Relaying-Domain: iol.unh.edu Date: Wed, 05 Feb 2025 09:24:59 -0800 (PST) Message-ID: <67a39eeb.050a0220.31e70d.0775SMTPIN_ADDED_MISSING@mx.google.com> Received: from [172.17.0.5] (unknown [172.18.0.217]) by postal.iol.unh.edu (Postfix) with ESMTP id 34E176052471; Wed, 5 Feb 2025 12:24:59 -0500 (EST) Subject: |SUCCESS| [GIT MASTER] c66daa12e76d7b4912cfb7109a761856a7a873ab From: dpdklab@iol.unh.edu To: Test Report Cc: dpdk-test-reports@iol.unh.edu, Xueming Li , Christian Ehrhardt , Kevin Traynor , Luca Boccassi Content-Type: text/plain X-BeenThere: test-report@dpdk.org X-Mailman-Version: 2.1.29 Precedence: list List-Id: automatic DPDK test reports List-Unsubscribe: , List-Archive: List-Post: List-Help: List-Subscribe: , Errors-To: test-report-bounces@dpdk.org _Testing PASS_ Branch: tags/v23.11 c66daa12e76d7b4912cfb7109a761856a7a873ab --> testing pass Test environment and result as below: +---------------------+--------------------+------------------+-------------------+-------------------+-------------------------+----------------------+ | Environment | dpdk_meson_compile | dpdk_compile_ovs | dpdk_compile_spdk | dpdk_msvc_compile | dpdk_llvm_clang_compile | dpdk_mingw64_compile | +=====================+====================+==================+===================+===================+=========================+======================+ | Fedora 40 | PASS | PASS | PASS | SKIPPED | SKIPPED | SKIPPED | +---------------------+--------------------+------------------+-------------------+-------------------+-------------------------+----------------------+ | CentOS Stream 9 | PASS | PASS | PASS | SKIPPED | SKIPPED | SKIPPED | +---------------------+--------------------+------------------+-------------------+-------------------+-------------------------+----------------------+ | Fedora 40 (Clang) | PASS | PASS | PASS | SKIPPED | SKIPPED | SKIPPED | +---------------------+--------------------+------------------+-------------------+-------------------+-------------------------+----------------------+ | Debian Bullseye | PASS | PASS | PASS | SKIPPED | SKIPPED | SKIPPED | +---------------------+--------------------+------------------+-------------------+-------------------+-------------------------+----------------------+ | Debian 12 | PASS | PASS | PASS | SKIPPED | SKIPPED | SKIPPED | +---------------------+--------------------+------------------+-------------------+-------------------+-------------------------+----------------------+ | RHEL9 | PASS | PASS | SKIPPED | SKIPPED | SKIPPED | SKIPPED | +---------------------+--------------------+------------------+-------------------+-------------------+-------------------------+----------------------+ | Fedora 41 (Clang) | PASS | PASS | PASS | SKIPPED | SKIPPED | SKIPPED | +---------------------+--------------------+------------------+-------------------+-------------------+-------------------------+----------------------+ | Alpine | PASS | PASS | SKIPPED | SKIPPED | SKIPPED | SKIPPED | +---------------------+--------------------+------------------+-------------------+-------------------+-------------------------+----------------------+ | openSUSE Leap 15 | PASS | SKIPPED | SKIPPED | SKIPPED | SKIPPED | SKIPPED | +---------------------+--------------------+------------------+-------------------+-------------------+-------------------------+----------------------+ | RHEL8 | PASS | PASS | SKIPPED | SKIPPED | SKIPPED | SKIPPED | +---------------------+--------------------+------------------+-------------------+-------------------+-------------------------+----------------------+ | Fedora 41 | PASS | PASS | PASS | SKIPPED | SKIPPED | SKIPPED | +---------------------+--------------------+------------------+-------------------+-------------------+-------------------------+----------------------+ | Ubuntu 24.04 | PASS | PASS | PASS | SKIPPED | SKIPPED | SKIPPED | +---------------------+--------------------+------------------+-------------------+-------------------+-------------------------+----------------------+ | Ubuntu 22.04 | PASS | PASS | PASS | SKIPPED | SKIPPED | SKIPPED | +---------------------+--------------------+------------------+-------------------+-------------------+-------------------------+----------------------+ | Ubuntu 20.04 | PASS | SKIPPED | SKIPPED | SKIPPED | SKIPPED | SKIPPED | +---------------------+--------------------+------------------+-------------------+-------------------+-------------------------+----------------------+ | FreeBSD 13.4 | PASS | SKIPPED | SKIPPED | SKIPPED | SKIPPED | SKIPPED | +---------------------+--------------------+------------------+-------------------+-------------------+-------------------------+----------------------+ | FreeBSD 14.2 | PASS | SKIPPED | SKIPPED | SKIPPED | SKIPPED | SKIPPED | +---------------------+--------------------+------------------+-------------------+-------------------+-------------------------+----------------------+ | Windows Server 2022 | SKIPPED | SKIPPED | SKIPPED | PASS | PASS | PASS | +---------------------+--------------------+------------------+-------------------+-------------------+-------------------------+----------------------+ Fedora 40 Kernel: Depends on container host Compiler: gcc 14.2.1 20240912 (Red Hat 14.2.1-3) CentOS Stream 9 Kernel: Depends on container host Compiler: gcc 11.5.0 20240719 (Red Hat 11.5.0-2) Fedora 40 (Clang) Kernel: Depends on container host Compiler: clang 18.1.8 (Fedora 18.1.8-1.fc40) Debian Bullseye Kernel: Depends on container host Compiler: gcc (Debian 10.2.1-6) 10.2.1 20210110 Debian 12 Kernel: Depends on container host Compiler: gcc (Debian 12.2.0-14) 12.2.0 RHEL9 Kernel: Depends on container host Compiler: gcc 11.5.0 20240719 (Red Hat 11.5.0-2) Fedora 41 (Clang) Kernel: Depends on container host Compiler: clang 19.1.5 (Fedora 19.1.5-1.fc41) Alpine Kernel: Depends on container host Compiler: gcc (Alpine 14.2.0) 14.2.0 openSUSE Leap 15 Kernel: Depends on container host Compiler: gcc (SUSE Linux) 7.5.0 RHEL8 Kernel: Depends on container host Compiler: gcc 8.5.0 20210514 (Red Hat 8.5.0-22) Fedora 41 Kernel: Depends on container host Compiler: gcc 14.2.1 20240912 (Red Hat 14.2.1-3) Ubuntu 24.04 Kernel: Depends on container host Compiler: gcc (Ubuntu 13.3.0-6ubuntu2~24.04) 13.3.0 Ubuntu 22.04 Kernel: Depends on container host Compiler: gcc (Ubuntu 11.4.0-1ubuntu1~22.04) 11.4.0 Ubuntu 20.04 Kernel: Depends on container host Compiler: gcc (Ubuntu 9.4.0-1ubuntu1~20.04.2) 9.4.0 FreeBSD 13.4 Kernel: 13.4-RELEASE-p1 Compiler: clang 18.1.6 FreeBSD 14.2 Kernel: 14.2-RELEASE Compiler: clang 18.1.6 Windows Server 2022 Kernel: 10.0.20348.2031 Compiler: clang 15.0.7, gcc 14.1.0 (MinGW), and MSVC VS 19.39.33521 To view detailed results, visit: https://lab.dpdk.org/results/dashboard/tarballs/32311/ UNH-IOL DPDK Community Lab To manage your email subscriptions, visit: https://lab.dpdk.org/results/dashboard/preferences/subscriptions/