From mboxrd@z Thu Jan 1 00:00:00 1970 Return-Path: Received: from mails.dpdk.org (mails.dpdk.org [217.70.189.124]) by inbox.dpdk.org (Postfix) with ESMTP id CA80C461A0 for ; Wed, 5 Feb 2025 18:25:04 +0100 (CET) Received: from mails.dpdk.org (localhost [127.0.0.1]) by mails.dpdk.org (Postfix) with ESMTP id C7ECA402E4; Wed, 5 Feb 2025 18:25:04 +0100 (CET) Received: from mail-yw1-f226.google.com (mail-yw1-f226.google.com [209.85.128.226]) by mails.dpdk.org (Postfix) with ESMTP id E1D52402E0 for ; Wed, 5 Feb 2025 18:25:02 +0100 (CET) Received: by mail-yw1-f226.google.com with SMTP id 00721157ae682-6ef9b8b4f13so204257b3.2 for ; Wed, 05 Feb 2025 09:25:02 -0800 (PST) DKIM-Signature: v=1; a=rsa-sha256; c=relaxed/relaxed; d=iol.unh.edu; s=unh-iol; t=1738776302; x=1739381102; darn=dpdk.org; h=cc:to:from:subject:message-id:date:from:to:cc:subject:date :message-id:reply-to; bh=yicbUGNHAKRpGBPSYZa46mqYLdoNoNhNa86c67ooV+M=; b=GR+3Wy/TJ8+Ipx80dWfgevaRsW4FY4eHtKQXBVVujwxVYFpWoxsDjBpI+M0kyshkKV k1bbPV5OK+I5VoGRQ8kXS+kGpFPFldo1SR+x7FwDvWjJ315rvbFtshuy0EdJl+JXHL7k Z5aMSuKt6N1eeSe1MtjDfEfzsjJqAOZKChEkQ= X-Google-DKIM-Signature: v=1; a=rsa-sha256; c=relaxed/relaxed; d=1e100.net; s=20230601; t=1738776302; x=1739381102; h=cc:to:from:subject:message-id:date:x-gm-message-state:from:to:cc :subject:date:message-id:reply-to; bh=yicbUGNHAKRpGBPSYZa46mqYLdoNoNhNa86c67ooV+M=; b=rZWLCp4N699JSTGD6UmDn5JJfYSAGgSKDPbV806o6X65lejpjLSnTuHnhs1tsq1JxM wsKSG7o4+WD0tlkG6HewIm8bonObaPgichgH/ikZ7Co8jJBfFyEuLXWmBGDfig4nHImR Qa2C2L0SgHoa+M7cIEkm49JCkoB6mK2FnqJrZ0essUv8JyDUSj2k38euU7Kg7wAy8o4j yJhrRJ3TGbdf1ZwD2/iSm8wqtX7E8YDc/e/zyRkUHLGWS9axrBXO+1iK4FR9wHvkSnXn MLYVb7vfU4jon1BTULvifW/lLq/Ho2SX2/U4QaivqCwF1b+joslUa4oj/aQ8B8IUYWyF hZgA== X-Gm-Message-State: AOJu0YymABhY46Yd9FJKvvcU2U6jZJlnCJVSAbsKm766MKWYbYzrrb1f XYKSvqizFZP7UhvSRZzbTCePpwbAQ8lqzQGO+qjBY5/o82y0TrNwFF20gOvdAMmWjmfhvd/SK5J 9z+CKTrIu/MYP9bHGM/s8PZrAtciqOVTG5gp0ciQ08qzSrcWG X-Gm-Gg: ASbGncsQtd+4m/hj8Tg3vQhUh10A6Rmk0EjP2pPFZoAQpNFh97tsR9bvpZw0D9mQ/+L rmnTimSs0/rOQluyl3XeQR1ZVy/vhd1GCH9/ScSZwooMa9hqhPMbN+2K9XnANtW5mZQLi9JlKap Yo+Y9fm0Z+1fS9BT8IIoocT1epwGy1XSvMLQIer5MuQMmUXwvbhSf694Wl8LjqN/UcQgwFTHJ8c Yd+8diNqLl+JV5IIgAus3MUPeW5ia02om65yfnJ8Gq+eFHuQNh8DCL9rQXC0fJ9VJg+rNe1L/TR /R5m9HlXJLpo4eapKz+Wqil82q5whSi44JtT6QBwng== X-Google-Smtp-Source: AGHT+IG+NzqPeVWxRsVC0I79F+8Saw+y1WV7mn2np3HKv3KwYQP7rBu2DrMBVIwpO0nZmTplI4JZrVbpg7nc X-Received: by 2002:a05:690c:638a:b0:6f9:7f1c:5390 with SMTP id 00721157ae682-6f989f63273mr29816807b3.26.1738776302367; Wed, 05 Feb 2025 09:25:02 -0800 (PST) Received: from postal.iol.unh.edu (postal.iol.unh.edu. [2606:4100:3880:1234::84]) by smtp-relay.gmail.com with ESMTPS id 00721157ae682-6f94fcdea4esm4295187b3.56.2025.02.05.09.25.02 (version=TLS1_2 cipher=ECDHE-ECDSA-AES128-GCM-SHA256 bits=128/128); Wed, 05 Feb 2025 09:25:02 -0800 (PST) X-Relaying-Domain: iol.unh.edu Date: Wed, 05 Feb 2025 09:25:02 -0800 (PST) Message-ID: <67a39eee.050a0220.3b5fe8.1844SMTPIN_ADDED_MISSING@mx.google.com> Received: from [172.17.0.3] (unknown [172.18.0.215]) by postal.iol.unh.edu (Postfix) with ESMTP id 195886052477; Wed, 5 Feb 2025 12:25:02 -0500 (EST) Subject: |SUCCESS| [GIT MASTER] c66daa12e76d7b4912cfb7109a761856a7a873ab From: dpdklab@iol.unh.edu To: Test Report Cc: dpdk-test-reports@iol.unh.edu, Xueming Li , Christian Ehrhardt , Kevin Traynor , Luca Boccassi Content-Type: text/plain X-BeenThere: test-report@dpdk.org X-Mailman-Version: 2.1.29 Precedence: list List-Id: automatic DPDK test reports List-Unsubscribe: , List-Archive: List-Post: List-Help: List-Subscribe: , Errors-To: test-report-bounces@dpdk.org _Testing PASS_ Branch: tags/v23.11 c66daa12e76d7b4912cfb7109a761856a7a873ab --> testing pass Test environment and result as below: +---------------------+--------------------+------------------+-------------------+-------------------+-------------------------+----------------------+ | Environment | dpdk_meson_compile | dpdk_compile_ovs | dpdk_compile_spdk | dpdk_msvc_compile | dpdk_llvm_clang_compile | dpdk_mingw64_compile | +=====================+====================+==================+===================+===================+=========================+======================+ | CentOS Stream 9 | PASS | PASS | PASS | SKIPPED | SKIPPED | SKIPPED | +---------------------+--------------------+------------------+-------------------+-------------------+-------------------------+----------------------+ | Debian Bullseye | PASS | PASS | PASS | SKIPPED | SKIPPED | SKIPPED | +---------------------+--------------------+------------------+-------------------+-------------------+-------------------------+----------------------+ | Fedora 40 (Clang) | PASS | PASS | PASS | SKIPPED | SKIPPED | SKIPPED | +---------------------+--------------------+------------------+-------------------+-------------------+-------------------------+----------------------+ | Fedora 41 (Clang) | PASS | PASS | PASS | SKIPPED | SKIPPED | SKIPPED | +---------------------+--------------------+------------------+-------------------+-------------------+-------------------------+----------------------+ | Fedora 41 | PASS | PASS | PASS | SKIPPED | SKIPPED | SKIPPED | +---------------------+--------------------+------------------+-------------------+-------------------+-------------------------+----------------------+ | openSUSE Leap 15 | PASS | SKIPPED | SKIPPED | SKIPPED | SKIPPED | SKIPPED | +---------------------+--------------------+------------------+-------------------+-------------------+-------------------------+----------------------+ | RHEL8 | PASS | PASS | SKIPPED | SKIPPED | SKIPPED | SKIPPED | +---------------------+--------------------+------------------+-------------------+-------------------+-------------------------+----------------------+ | Ubuntu 20.04 | PASS | SKIPPED | SKIPPED | SKIPPED | SKIPPED | SKIPPED | +---------------------+--------------------+------------------+-------------------+-------------------+-------------------------+----------------------+ | Ubuntu 22.04 | PASS | PASS | PASS | SKIPPED | SKIPPED | SKIPPED | +---------------------+--------------------+------------------+-------------------+-------------------+-------------------------+----------------------+ | Ubuntu 24.04 | PASS | PASS | PASS | SKIPPED | SKIPPED | SKIPPED | +---------------------+--------------------+------------------+-------------------+-------------------+-------------------------+----------------------+ | FreeBSD 13.4 | PASS | SKIPPED | SKIPPED | SKIPPED | SKIPPED | SKIPPED | +---------------------+--------------------+------------------+-------------------+-------------------+-------------------------+----------------------+ | Alpine | PASS | PASS | SKIPPED | SKIPPED | SKIPPED | SKIPPED | +---------------------+--------------------+------------------+-------------------+-------------------+-------------------------+----------------------+ | FreeBSD 14.2 | PASS | SKIPPED | SKIPPED | SKIPPED | SKIPPED | SKIPPED | +---------------------+--------------------+------------------+-------------------+-------------------+-------------------------+----------------------+ | Fedora 40 | PASS | PASS | PASS | SKIPPED | SKIPPED | SKIPPED | +---------------------+--------------------+------------------+-------------------+-------------------+-------------------------+----------------------+ | Debian 12 | PASS | PASS | PASS | SKIPPED | SKIPPED | SKIPPED | +---------------------+--------------------+------------------+-------------------+-------------------+-------------------------+----------------------+ | RHEL9 | PASS | PASS | SKIPPED | SKIPPED | SKIPPED | SKIPPED | +---------------------+--------------------+------------------+-------------------+-------------------+-------------------------+----------------------+ | Windows Server 2022 | SKIPPED | SKIPPED | SKIPPED | PASS | PASS | PASS | +---------------------+--------------------+------------------+-------------------+-------------------+-------------------------+----------------------+ CentOS Stream 9 Kernel: Depends on container host Compiler: gcc 11.5.0 20240719 (Red Hat 11.5.0-2) Debian Bullseye Kernel: Depends on container host Compiler: gcc (Debian 10.2.1-6) 10.2.1 20210110 Fedora 40 (Clang) Kernel: Depends on container host Compiler: clang 18.1.8 (Fedora 18.1.8-1.fc40) Fedora 41 (Clang) Kernel: Depends on container host Compiler: clang 19.1.5 (Fedora 19.1.5-1.fc41) Fedora 41 Kernel: Depends on container host Compiler: gcc 14.2.1 20240912 (Red Hat 14.2.1-3) openSUSE Leap 15 Kernel: Depends on container host Compiler: gcc (SUSE Linux) 7.5.0 RHEL8 Kernel: Depends on container host Compiler: gcc 8.5.0 20210514 (Red Hat 8.5.0-22) Ubuntu 20.04 Kernel: Depends on container host Compiler: gcc (Ubuntu 9.4.0-1ubuntu1~20.04.2) 9.4.0 Ubuntu 22.04 Kernel: Depends on container host Compiler: gcc (Ubuntu 11.4.0-1ubuntu1~22.04) 11.4.0 Ubuntu 24.04 Kernel: Depends on container host Compiler: gcc (Ubuntu 13.3.0-6ubuntu2~24.04) 13.3.0 FreeBSD 13.4 Kernel: 13.4-RELEASE-p1 Compiler: clang 18.1.6 Alpine Kernel: Depends on container host Compiler: gcc (Alpine 14.2.0) 14.2.0 FreeBSD 14.2 Kernel: 14.2-RELEASE Compiler: clang 18.1.6 Fedora 40 Kernel: Depends on container host Compiler: gcc 14.2.1 20240912 (Red Hat 14.2.1-3) Debian 12 Kernel: Depends on container host Compiler: gcc (Debian 12.2.0-14) 12.2.0 RHEL9 Kernel: Depends on container host Compiler: gcc 11.5.0 20240719 (Red Hat 11.5.0-2) Windows Server 2022 Kernel: 10.0.20348.2031 Compiler: clang 15.0.7, gcc 14.1.0 (MinGW), and MSVC VS 19.39.33521 To view detailed results, visit: https://lab.dpdk.org/results/dashboard/tarballs/32191/ UNH-IOL DPDK Community Lab To manage your email subscriptions, visit: https://lab.dpdk.org/results/dashboard/preferences/subscriptions/