From mboxrd@z Thu Jan 1 00:00:00 1970 Return-Path: Received: from mails.dpdk.org (mails.dpdk.org [217.70.189.124]) by inbox.dpdk.org (Postfix) with ESMTP id D91CC461A0 for ; Wed, 5 Feb 2025 18:25:04 +0100 (CET) Received: from mails.dpdk.org (localhost [127.0.0.1]) by mails.dpdk.org (Postfix) with ESMTP id D69F14060C; Wed, 5 Feb 2025 18:25:04 +0100 (CET) Received: from mail-io1-f99.google.com (mail-io1-f99.google.com [209.85.166.99]) by mails.dpdk.org (Postfix) with ESMTP id 27980402E4 for ; Wed, 5 Feb 2025 18:25:03 +0100 (CET) Received: by mail-io1-f99.google.com with SMTP id ca18e2360f4ac-854a682d2b6so3705439f.0 for ; Wed, 05 Feb 2025 09:25:03 -0800 (PST) DKIM-Signature: v=1; a=rsa-sha256; c=relaxed/relaxed; d=iol.unh.edu; s=unh-iol; t=1738776302; x=1739381102; darn=dpdk.org; h=references:in-reply-to:cc:to:from:subject:message-id:date:from:to :cc:subject:date:message-id:reply-to; bh=gklEfMBJZzwGcAccpUKLHcEY9K+fFD1VAirQgN6FwDI=; b=IWQaRPThkgPF8ShBm267qzbyFbJ1KeDoVvAp/kTP+hnfGEjtznbaBzeArTCmUEM1S4 6Z5Jgi9YpJ9SOoUnY60rbU+5He0WBEExptshxzdOS8Q1rMgjj36mlnvzZl/W1TMppHVq Se6AlgHnfteYLTGfxJ0hJ7xXLbRyhWmE9jsjI= X-Google-DKIM-Signature: v=1; a=rsa-sha256; c=relaxed/relaxed; d=1e100.net; s=20230601; t=1738776302; x=1739381102; h=references:in-reply-to:cc:to:from:subject:message-id:date :x-gm-message-state:from:to:cc:subject:date:message-id:reply-to; bh=gklEfMBJZzwGcAccpUKLHcEY9K+fFD1VAirQgN6FwDI=; b=VLzKhCz/yrHQRivJ45lwSl0t5dpXxz4BJxUPJd7pt4EK8O9USRsXGdIY4OzPvTT9dy ssM5OQV7aBZicmcn7XFIU9ereEezqB1G/Hl8mZAnuYfV27Lr2w7uqa3Gh2qIx06wZ8bK a+zYP4w/fBq02yDPE369t5wW/H+ZJcBs19HlVeqxX0JDLHBKQ9klZ2wtdL1DzhtbbjXI tu7cp7eaQmcFm8xb7vmAYZetmFeq9fGnVQimL7smlADIP0+YzXsmTfvm1ZDlN+mWEYei ib9Mx+qe0pfZ3GcNVrPtoJenK9hr/9N3nD1dZGNpYTO3a+i3XLJlGLcx8H/dE7qTncX9 S8CQ== X-Gm-Message-State: AOJu0YwDJ4SpXkqUlUDZol6mFaCkg6rgJkOF4Ia5KP/458KWQYvzIwfF D1UhkWd2F53FDDedCSIYyiF2/nMZZCtNE/qxhWrLhCGCaa0R8M2dFXVLcFbElD85E95SxI/SAyR famuiopdHCyofB5mDAjYhh9nUrupp5gqH456vs94r X-Gm-Gg: ASbGncvoqKi6iYknXLpNF/0cVdEBp6VkrQde82i2YwOXxg1JpksD2OoiIadfpTqnFSa zJf+OK9WFYaluErYBIOQnkTz1bYZ96JRjmljCPQZ2ytRqMhG38ARV6vGm/Eosx3Cgtut7F8hrRV daqafSNcndWCdVdP3dm9l9hO1SEXLR122DUewBOBq8J0xeUg4CRziSBvyd0jecE3MOMfGA5gS/B yqmGcaDGahtG/nSa2NpsUmipxA2ciwEx5XnyLmxvpe8h+ahvVNpGFZ6olxP0YL6GRWx1oIZi7t/ 3sxj7uRvTK4deNwdVev+rTI4CEzsJA== X-Google-Smtp-Source: AGHT+IG+dPa0E3v3UwQQvqQZUWQlAknoWZYl0HgXZxM3YU+PphxYkr/NdoFBHZDTFzIxl0w7cc7yVAEbO1X3 X-Received: by 2002:a05:6602:3814:b0:835:4cb5:4fa7 with SMTP id ca18e2360f4ac-854ea503eb8mr421139239f.12.1738776302447; Wed, 05 Feb 2025 09:25:02 -0800 (PST) Received: from postal.iol.unh.edu (postal.iol.unh.edu. [132.177.123.84]) by smtp-relay.gmail.com with ESMTPS id ca18e2360f4ac-854a1840781sm86630739f.30.2025.02.05.09.25.02 (version=TLS1_2 cipher=ECDHE-ECDSA-AES128-GCM-SHA256 bits=128/128); Wed, 05 Feb 2025 09:25:02 -0800 (PST) X-Relaying-Domain: iol.unh.edu Date: Wed, 05 Feb 2025 09:25:02 -0800 (PST) Message-ID: <67a39eee.050a0220.e873b.9d4eSMTPIN_ADDED_MISSING@mx.google.com> Received: from [172.17.0.3] (unknown [172.18.0.57]) by postal.iol.unh.edu (Postfix) with ESMTP id F1C416052472; Wed, 5 Feb 2025 12:25:01 -0500 (EST) Subject: |SUCCESS| pw150369 [PATCH] [v3] net/af_packet: provide packet drop s From: dpdklab@iol.unh.edu To: Test Report Cc: dpdk-test-reports@iol.unh.edu In-Reply-To: <20250122072845.714800-1-stefan.laesser@omicronenergy.com> References: <20250122072845.714800-1-stefan.laesser@omicronenergy.com> Content-Type: text/plain X-BeenThere: test-report@dpdk.org X-Mailman-Version: 2.1.29 Precedence: list List-Id: automatic DPDK test reports List-Unsubscribe: , List-Archive: List-Post: List-Help: List-Subscribe: , Errors-To: test-report-bounces@dpdk.org Test-Label: iol-compile-amd64-testing Test-Status: SUCCESS http://dpdk.org/patch/150369 _Testing PASS_ Submitter: Stefan Laesser Date: Wednesday, January 22 2025 07:28:45 DPDK git baseline: Repo:dpdk Branch: master CommitID:347a988b93e7b63b27f1dfa09bd03318d810a9a9 150369 --> testing pass Test environment and result as below: +---------------------+--------------------+------------------+-------------------+-------------------------+-------------------+----------------------+ | Environment | dpdk_meson_compile | dpdk_compile_ovs | dpdk_compile_spdk | dpdk_llvm_clang_compile | dpdk_msvc_compile | dpdk_mingw64_compile | +=====================+====================+==================+===================+=========================+===================+======================+ | CentOS Stream 9 | PASS | PASS | PASS | SKIPPED | SKIPPED | SKIPPED | +---------------------+--------------------+------------------+-------------------+-------------------------+-------------------+----------------------+ | Debian 12 | PASS | PASS | PASS | SKIPPED | SKIPPED | SKIPPED | +---------------------+--------------------+------------------+-------------------+-------------------------+-------------------+----------------------+ | Debian Bullseye | PASS | PASS | PASS | SKIPPED | SKIPPED | SKIPPED | +---------------------+--------------------+------------------+-------------------+-------------------------+-------------------+----------------------+ | Fedora 40 (Clang) | PASS | PASS | PASS | SKIPPED | SKIPPED | SKIPPED | +---------------------+--------------------+------------------+-------------------+-------------------------+-------------------+----------------------+ | Fedora 40 | PASS | PASS | PASS | SKIPPED | SKIPPED | SKIPPED | +---------------------+--------------------+------------------+-------------------+-------------------------+-------------------+----------------------+ | Fedora 41 | PASS | PASS | PASS | SKIPPED | SKIPPED | SKIPPED | +---------------------+--------------------+------------------+-------------------+-------------------------+-------------------+----------------------+ | RHEL8 | PASS | PASS | SKIPPED | SKIPPED | SKIPPED | SKIPPED | +---------------------+--------------------+------------------+-------------------+-------------------------+-------------------+----------------------+ | RHEL9 | PASS | PASS | SKIPPED | SKIPPED | SKIPPED | SKIPPED | +---------------------+--------------------+------------------+-------------------+-------------------------+-------------------+----------------------+ | Ubuntu 20.04 | PASS | SKIPPED | SKIPPED | SKIPPED | SKIPPED | SKIPPED | +---------------------+--------------------+------------------+-------------------+-------------------------+-------------------+----------------------+ | Ubuntu 22.04 | PASS | PASS | PASS | SKIPPED | SKIPPED | SKIPPED | +---------------------+--------------------+------------------+-------------------+-------------------------+-------------------+----------------------+ | Ubuntu 24.04 | PASS | PASS | PASS | SKIPPED | SKIPPED | SKIPPED | +---------------------+--------------------+------------------+-------------------+-------------------------+-------------------+----------------------+ | Alpine | PASS | PASS | SKIPPED | SKIPPED | SKIPPED | SKIPPED | +---------------------+--------------------+------------------+-------------------+-------------------------+-------------------+----------------------+ | FreeBSD 13.4 | PASS | SKIPPED | SKIPPED | SKIPPED | SKIPPED | SKIPPED | +---------------------+--------------------+------------------+-------------------+-------------------------+-------------------+----------------------+ | FreeBSD 14.2 | PASS | SKIPPED | SKIPPED | SKIPPED | SKIPPED | SKIPPED | +---------------------+--------------------+------------------+-------------------+-------------------------+-------------------+----------------------+ | openSUSE Leap 15 | PASS | SKIPPED | SKIPPED | SKIPPED | SKIPPED | SKIPPED | +---------------------+--------------------+------------------+-------------------+-------------------------+-------------------+----------------------+ | Fedora 41 (Clang) | PASS | PASS | PASS | SKIPPED | SKIPPED | SKIPPED | +---------------------+--------------------+------------------+-------------------+-------------------------+-------------------+----------------------+ | Windows Server 2022 | SKIPPED | SKIPPED | SKIPPED | PASS | PASS | PASS | +---------------------+--------------------+------------------+-------------------+-------------------------+-------------------+----------------------+ CentOS Stream 9 Kernel: Depends on container host Compiler: gcc 11.5.0 20240719 (Red Hat 11.5.0-2) Debian 12 Kernel: Depends on container host Compiler: gcc (Debian 12.2.0-14) 12.2.0 Debian Bullseye Kernel: Depends on container host Compiler: gcc (Debian 10.2.1-6) 10.2.1 20210110 Fedora 40 (Clang) Kernel: Depends on container host Compiler: clang 18.1.8 (Fedora 18.1.8-1.fc40) Fedora 40 Kernel: Depends on container host Compiler: gcc 14.2.1 20240912 (Red Hat 14.2.1-3) Fedora 41 Kernel: Depends on container host Compiler: gcc 14.2.1 20240912 (Red Hat 14.2.1-3) RHEL8 Kernel: Depends on container host Compiler: gcc 8.5.0 20210514 (Red Hat 8.5.0-22) RHEL9 Kernel: Depends on container host Compiler: gcc 11.5.0 20240719 (Red Hat 11.5.0-2) Ubuntu 20.04 Kernel: Depends on container host Compiler: gcc (Ubuntu 9.4.0-1ubuntu1~20.04.2) 9.4.0 Ubuntu 22.04 Kernel: Depends on container host Compiler: gcc (Ubuntu 11.4.0-1ubuntu1~22.04) 11.4.0 Ubuntu 24.04 Kernel: Depends on container host Compiler: gcc (Ubuntu 13.3.0-6ubuntu2~24.04) 13.3.0 Alpine Kernel: Depends on container host Compiler: gcc (Alpine 14.2.0) 14.2.0 FreeBSD 13.4 Kernel: 13.4-RELEASE-p1 Compiler: clang 18.1.6 FreeBSD 14.2 Kernel: 14.2-RELEASE Compiler: clang 18.1.6 openSUSE Leap 15 Kernel: Depends on container host Compiler: gcc (SUSE Linux) 7.5.0 Fedora 41 (Clang) Kernel: Depends on container host Compiler: clang 19.1.5 (Fedora 19.1.5-1.fc41) Windows Server 2022 Kernel: 10.0.20348.2031 Compiler: clang 15.0.7, gcc 14.1.0 (MinGW), and MSVC VS 19.39.33521 To view detailed results, visit: https://lab.dpdk.org/results/dashboard/patchsets/32393/ UNH-IOL DPDK Community Lab To manage your email subscriptions, visit: https://lab.dpdk.org/results/dashboard/preferences/subscriptions/