From mboxrd@z Thu Jan 1 00:00:00 1970 Return-Path: Received: from mails.dpdk.org (mails.dpdk.org [217.70.189.124]) by inbox.dpdk.org (Postfix) with ESMTP id 1A7AF461A0 for ; Wed, 5 Feb 2025 18:25:10 +0100 (CET) Received: from mails.dpdk.org (localhost [127.0.0.1]) by mails.dpdk.org (Postfix) with ESMTP id 171B94060C; Wed, 5 Feb 2025 18:25:10 +0100 (CET) Received: from mail-pl1-f227.google.com (mail-pl1-f227.google.com [209.85.214.227]) by mails.dpdk.org (Postfix) with ESMTP id A94AB402EE for ; Wed, 5 Feb 2025 18:25:08 +0100 (CET) Received: by mail-pl1-f227.google.com with SMTP id d9443c01a7336-2165448243fso1730865ad.1 for ; Wed, 05 Feb 2025 09:25:08 -0800 (PST) DKIM-Signature: v=1; a=rsa-sha256; c=relaxed/relaxed; d=iol.unh.edu; s=unh-iol; t=1738776308; x=1739381108; darn=dpdk.org; h=cc:to:from:subject:message-id:date:from:to:cc:subject:date :message-id:reply-to; bh=1wJOf6cjRLgeS2B6CdXjomJ/G4ZPSF4ACqRFSRsdKJo=; b=YKXOr9TFS90YClbps8Sfe6Az5Fbel2zIpyHLszdsEnRfItk6YuQtCtro8ojUPYOlv/ HVBzG/+R7epqChQRHqdQx1ZbWzPsa5rPmcod/9t/Rk+kVCtOSFtSqcFjTbDwDwBF+L1K npJkFO0yscPmHhBLrngCr093cABoJuOn30EYQ= X-Google-DKIM-Signature: v=1; a=rsa-sha256; c=relaxed/relaxed; d=1e100.net; s=20230601; t=1738776308; x=1739381108; h=cc:to:from:subject:message-id:date:x-gm-message-state:from:to:cc :subject:date:message-id:reply-to; bh=1wJOf6cjRLgeS2B6CdXjomJ/G4ZPSF4ACqRFSRsdKJo=; b=bIA1SSU+bPeFiUysW++a3/XTE33Ahxc3oc3NZoCUHwMc9jrTie7JHsEFNty+bxHiSk saV9UEInA8sDobILwMkY0zDVWrIhh3a8eRrxf/2eB3JKDtOKtJWMqngIC7bGjnvKGt4F 4YwLAZDmJNFb3rkNq/lQrZ61nFBrFPnnOpokhg508T4SWU+VDFAks+JvvrPxbq7g31zg sg3j2GwSfWOp3dPCuLQNjCzbiCvj/pORIqZPOm3jV9IfE35PXaaZy3X3CgtERsQOUOIX kuIK46sMLxdD3iodFVIzj8We80RA0TN/NJdU0vNmBW9Wus5fGEkvpNTPjW0rRiSX+r/m aIQw== X-Gm-Message-State: AOJu0YxCR/Edb8fIk3QpFddGmFoKCgEQE/WXh2agqyGx9q2MctnO/WY/ JY6UhinOYk68Rh5vqAvweKdPWS+ltqzl2JG5pSQ/56j9Vo+rb33NT0rXrKDw1Cz/mzgzGvajF/M vhwF67SD8RXDec+o6CM0klGbypdBs8j4h X-Gm-Gg: ASbGncszWY9u3DhScjJcB3tV/Q2ChAJC4wyEviC7x9eCikPrxEY6aRzSmjfB1SNhA6r 0wM9IQ09e0mELaU2TG6fyi/6EL+CSNr2VLB/ZVtFICv+E+jeB5XvGcM9JqnAcOMfYCIk21KRXkj LU+XYsK2ZOlJ7E1eLl+XHeQ4NHeFeNPq2Y+uyPxo66y/99sLgmWPLGRUmGJ92bgwO08+p+t75NA 5/zPwTV262WFgPkF3YE0cJGQAP3ydsi/HkA4su6yRDtM/Y3Xlh60n5zkwB4AVaBUR7XbYGdrFat 8CtBhrqUdtczRxzAUXevpGE/qlRn7g== X-Google-Smtp-Source: AGHT+IHxRnAFPIqpRl4252RXeRZkLlxC6CBgUQ0aZ8KJOZuxQ3YI+NNkVnIfZQq4XhiTCzb+W9gPOM/SozEd X-Received: by 2002:a17:902:c941:b0:21f:c13:89a9 with SMTP id d9443c01a7336-21f17ebef4fmr70026305ad.35.1738776307842; Wed, 05 Feb 2025 09:25:07 -0800 (PST) Received: from postal.iol.unh.edu (postal.iol.unh.edu. [132.177.123.84]) by smtp-relay.gmail.com with ESMTPS id d9443c01a7336-21de324932dsm6809675ad.37.2025.02.05.09.25.07 (version=TLS1_2 cipher=ECDHE-ECDSA-AES128-GCM-SHA256 bits=128/128); Wed, 05 Feb 2025 09:25:07 -0800 (PST) X-Relaying-Domain: iol.unh.edu Date: Wed, 05 Feb 2025 09:25:07 -0800 (PST) Message-ID: <67a39ef3.170a0220.2c0b91.e7c9SMTPIN_ADDED_MISSING@mx.google.com> Received: from [172.17.0.5] (unknown [172.18.0.57]) by postal.iol.unh.edu (Postfix) with ESMTP id 4DAE66052471; Wed, 5 Feb 2025 12:25:07 -0500 (EST) Subject: |SUCCESS| [GIT MASTER] f2eea2f37a82bb73fb01d56350708f7d70e21379 From: dpdklab@iol.unh.edu To: Test Report Cc: dpdk-test-reports@iol.unh.edu, Xueming Li , Christian Ehrhardt , Kevin Traynor , Luca Boccassi Content-Type: text/plain X-BeenThere: test-report@dpdk.org X-Mailman-Version: 2.1.29 Precedence: list List-Id: automatic DPDK test reports List-Unsubscribe: , List-Archive: List-Post: List-Help: List-Subscribe: , Errors-To: test-report-bounces@dpdk.org _Testing PASS_ Branch: tags/v24.11 f2eea2f37a82bb73fb01d56350708f7d70e21379 --> testing pass Test environment and result as below: +---------------------+--------------------+------------------+-------------------+-------------------+-------------------------+----------------------+ | Environment | dpdk_meson_compile | dpdk_compile_ovs | dpdk_compile_spdk | dpdk_msvc_compile | dpdk_llvm_clang_compile | dpdk_mingw64_compile | +=====================+====================+==================+===================+===================+=========================+======================+ | Debian 12 | PASS | PASS | PASS | SKIPPED | SKIPPED | SKIPPED | +---------------------+--------------------+------------------+-------------------+-------------------+-------------------------+----------------------+ | CentOS Stream 9 | PASS | PASS | PASS | SKIPPED | SKIPPED | SKIPPED | +---------------------+--------------------+------------------+-------------------+-------------------+-------------------------+----------------------+ | Debian Bullseye | PASS | PASS | PASS | SKIPPED | SKIPPED | SKIPPED | +---------------------+--------------------+------------------+-------------------+-------------------+-------------------------+----------------------+ | Fedora 40 | PASS | PASS | PASS | SKIPPED | SKIPPED | SKIPPED | +---------------------+--------------------+------------------+-------------------+-------------------+-------------------------+----------------------+ | Fedora 41 (Clang) | PASS | PASS | PASS | SKIPPED | SKIPPED | SKIPPED | +---------------------+--------------------+------------------+-------------------+-------------------+-------------------------+----------------------+ | Fedora 41 | PASS | PASS | PASS | SKIPPED | SKIPPED | SKIPPED | +---------------------+--------------------+------------------+-------------------+-------------------+-------------------------+----------------------+ | RHEL9 | PASS | PASS | SKIPPED | SKIPPED | SKIPPED | SKIPPED | +---------------------+--------------------+------------------+-------------------+-------------------+-------------------------+----------------------+ | Fedora 40 (Clang) | PASS | PASS | PASS | SKIPPED | SKIPPED | SKIPPED | +---------------------+--------------------+------------------+-------------------+-------------------+-------------------------+----------------------+ | openSUSE Leap 15 | PASS | SKIPPED | SKIPPED | SKIPPED | SKIPPED | SKIPPED | +---------------------+--------------------+------------------+-------------------+-------------------+-------------------------+----------------------+ | RHEL8 | PASS | PASS | SKIPPED | SKIPPED | SKIPPED | SKIPPED | +---------------------+--------------------+------------------+-------------------+-------------------+-------------------------+----------------------+ | Ubuntu 20.04 | PASS | SKIPPED | SKIPPED | SKIPPED | SKIPPED | SKIPPED | +---------------------+--------------------+------------------+-------------------+-------------------+-------------------------+----------------------+ | Ubuntu 22.04 | PASS | PASS | PASS | SKIPPED | SKIPPED | SKIPPED | +---------------------+--------------------+------------------+-------------------+-------------------+-------------------------+----------------------+ | Alpine | PASS | PASS | SKIPPED | SKIPPED | SKIPPED | SKIPPED | +---------------------+--------------------+------------------+-------------------+-------------------+-------------------------+----------------------+ | Ubuntu 24.04 | PASS | PASS | PASS | SKIPPED | SKIPPED | SKIPPED | +---------------------+--------------------+------------------+-------------------+-------------------+-------------------------+----------------------+ | FreeBSD 13.4 | PASS | SKIPPED | SKIPPED | SKIPPED | SKIPPED | SKIPPED | +---------------------+--------------------+------------------+-------------------+-------------------+-------------------------+----------------------+ | FreeBSD 14.2 | PASS | SKIPPED | SKIPPED | SKIPPED | SKIPPED | SKIPPED | +---------------------+--------------------+------------------+-------------------+-------------------+-------------------------+----------------------+ | Windows Server 2022 | SKIPPED | SKIPPED | SKIPPED | PASS | PASS | PASS | +---------------------+--------------------+------------------+-------------------+-------------------+-------------------------+----------------------+ Debian 12 Kernel: Depends on container host Compiler: gcc (Debian 12.2.0-14) 12.2.0 CentOS Stream 9 Kernel: Depends on container host Compiler: gcc 11.5.0 20240719 (Red Hat 11.5.0-2) Debian Bullseye Kernel: Depends on container host Compiler: gcc (Debian 10.2.1-6) 10.2.1 20210110 Fedora 40 Kernel: Depends on container host Compiler: gcc 14.2.1 20240912 (Red Hat 14.2.1-3) Fedora 41 (Clang) Kernel: Depends on container host Compiler: clang 19.1.5 (Fedora 19.1.5-1.fc41) Fedora 41 Kernel: Depends on container host Compiler: gcc 14.2.1 20240912 (Red Hat 14.2.1-3) RHEL9 Kernel: Depends on container host Compiler: gcc 11.5.0 20240719 (Red Hat 11.5.0-2) Fedora 40 (Clang) Kernel: Depends on container host Compiler: clang 18.1.8 (Fedora 18.1.8-1.fc40) openSUSE Leap 15 Kernel: Depends on container host Compiler: gcc (SUSE Linux) 7.5.0 RHEL8 Kernel: Depends on container host Compiler: gcc 8.5.0 20210514 (Red Hat 8.5.0-22) Ubuntu 20.04 Kernel: Depends on container host Compiler: gcc (Ubuntu 9.4.0-1ubuntu1~20.04.2) 9.4.0 Ubuntu 22.04 Kernel: Depends on container host Compiler: gcc (Ubuntu 11.4.0-1ubuntu1~22.04) 11.4.0 Alpine Kernel: Depends on container host Compiler: gcc (Alpine 14.2.0) 14.2.0 Ubuntu 24.04 Kernel: Depends on container host Compiler: gcc (Ubuntu 13.3.0-6ubuntu2~24.04) 13.3.0 FreeBSD 13.4 Kernel: 13.4-RELEASE-p1 Compiler: clang 18.1.6 FreeBSD 14.2 Kernel: 14.2-RELEASE Compiler: clang 18.1.6 Windows Server 2022 Kernel: 10.0.20348.2031 Compiler: clang 15.0.7, gcc 14.1.0 (MinGW), and MSVC VS 19.39.33521 To view detailed results, visit: https://lab.dpdk.org/results/dashboard/tarballs/32309/ UNH-IOL DPDK Community Lab To manage your email subscriptions, visit: https://lab.dpdk.org/results/dashboard/preferences/subscriptions/