From mboxrd@z Thu Jan 1 00:00:00 1970 Return-Path: Received: from mails.dpdk.org (mails.dpdk.org [217.70.189.124]) by inbox.dpdk.org (Postfix) with ESMTP id 440B3461A0 for ; Wed, 5 Feb 2025 18:25:10 +0100 (CET) Received: from mails.dpdk.org (localhost [127.0.0.1]) by mails.dpdk.org (Postfix) with ESMTP id 37CFA40654; Wed, 5 Feb 2025 18:25:10 +0100 (CET) Received: from mail-pl1-f227.google.com (mail-pl1-f227.google.com [209.85.214.227]) by mails.dpdk.org (Postfix) with ESMTP id CC5504060C for ; Wed, 5 Feb 2025 18:25:08 +0100 (CET) Received: by mail-pl1-f227.google.com with SMTP id d9443c01a7336-21f0b5d6c6eso29435ad.0 for ; Wed, 05 Feb 2025 09:25:08 -0800 (PST) DKIM-Signature: v=1; a=rsa-sha256; c=relaxed/relaxed; d=iol.unh.edu; s=unh-iol; t=1738776308; x=1739381108; darn=dpdk.org; h=references:in-reply-to:cc:to:from:subject:message-id:date:from:to :cc:subject:date:message-id:reply-to; bh=TDwrCouCxvcXSB6az8MK4+7nzA5kXoy+3s2ONITp2Vk=; b=CbS0uRtmqefjvnwQxH4PUfni04jxbvpt1D+xqwqe94asOXi/EIfFX2PHn8qySoJFvf KPSp09EIZmAPLCtJt5piyVJlqtVmu+A5uPgU1q5OUrDe2G5OgTnDQNw43wY3B94x85ef RLq/FWpgtIltavKHUPHfvfH5ybTGnyTpY9NeU= X-Google-DKIM-Signature: v=1; a=rsa-sha256; c=relaxed/relaxed; d=1e100.net; s=20230601; t=1738776308; x=1739381108; h=references:in-reply-to:cc:to:from:subject:message-id:date :x-gm-message-state:from:to:cc:subject:date:message-id:reply-to; bh=TDwrCouCxvcXSB6az8MK4+7nzA5kXoy+3s2ONITp2Vk=; b=MapHOqPfY1FsALj+tD81jqQP5eSDmSb1U9kXNniQM1Yls6mSF6ke+6xLtY5Fh7GWgR tZzDalGuG0X8yGNfG4RIg4Bqy9LIxaZseY0L2y1WM9ALAsyRqablBMh86sH9ZmFgjVxW /63dHDN7cFry9wy1eW8eEu9FJYPWLU5Htbqu2QpWuvKGffQfNxiiLFMrPTiXkzc5/JHZ /Vg+FpZxTKiCnVEQR1HWYHWMB11I5c9YmpqBjKj8veHVwWsA2UOOkRtvSGl2714hISOe W3pPo0JY1fSHcSsNOxOz2NR/EtH2JPVeejxmCzYffatn9DC1bNG+sHqj8pi6iluxkFkL Q53g== X-Gm-Message-State: AOJu0Yz4Z+7wJGdA6ZgBHiQJcyvOLNhzIGjdayKyOtRK6zymO1iic124 O0l36LfCR5WMTMaS3wNgDiTKbuteEX47y7ZhuvHZ613YjuloSA+yTUJvtKiIazO4YndhSusDw8p sFw16vh8manG78mpiBc3fTEKb+jTjMR5zSHL9gN2y X-Gm-Gg: ASbGncvS0VI2fVxVo+cdC8K2LamGHt3QP2kQ601OnjoE/YsNE1dQapVGg8k2lgeXFHI K5chYvTOTt2JMTv/+UlO6Ajo90TrqrAt+FtFLDvrrDN/3qf2qpuCmPc9JdRNSBwhyY/QBYDpM7+ Ob6V1YcZ+lDRMv1HSK+oYUQ5uwC8w71FaWwKfcgkdoLeI96OkQ+3zWJTjs/YuMB8HZ7RE6sxC7t uT/DsQIAHFRcfyVeeUyilDVUyJ5wiO61C6aVPu8Q6l5Yc//mTAgDe0I+hWWu8yRxeF9xWWjuvlI d8UjIB9Cokqhi5DHzsL0nHFveMNweA== X-Google-Smtp-Source: AGHT+IGVC5Ke4y8Yclav5GQlXOVE26C6/xTgPsUuCDHJlrdzv9csIsOgrTh0UTZBHKa7b4f9QpV+vhU/s1+H X-Received: by 2002:a17:902:ea06:b0:216:6be9:fd48 with SMTP id d9443c01a7336-21f2f1374b9mr1603055ad.3.1738776308071; Wed, 05 Feb 2025 09:25:08 -0800 (PST) Received: from postal.iol.unh.edu (postal.iol.unh.edu. [132.177.123.84]) by smtp-relay.gmail.com with ESMTPS id d9443c01a7336-21de3362e9bsm6774895ad.128.2025.02.05.09.25.07 (version=TLS1_2 cipher=ECDHE-ECDSA-AES128-GCM-SHA256 bits=128/128); Wed, 05 Feb 2025 09:25:08 -0800 (PST) X-Relaying-Domain: iol.unh.edu Date: Wed, 05 Feb 2025 09:25:08 -0800 (PST) Message-ID: <67a39ef4.170a0220.6f4b2.e68dSMTPIN_ADDED_MISSING@mx.google.com> Received: from [172.17.0.6] (unknown [172.18.0.57]) by postal.iol.unh.edu (Postfix) with ESMTP id 87D8D6052472; Wed, 5 Feb 2025 12:25:07 -0500 (EST) Subject: |SUCCESS| pw150370-150372 [PATCH] [3/3] net/ice: ACL filter support From: dpdklab@iol.unh.edu To: Test Report Cc: dpdk-test-reports@iol.unh.edu In-Reply-To: <20250122082310.380054-4-mingjinx.ye@intel.com> References: <20250122082310.380054-4-mingjinx.ye@intel.com> Content-Type: text/plain X-BeenThere: test-report@dpdk.org X-Mailman-Version: 2.1.29 Precedence: list List-Id: automatic DPDK test reports List-Unsubscribe: , List-Archive: List-Post: List-Help: List-Subscribe: , Errors-To: test-report-bounces@dpdk.org Test-Label: iol-compile-amd64-testing Test-Status: SUCCESS http://dpdk.org/patch/150372 _Testing PASS_ Submitter: Mingjin Ye Date: Wednesday, January 22 2025 08:23:10 DPDK git baseline: Repo:dpdk Branch: master CommitID:5c318e37541dbe80b9f07e184850b1382f2a54d5 150370-150372 --> testing pass Test environment and result as below: +---------------------+--------------------+------------------+-------------------+-------------------+-------------------------+----------------------+ | Environment | dpdk_meson_compile | dpdk_compile_ovs | dpdk_compile_spdk | dpdk_msvc_compile | dpdk_llvm_clang_compile | dpdk_mingw64_compile | +=====================+====================+==================+===================+===================+=========================+======================+ | CentOS Stream 9 | PASS | PASS | PASS | SKIPPED | SKIPPED | SKIPPED | +---------------------+--------------------+------------------+-------------------+-------------------+-------------------------+----------------------+ | Debian 12 | PASS | PASS | PASS | SKIPPED | SKIPPED | SKIPPED | +---------------------+--------------------+------------------+-------------------+-------------------+-------------------------+----------------------+ | Debian Bullseye | PASS | PASS | PASS | SKIPPED | SKIPPED | SKIPPED | +---------------------+--------------------+------------------+-------------------+-------------------+-------------------------+----------------------+ | Fedora 41 | PASS | PASS | PASS | SKIPPED | SKIPPED | SKIPPED | +---------------------+--------------------+------------------+-------------------+-------------------+-------------------------+----------------------+ | Fedora 40 (Clang) | PASS | PASS | PASS | SKIPPED | SKIPPED | SKIPPED | +---------------------+--------------------+------------------+-------------------+-------------------+-------------------------+----------------------+ | Fedora 41 (Clang) | PASS | PASS | PASS | SKIPPED | SKIPPED | SKIPPED | +---------------------+--------------------+------------------+-------------------+-------------------+-------------------------+----------------------+ | Fedora 40 | PASS | PASS | PASS | SKIPPED | SKIPPED | SKIPPED | +---------------------+--------------------+------------------+-------------------+-------------------+-------------------------+----------------------+ | RHEL9 | PASS | PASS | SKIPPED | SKIPPED | SKIPPED | SKIPPED | +---------------------+--------------------+------------------+-------------------+-------------------+-------------------------+----------------------+ | RHEL8 | PASS | PASS | SKIPPED | SKIPPED | SKIPPED | SKIPPED | +---------------------+--------------------+------------------+-------------------+-------------------+-------------------------+----------------------+ | Ubuntu 20.04 | PASS | SKIPPED | SKIPPED | SKIPPED | SKIPPED | SKIPPED | +---------------------+--------------------+------------------+-------------------+-------------------+-------------------------+----------------------+ | Ubuntu 22.04 | PASS | PASS | PASS | SKIPPED | SKIPPED | SKIPPED | +---------------------+--------------------+------------------+-------------------+-------------------+-------------------------+----------------------+ | Ubuntu 24.04 | PASS | PASS | PASS | SKIPPED | SKIPPED | SKIPPED | +---------------------+--------------------+------------------+-------------------+-------------------+-------------------------+----------------------+ | Alpine | PASS | PASS | SKIPPED | SKIPPED | SKIPPED | SKIPPED | +---------------------+--------------------+------------------+-------------------+-------------------+-------------------------+----------------------+ | FreeBSD 13.4 | PASS | SKIPPED | SKIPPED | SKIPPED | SKIPPED | SKIPPED | +---------------------+--------------------+------------------+-------------------+-------------------+-------------------------+----------------------+ | FreeBSD 14.2 | PASS | SKIPPED | SKIPPED | SKIPPED | SKIPPED | SKIPPED | +---------------------+--------------------+------------------+-------------------+-------------------+-------------------------+----------------------+ | openSUSE Leap 15 | PASS | SKIPPED | SKIPPED | SKIPPED | SKIPPED | SKIPPED | +---------------------+--------------------+------------------+-------------------+-------------------+-------------------------+----------------------+ | Windows Server 2022 | SKIPPED | SKIPPED | SKIPPED | PASS | PASS | PASS | +---------------------+--------------------+------------------+-------------------+-------------------+-------------------------+----------------------+ CentOS Stream 9 Kernel: Depends on container host Compiler: gcc 11.5.0 20240719 (Red Hat 11.5.0-2) Debian 12 Kernel: Depends on container host Compiler: gcc (Debian 12.2.0-14) 12.2.0 Debian Bullseye Kernel: Depends on container host Compiler: gcc (Debian 10.2.1-6) 10.2.1 20210110 Fedora 41 Kernel: Depends on container host Compiler: gcc 14.2.1 20240912 (Red Hat 14.2.1-3) Fedora 40 (Clang) Kernel: Depends on container host Compiler: clang 18.1.8 (Fedora 18.1.8-1.fc40) Fedora 41 (Clang) Kernel: Depends on container host Compiler: clang 19.1.5 (Fedora 19.1.5-1.fc41) Fedora 40 Kernel: Depends on container host Compiler: gcc 14.2.1 20240912 (Red Hat 14.2.1-3) RHEL9 Kernel: Depends on container host Compiler: gcc 11.5.0 20240719 (Red Hat 11.5.0-2) RHEL8 Kernel: Depends on container host Compiler: gcc 8.5.0 20210514 (Red Hat 8.5.0-22) Ubuntu 20.04 Kernel: Depends on container host Compiler: gcc (Ubuntu 9.4.0-1ubuntu1~20.04.2) 9.4.0 Ubuntu 22.04 Kernel: Depends on container host Compiler: gcc (Ubuntu 11.4.0-1ubuntu1~22.04) 11.4.0 Ubuntu 24.04 Kernel: Depends on container host Compiler: gcc (Ubuntu 13.3.0-6ubuntu2~24.04) 13.3.0 Alpine Kernel: Depends on container host Compiler: gcc (Alpine 14.2.0) 14.2.0 FreeBSD 13.4 Kernel: 13.4-RELEASE-p1 Compiler: clang 18.1.6 FreeBSD 14.2 Kernel: 14.2-RELEASE Compiler: clang 18.1.6 openSUSE Leap 15 Kernel: Depends on container host Compiler: gcc (SUSE Linux) 7.5.0 Windows Server 2022 Kernel: 10.0.20348.2031 Compiler: clang 15.0.7, gcc 14.1.0 (MinGW), and MSVC VS 19.39.33521 To view detailed results, visit: https://lab.dpdk.org/results/dashboard/patchsets/32394/ UNH-IOL DPDK Community Lab To manage your email subscriptions, visit: https://lab.dpdk.org/results/dashboard/preferences/subscriptions/