From mboxrd@z Thu Jan 1 00:00:00 1970 Return-Path: Received: from mails.dpdk.org (mails.dpdk.org [217.70.189.124]) by inbox.dpdk.org (Postfix) with ESMTP id 5432A461A0 for ; Wed, 5 Feb 2025 18:25:14 +0100 (CET) Received: from mails.dpdk.org (localhost [127.0.0.1]) by mails.dpdk.org (Postfix) with ESMTP id 51C7740647; Wed, 5 Feb 2025 18:25:14 +0100 (CET) Received: from mail-oo1-f97.google.com (mail-oo1-f97.google.com [209.85.161.97]) by mails.dpdk.org (Postfix) with ESMTP id 785894060C for ; Wed, 5 Feb 2025 18:25:13 +0100 (CET) Received: by mail-oo1-f97.google.com with SMTP id 006d021491bc7-5fc0c7b391fso1739648eaf.3 for ; Wed, 05 Feb 2025 09:25:13 -0800 (PST) DKIM-Signature: v=1; a=rsa-sha256; c=relaxed/relaxed; d=iol.unh.edu; s=unh-iol; t=1738776312; x=1739381112; darn=dpdk.org; h=cc:to:from:subject:message-id:date:from:to:cc:subject:date :message-id:reply-to; bh=SVGSYhJ86tKQnQxtynXJql+C/bmbqwnza0BUbFJGDSk=; b=QSgRVu5cMAF5TRQjoazKi++PjQJ/Y+jaa03BbQ5HepljqucM0OmT/aT0fk+bjEuGNq W4pje+7v9yDXPYHDFA3aWg46O4V9KbF6ERvLoDdqeuY54Y9f8Nrwkhazie8QGUjqlGOC 3WUQHEMzf7Qww0m/A0PeL2avRgxR1h23N7zjs= X-Google-DKIM-Signature: v=1; a=rsa-sha256; c=relaxed/relaxed; d=1e100.net; s=20230601; t=1738776312; x=1739381112; h=cc:to:from:subject:message-id:date:x-gm-message-state:from:to:cc :subject:date:message-id:reply-to; bh=SVGSYhJ86tKQnQxtynXJql+C/bmbqwnza0BUbFJGDSk=; b=jEakfQTB2ipNeVpdROdjH8crJ9LEAS/z88tinlBQT29jt6CwqScSkpf7RH6av5pcZi d8rEnqOfN/lU9XRX0DJhwOly67CHUomeHh8JnTiQmp6lFgxJ/2zxSyZBTDnJev4oPeR4 2GOtFzsb/tEQF6Fbw9Qaje8cmCxME261dG1O34kKrEYPIf6dZrTw/dq0uSy0MrpobLqG kIVqu5e/GZKlz7Ong79JdVD+0fV9D9NA2rqPyPEA3EnYzSCUaWsJ0LbDEgsEy0mOM7Tx BL8liCKSBuR8mphEfVaRaDQwr2/+c5Xo5gtV7jJk9vax0Th9BAX1x/4VY/5Pm1q0S6zn RHUg== X-Gm-Message-State: AOJu0YyMyOJivbjwFLOxkYVvJVo5wwgxz30v+3kfPbT8ecEmvZLVlt3P Py3+A1caknzAi7S/CiNAwqggEVnxzHdvf74ZXxivdCgXglEDkpmHFBIRvHyDIf2oEhyEFLVopoz GcFLGDWRi+C8IS4ANzx5LKqgwtVVCWP9erCwFk/2+r5WGM1gI+aRxsZz5 X-Gm-Gg: ASbGncu9xti6stkOaRwvYmbCMLy3w40jWzUqF6GYVnkXoX306JMAWWhNrUEQr2pbqBL sW2ye/BV4zfA+zNAZdNdN+uBMgtEnPqySifph6rBp2U0bAiATs9L8uCJ67ymJct0jK2m9Sffe3c 1BCurV2w/sjTFJ36wTFE6K4RT9pKwSsT0RzZ27uZBoxzUJkGwJISLCv7vVaFVkpamBfPqAHyy4u 1+o5Voz7LiBZipKBvSkk98Uqs16BEhexRrSJ6Rhm0geblLTZFUEFmBGwAjVMi40aJLvbtiAFk++ AbeeJvS26dr1yWGR9d60TelqeMgbxGVwtjUPviKK6Q== X-Google-Smtp-Source: AGHT+IGu89fXWXX/D3NbR4fuNqSJgnT6+gNpx0q5CPgCjHRAxMgNqCOMQK+vvOb0syOcB7TuKefjVMXGBejF X-Received: by 2002:a05:6871:3a27:b0:2b7:fc95:66e1 with SMTP id 586e51a60fabf-2b804f903c1mr2343441fac.19.1738776311278; Wed, 05 Feb 2025 09:25:11 -0800 (PST) Received: from postal.iol.unh.edu (postal.iol.unh.edu. [2606:4100:3880:1234::84]) by smtp-relay.gmail.com with ESMTPS id 586e51a60fabf-2b3565aff64sm1003375fac.27.2025.02.05.09.25.11 (version=TLS1_2 cipher=ECDHE-ECDSA-AES128-GCM-SHA256 bits=128/128); Wed, 05 Feb 2025 09:25:11 -0800 (PST) X-Relaying-Domain: iol.unh.edu Date: Wed, 05 Feb 2025 09:25:11 -0800 (PST) Message-ID: <67a39ef7.050a0220.1a1cdf.ecb5SMTPIN_ADDED_MISSING@mx.google.com> Received: from [172.17.0.5] (unknown [172.18.0.213]) by postal.iol.unh.edu (Postfix) with ESMTP id E11CA6052471; Wed, 5 Feb 2025 12:25:10 -0500 (EST) Subject: |SUCCESS| [GIT MASTER] 347a988b93e7b63b27f1dfa09bd03318d810a9a9 From: dpdklab@iol.unh.edu To: Test Report Cc: dpdk-test-reports@iol.unh.edu, Stephen Hemminger Content-Type: text/plain X-BeenThere: test-report@dpdk.org X-Mailman-Version: 2.1.29 Precedence: list List-Id: automatic DPDK test reports List-Unsubscribe: , List-Archive: List-Post: List-Help: List-Subscribe: , Errors-To: test-report-bounces@dpdk.org _Testing PASS_ Branch: dpdk-next-net 347a988b93e7b63b27f1dfa09bd03318d810a9a9 --> testing pass Test environment and result as below: +---------------------+--------------------+------------------+-------------------+-------------------------+-------------------+----------------------+ | Environment | dpdk_meson_compile | dpdk_compile_ovs | dpdk_compile_spdk | dpdk_llvm_clang_compile | dpdk_msvc_compile | dpdk_mingw64_compile | +=====================+====================+==================+===================+=========================+===================+======================+ | CentOS Stream 9 | PASS | PASS | PASS | SKIPPED | SKIPPED | SKIPPED | +---------------------+--------------------+------------------+-------------------+-------------------------+-------------------+----------------------+ | Debian Bullseye | PASS | PASS | PASS | SKIPPED | SKIPPED | SKIPPED | +---------------------+--------------------+------------------+-------------------+-------------------------+-------------------+----------------------+ | Debian 12 | PASS | PASS | PASS | SKIPPED | SKIPPED | SKIPPED | +---------------------+--------------------+------------------+-------------------+-------------------------+-------------------+----------------------+ | Fedora 40 (Clang) | PASS | PASS | PASS | SKIPPED | SKIPPED | SKIPPED | +---------------------+--------------------+------------------+-------------------+-------------------------+-------------------+----------------------+ | Fedora 40 | PASS | PASS | PASS | SKIPPED | SKIPPED | SKIPPED | +---------------------+--------------------+------------------+-------------------+-------------------------+-------------------+----------------------+ | Fedora 41 (Clang) | PASS | PASS | PASS | SKIPPED | SKIPPED | SKIPPED | +---------------------+--------------------+------------------+-------------------+-------------------------+-------------------+----------------------+ | Fedora 41 | PASS | PASS | PASS | SKIPPED | SKIPPED | SKIPPED | +---------------------+--------------------+------------------+-------------------+-------------------------+-------------------+----------------------+ | RHEL8 | PASS | PASS | SKIPPED | SKIPPED | SKIPPED | SKIPPED | +---------------------+--------------------+------------------+-------------------+-------------------------+-------------------+----------------------+ | openSUSE Leap 15 | PASS | SKIPPED | SKIPPED | SKIPPED | SKIPPED | SKIPPED | +---------------------+--------------------+------------------+-------------------+-------------------------+-------------------+----------------------+ | RHEL9 | PASS | PASS | SKIPPED | SKIPPED | SKIPPED | SKIPPED | +---------------------+--------------------+------------------+-------------------+-------------------------+-------------------+----------------------+ | Ubuntu 24.04 | PASS | PASS | PASS | SKIPPED | SKIPPED | SKIPPED | +---------------------+--------------------+------------------+-------------------+-------------------------+-------------------+----------------------+ | Ubuntu 20.04 | PASS | SKIPPED | SKIPPED | SKIPPED | SKIPPED | SKIPPED | +---------------------+--------------------+------------------+-------------------+-------------------------+-------------------+----------------------+ | Alpine | PASS | PASS | SKIPPED | SKIPPED | SKIPPED | SKIPPED | +---------------------+--------------------+------------------+-------------------+-------------------------+-------------------+----------------------+ | FreeBSD 14.2 | PASS | SKIPPED | SKIPPED | SKIPPED | SKIPPED | SKIPPED | +---------------------+--------------------+------------------+-------------------+-------------------------+-------------------+----------------------+ | Ubuntu 22.04 | PASS | PASS | PASS | SKIPPED | SKIPPED | SKIPPED | +---------------------+--------------------+------------------+-------------------+-------------------------+-------------------+----------------------+ | FreeBSD 13.4 | PASS | SKIPPED | SKIPPED | SKIPPED | SKIPPED | SKIPPED | +---------------------+--------------------+------------------+-------------------+-------------------------+-------------------+----------------------+ | Windows Server 2022 | SKIPPED | SKIPPED | SKIPPED | PASS | PASS | PASS | +---------------------+--------------------+------------------+-------------------+-------------------------+-------------------+----------------------+ CentOS Stream 9 Kernel: Depends on container host Compiler: gcc 11.5.0 20240719 (Red Hat 11.5.0-2) Debian Bullseye Kernel: Depends on container host Compiler: gcc (Debian 10.2.1-6) 10.2.1 20210110 Debian 12 Kernel: Depends on container host Compiler: gcc (Debian 12.2.0-14) 12.2.0 Fedora 40 (Clang) Kernel: Depends on container host Compiler: clang 18.1.8 (Fedora 18.1.8-1.fc40) Fedora 40 Kernel: Depends on container host Compiler: gcc 14.2.1 20240912 (Red Hat 14.2.1-3) Fedora 41 (Clang) Kernel: Depends on container host Compiler: clang 19.1.5 (Fedora 19.1.5-1.fc41) Fedora 41 Kernel: Depends on container host Compiler: gcc 14.2.1 20240912 (Red Hat 14.2.1-3) RHEL8 Kernel: Depends on container host Compiler: gcc 8.5.0 20210514 (Red Hat 8.5.0-22) openSUSE Leap 15 Kernel: Depends on container host Compiler: gcc (SUSE Linux) 7.5.0 RHEL9 Kernel: Depends on container host Compiler: gcc 11.5.0 20240719 (Red Hat 11.5.0-2) Ubuntu 24.04 Kernel: Depends on container host Compiler: gcc (Ubuntu 13.3.0-6ubuntu2~24.04) 13.3.0 Ubuntu 20.04 Kernel: Depends on container host Compiler: gcc (Ubuntu 9.4.0-1ubuntu1~20.04.2) 9.4.0 Alpine Kernel: Depends on container host Compiler: gcc (Alpine 14.2.0) 14.2.0 FreeBSD 14.2 Kernel: 14.2-RELEASE Compiler: clang 18.1.6 Ubuntu 22.04 Kernel: Depends on container host Compiler: gcc (Ubuntu 11.4.0-1ubuntu1~22.04) 11.4.0 FreeBSD 13.4 Kernel: 13.4-RELEASE-p1 Compiler: clang 18.1.6 Windows Server 2022 Kernel: 10.0.20348.2031 Compiler: clang 15.0.7, gcc 14.1.0 (MinGW), and MSVC VS 19.39.33521 To view detailed results, visit: https://lab.dpdk.org/results/dashboard/tarballs/32296/ UNH-IOL DPDK Community Lab To manage your email subscriptions, visit: https://lab.dpdk.org/results/dashboard/preferences/subscriptions/