From mboxrd@z Thu Jan 1 00:00:00 1970 Return-Path: Received: from mails.dpdk.org (mails.dpdk.org [217.70.189.124]) by inbox.dpdk.org (Postfix) with ESMTP id 6268D461A0 for ; Wed, 5 Feb 2025 18:25:17 +0100 (CET) Received: from mails.dpdk.org (localhost [127.0.0.1]) by mails.dpdk.org (Postfix) with ESMTP id 5F4C540647; Wed, 5 Feb 2025 18:25:17 +0100 (CET) Received: from mail-qk1-f225.google.com (mail-qk1-f225.google.com [209.85.222.225]) by mails.dpdk.org (Postfix) with ESMTP id 66FEC40654 for ; Wed, 5 Feb 2025 18:25:14 +0100 (CET) Received: by mail-qk1-f225.google.com with SMTP id af79cd13be357-7bcf33f698dso662378785a.2 for ; Wed, 05 Feb 2025 09:25:14 -0800 (PST) DKIM-Signature: v=1; a=rsa-sha256; c=relaxed/relaxed; d=iol.unh.edu; s=unh-iol; t=1738776314; x=1739381114; darn=dpdk.org; h=references:in-reply-to:cc:to:from:subject:message-id:date:from:to :cc:subject:date:message-id:reply-to; bh=2N4K7B+ba/f+xqOmNeauau0xZYbNR8KLu1HkdfghWb4=; b=ZukWSRtznKU2yJ/o1E4e8TiUCJnOM5DNh+EOO0XdWdaDAwbMLEYsDLkKm2pP6hi2W4 ZUVSQgZu7IXxIoW7r6cHDjn1P1kadd+vc3YXR2MRwmiXThhpaUMal4a2/vfw8/nLv4Ey gXDHnzwWAtzxEl3rGoJSsjcctb0eqmWrhn16Y= X-Google-DKIM-Signature: v=1; a=rsa-sha256; c=relaxed/relaxed; d=1e100.net; s=20230601; t=1738776314; x=1739381114; h=references:in-reply-to:cc:to:from:subject:message-id:date :x-gm-message-state:from:to:cc:subject:date:message-id:reply-to; bh=2N4K7B+ba/f+xqOmNeauau0xZYbNR8KLu1HkdfghWb4=; b=DhmCNXcD/YM9IxT69qej6LgXry2jW0z7PjqvxsqvU+77HhQtQIfu1qK2uoxVna+i4d VG/00VZHTLlM1HWWixeBHQY1VWS+VFUm5ZBwNKfvM5K54Ff/qx2Fl7FGf/flaX4F3N9K 5dCJ1fQj1U0iFhizUcf5z13EgZwe05gwJTZjr102X0VuwhEbNpGU/l3m2OricyQNOWAc hyr1hHiHZBhrUJvuWl5O5f08apQ1RL3ogT7xqGuWDXU2OA6G9EDol5YK0sJpyyrvD8mq wwc5oJ4CyRp9WWBgVsqH1n8kg2jHtVY1KUaoou90YvrTxLofPc+OINncHS1Atz4j/zKV NgfA== X-Gm-Message-State: AOJu0Yy8XZ3CZv+plMVD/2cUjLeio3VR/VeF7RpuetbnsC5GcZu3G88C qlISwHd7i9MWBvgb/PKLyT2lSGPWNDodkQyStfORW1mO1ltJp3DVONNFXka/FSFujxS4aC9QLYU 0SZfs5ChAz3AhaXdC4F9GP9Ejp8XqFOA1JQBtek3d+38Gr/F/lnepr9iK X-Gm-Gg: ASbGnctQCiST2yVo+zJsgUxORVdF1RF/iEE31lbrzIJtKYDxCbpLpJDMG/Imok5BvL7 DK1yvs68eQT14on4CwVjSPAC/pou3GDaXQShF/vhAcs5MG7sGGCFQfXcCS4dIhSdOgKMj7imlV0 /WG4ymPZ3LBop0YK744jvdZ79gSJE8zpsOgSJYO55qnkVU9+46Pb1cbJf1jQoDJZME/z12Z/8Lj PqBR1kgC1KenZle7WW/NYOmhvRpclzaZNsyfiPsdVp2IUOEy5+b5GL0g7PV1w0rLtrDTWg6I0lW z4WFLFHScfOWtHlu0E//2RwazbR/HkdRGzKD3BkM5g== X-Google-Smtp-Source: AGHT+IFqGiPgCt+JOPy2aP0+3eTyuvcnQTIw5kCOjBHjCoT5rCA1eO4Rnme/Y5LeIvFeR3bVtNPV/s8qU8Ee X-Received: by 2002:a05:620a:394c:b0:7be:82fc:6877 with SMTP id af79cd13be357-7c03a02be11mr585889085a.37.1738776313808; Wed, 05 Feb 2025 09:25:13 -0800 (PST) Received: from postal.iol.unh.edu (postal.iol.unh.edu. [2606:4100:3880:1234::84]) by smtp-relay.gmail.com with ESMTPS id 6a1803df08f44-6e2544df6e5sm9945096d6.5.2025.02.05.09.25.13 (version=TLS1_2 cipher=ECDHE-ECDSA-AES128-GCM-SHA256 bits=128/128); Wed, 05 Feb 2025 09:25:13 -0800 (PST) X-Relaying-Domain: iol.unh.edu Date: Wed, 05 Feb 2025 09:25:13 -0800 (PST) Message-ID: <67a39ef9.050a0220.3d0a40.d90fSMTPIN_ADDED_MISSING@mx.google.com> Received: from [172.17.0.3] (unknown [172.18.0.213]) by postal.iol.unh.edu (Postfix) with ESMTP id 8694D6052471; Wed, 5 Feb 2025 12:25:13 -0500 (EST) Subject: |SUCCESS| pw150365 [PATCH] net/nfp: fix misuse of function return va From: dpdklab@iol.unh.edu To: Test Report Cc: dpdk-test-reports@iol.unh.edu In-Reply-To: <20250122013320.1704468-1-chaoyong.he@corigine.com> References: <20250122013320.1704468-1-chaoyong.he@corigine.com> Content-Type: text/plain X-BeenThere: test-report@dpdk.org X-Mailman-Version: 2.1.29 Precedence: list List-Id: automatic DPDK test reports List-Unsubscribe: , List-Archive: List-Post: List-Help: List-Subscribe: , Errors-To: test-report-bounces@dpdk.org Test-Label: iol-compile-amd64-testing Test-Status: SUCCESS http://dpdk.org/patch/150365 _Testing PASS_ Submitter: Chaoyong He Date: Wednesday, January 22 2025 01:33:20 DPDK git baseline: Repo:dpdk Branch: master CommitID:347a988b93e7b63b27f1dfa09bd03318d810a9a9 150365 --> testing pass Test environment and result as below: +---------------------+--------------------+------------------+-------------------+-------------------+-------------------------+----------------------+ | Environment | dpdk_meson_compile | dpdk_compile_ovs | dpdk_compile_spdk | dpdk_msvc_compile | dpdk_llvm_clang_compile | dpdk_mingw64_compile | +=====================+====================+==================+===================+===================+=========================+======================+ | CentOS Stream 9 | PASS | PASS | PASS | SKIPPED | SKIPPED | SKIPPED | +---------------------+--------------------+------------------+-------------------+-------------------+-------------------------+----------------------+ | Debian Bullseye | PASS | PASS | PASS | SKIPPED | SKIPPED | SKIPPED | +---------------------+--------------------+------------------+-------------------+-------------------+-------------------------+----------------------+ | Debian 12 | PASS | PASS | PASS | SKIPPED | SKIPPED | SKIPPED | +---------------------+--------------------+------------------+-------------------+-------------------+-------------------------+----------------------+ | Fedora 40 (Clang) | PASS | PASS | PASS | SKIPPED | SKIPPED | SKIPPED | +---------------------+--------------------+------------------+-------------------+-------------------+-------------------------+----------------------+ | Fedora 41 (Clang) | PASS | PASS | PASS | SKIPPED | SKIPPED | SKIPPED | +---------------------+--------------------+------------------+-------------------+-------------------+-------------------------+----------------------+ | Fedora 40 | PASS | PASS | PASS | SKIPPED | SKIPPED | SKIPPED | +---------------------+--------------------+------------------+-------------------+-------------------+-------------------------+----------------------+ | Fedora 41 | PASS | PASS | PASS | SKIPPED | SKIPPED | SKIPPED | +---------------------+--------------------+------------------+-------------------+-------------------+-------------------------+----------------------+ | RHEL8 | PASS | PASS | SKIPPED | SKIPPED | SKIPPED | SKIPPED | +---------------------+--------------------+------------------+-------------------+-------------------+-------------------------+----------------------+ | openSUSE Leap 15 | PASS | SKIPPED | SKIPPED | SKIPPED | SKIPPED | SKIPPED | +---------------------+--------------------+------------------+-------------------+-------------------+-------------------------+----------------------+ | Ubuntu 20.04 | PASS | SKIPPED | SKIPPED | SKIPPED | SKIPPED | SKIPPED | +---------------------+--------------------+------------------+-------------------+-------------------+-------------------------+----------------------+ | RHEL9 | PASS | PASS | SKIPPED | SKIPPED | SKIPPED | SKIPPED | +---------------------+--------------------+------------------+-------------------+-------------------+-------------------------+----------------------+ | Ubuntu 22.04 | PASS | PASS | PASS | SKIPPED | SKIPPED | SKIPPED | +---------------------+--------------------+------------------+-------------------+-------------------+-------------------------+----------------------+ | Ubuntu 24.04 | PASS | PASS | PASS | SKIPPED | SKIPPED | SKIPPED | +---------------------+--------------------+------------------+-------------------+-------------------+-------------------------+----------------------+ | Alpine | PASS | PASS | SKIPPED | SKIPPED | SKIPPED | SKIPPED | +---------------------+--------------------+------------------+-------------------+-------------------+-------------------------+----------------------+ | FreeBSD 13.4 | PASS | SKIPPED | SKIPPED | SKIPPED | SKIPPED | SKIPPED | +---------------------+--------------------+------------------+-------------------+-------------------+-------------------------+----------------------+ | FreeBSD 14.2 | PASS | SKIPPED | SKIPPED | SKIPPED | SKIPPED | SKIPPED | +---------------------+--------------------+------------------+-------------------+-------------------+-------------------------+----------------------+ | Windows Server 2022 | SKIPPED | SKIPPED | SKIPPED | PASS | PASS | PASS | +---------------------+--------------------+------------------+-------------------+-------------------+-------------------------+----------------------+ CentOS Stream 9 Kernel: Depends on container host Compiler: gcc 11.5.0 20240719 (Red Hat 11.5.0-2) Debian Bullseye Kernel: Depends on container host Compiler: gcc (Debian 10.2.1-6) 10.2.1 20210110 Debian 12 Kernel: Depends on container host Compiler: gcc (Debian 12.2.0-14) 12.2.0 Fedora 40 (Clang) Kernel: Depends on container host Compiler: clang 18.1.8 (Fedora 18.1.8-1.fc40) Fedora 41 (Clang) Kernel: Depends on container host Compiler: clang 19.1.5 (Fedora 19.1.5-1.fc41) Fedora 40 Kernel: Depends on container host Compiler: gcc 14.2.1 20240912 (Red Hat 14.2.1-3) Fedora 41 Kernel: Depends on container host Compiler: gcc 14.2.1 20240912 (Red Hat 14.2.1-3) RHEL8 Kernel: Depends on container host Compiler: gcc 8.5.0 20210514 (Red Hat 8.5.0-22) openSUSE Leap 15 Kernel: Depends on container host Compiler: gcc (SUSE Linux) 7.5.0 Ubuntu 20.04 Kernel: Depends on container host Compiler: gcc (Ubuntu 9.4.0-1ubuntu1~20.04.2) 9.4.0 RHEL9 Kernel: Depends on container host Compiler: gcc 11.5.0 20240719 (Red Hat 11.5.0-2) Ubuntu 22.04 Kernel: Depends on container host Compiler: gcc (Ubuntu 11.4.0-1ubuntu1~22.04) 11.4.0 Ubuntu 24.04 Kernel: Depends on container host Compiler: gcc (Ubuntu 13.3.0-6ubuntu2~24.04) 13.3.0 Alpine Kernel: Depends on container host Compiler: gcc (Alpine 14.2.0) 14.2.0 FreeBSD 13.4 Kernel: 13.4-RELEASE-p1 Compiler: clang 18.1.6 FreeBSD 14.2 Kernel: 14.2-RELEASE Compiler: clang 18.1.6 Windows Server 2022 Kernel: 10.0.20348.2031 Compiler: clang 15.0.7, gcc 14.1.0 (MinGW), and MSVC VS 19.39.33521 To view detailed results, visit: https://lab.dpdk.org/results/dashboard/patchsets/32390/ UNH-IOL DPDK Community Lab To manage your email subscriptions, visit: https://lab.dpdk.org/results/dashboard/preferences/subscriptions/