From mboxrd@z Thu Jan 1 00:00:00 1970 Return-Path: Received: from mails.dpdk.org (mails.dpdk.org [217.70.189.124]) by inbox.dpdk.org (Postfix) with ESMTP id 8C77B461A0 for ; Wed, 5 Feb 2025 18:25:57 +0100 (CET) Received: from mails.dpdk.org (localhost [127.0.0.1]) by mails.dpdk.org (Postfix) with ESMTP id 87A40402EE; Wed, 5 Feb 2025 18:25:57 +0100 (CET) Received: from mail-oa1-f97.google.com (mail-oa1-f97.google.com [209.85.160.97]) by mails.dpdk.org (Postfix) with ESMTP id 050E0402E4 for ; Wed, 5 Feb 2025 18:25:57 +0100 (CET) Received: by mail-oa1-f97.google.com with SMTP id 586e51a60fabf-2a01bcd0143so4682415fac.2 for ; Wed, 05 Feb 2025 09:25:56 -0800 (PST) DKIM-Signature: v=1; a=rsa-sha256; c=relaxed/relaxed; d=iol.unh.edu; s=unh-iol; t=1738776356; x=1739381156; darn=dpdk.org; h=references:in-reply-to:cc:to:from:subject:message-id:date:from:to :cc:subject:date:message-id:reply-to; bh=2zNqkqIla/rzQD080sKzjwIQun1kxY5LsD/AL8GZOe4=; b=Tx6EdgEGfUzTCXU/Xo9i9TcGzydIsE7MVhaOcZXBvMKiJauZ7lfQgMP/mGwrnjNb1s +Ms0lvuWClXmI136lJ+60yR2mfyGuv6Xoj1/0vxSoIaqgWckwU3YDI401wQu44yoNcKN O+mWtChPYCpzczxafR5FTVXHbOVnwcrffvyw0= X-Google-DKIM-Signature: v=1; a=rsa-sha256; c=relaxed/relaxed; d=1e100.net; s=20230601; t=1738776356; x=1739381156; h=references:in-reply-to:cc:to:from:subject:message-id:date :x-gm-message-state:from:to:cc:subject:date:message-id:reply-to; bh=2zNqkqIla/rzQD080sKzjwIQun1kxY5LsD/AL8GZOe4=; b=doL9WLVFlVKjBc9jbUXagYhLiIsMMUp4j8GOkKV1TKP9L8fRlX+JKn38qzqkFLoQ12 Jl5wathS9g98/h6Gl1fTT7uraG3quAXj9cn0BGhDx2YgvRc7bPl9lhzvfvX5/Q8+POSh xL54PCeV8N/DimfkNVIvu2y74BHKvA5qp8pLZOkEsn0ByxN7BpCP4uYsRR1FoKX3TK7d OHS7cMT/mmczybdFlPjLXgsu88OxNKVOU/HBhX5JnZZy3J2ebL28I3ywz7FqRn6Plq8s JUqny/7h62CazPVeLCgWi+hH/rumVNt+DV8fJRiR+EUe/hfSaAv0/+U77YPP/f0tK0hH zl1w== X-Gm-Message-State: AOJu0YyAvKr2GKtaIyy11FSTRmSGuUizZBTRAvplVcX4ke7KJzajiAqL /JtS8Ys3Z3hdIZExMu+zFS3Vditq3dnirBW6HUY0SyJSBI4HaK8uOBPgEWEcvABkbBSiti5TRHI LTwT3hRr5MxG+ntafTV+qR1QD0YrPFmvNUB7vTQEr X-Gm-Gg: ASbGncsSZMq0eOM+GQAq+91CkwHoDPnd2OtvRR6QJZw5XPVYvioQ6Gg8weCc5d0+7ku rGl/GUHYeG9vnAU9vBFKOZ0p1qPqBr7b5obSuCiZxYlozOmRv1AU2jqIYrLTrqqGmCfupt9n5+5 xXztiMHDngDjqY4H0phnyV+N6u1bqngveDxowz6tUa/jlo+CPWjZk0NuzqPjwK7+8AuKEwG9YoE EaFv+sn9UU82HIyTb4MD5BjbXRnFQbfb+bdVH/6RgXXd23zw7uAP2CJFA5t+0BPgUclpW1+/bEO AX1xUqwOPyg3udK5ryBPbH06UrynSQ== X-Google-Smtp-Source: AGHT+IHQtwcC4dNSiiGs0pK53I1MNNHez94pz9lEnD1yn1z2amdWbDrt+z3cKbTMlgWyn6XeRIduu92cQUSZ X-Received: by 2002:a05:6870:4689:b0:29e:526a:eeef with SMTP id 586e51a60fabf-2b8051adf6emr2671238fac.34.1738776356256; Wed, 05 Feb 2025 09:25:56 -0800 (PST) Received: from postal.iol.unh.edu (postal.iol.unh.edu. [132.177.123.84]) by smtp-relay.gmail.com with ESMTPS id 586e51a60fabf-2b356115f58sm980331fac.8.2025.02.05.09.25.56 (version=TLS1_2 cipher=ECDHE-ECDSA-AES128-GCM-SHA256 bits=128/128); Wed, 05 Feb 2025 09:25:56 -0800 (PST) X-Relaying-Domain: iol.unh.edu Date: Wed, 05 Feb 2025 09:25:56 -0800 (PST) Message-ID: <67a39f24.050a0220.2af161.da27SMTPIN_ADDED_MISSING@mx.google.com> Received: from [172.17.0.3] (unknown [172.18.0.214]) by postal.iol.unh.edu (Postfix) with ESMTP id DBFC16052471; Wed, 5 Feb 2025 12:25:55 -0500 (EST) Subject: |SUCCESS| pw150388 [PATCH] [1/1] test/crypto: additional RSA tests f From: dpdklab@iol.unh.edu To: Test Report Cc: dpdk-test-reports@iol.unh.edu In-Reply-To: <20250122113626.2953973-1-gmuthukrishn@marvell.com> References: <20250122113626.2953973-1-gmuthukrishn@marvell.com> Content-Type: text/plain X-BeenThere: test-report@dpdk.org X-Mailman-Version: 2.1.29 Precedence: list List-Id: automatic DPDK test reports List-Unsubscribe: , List-Archive: List-Post: List-Help: List-Subscribe: , Errors-To: test-report-bounces@dpdk.org Test-Label: iol-compile-amd64-testing Test-Status: SUCCESS http://dpdk.org/patch/150388 _Testing PASS_ Submitter: Gowrishankar Muthukrishnan Date: Wednesday, January 22 2025 11:36:26 DPDK git baseline: Repo:dpdk Branch: master CommitID:e931818831336de2732ca29082e47799359d9c71 150388 --> testing pass Test environment and result as below: +---------------------+--------------------+------------------+-------------------+-------------------+-------------------------+----------------------+ | Environment | dpdk_meson_compile | dpdk_compile_ovs | dpdk_compile_spdk | dpdk_msvc_compile | dpdk_llvm_clang_compile | dpdk_mingw64_compile | +=====================+====================+==================+===================+===================+=========================+======================+ | Debian Bullseye | PASS | PASS | PASS | SKIPPED | SKIPPED | SKIPPED | +---------------------+--------------------+------------------+-------------------+-------------------+-------------------------+----------------------+ | Fedora 40 | PASS | PASS | PASS | SKIPPED | SKIPPED | SKIPPED | +---------------------+--------------------+------------------+-------------------+-------------------+-------------------------+----------------------+ | Debian 12 | PASS | PASS | PASS | SKIPPED | SKIPPED | SKIPPED | +---------------------+--------------------+------------------+-------------------+-------------------+-------------------------+----------------------+ | Fedora 40 (Clang) | PASS | PASS | PASS | SKIPPED | SKIPPED | SKIPPED | +---------------------+--------------------+------------------+-------------------+-------------------+-------------------------+----------------------+ | Fedora 41 | PASS | PASS | PASS | SKIPPED | SKIPPED | SKIPPED | +---------------------+--------------------+------------------+-------------------+-------------------+-------------------------+----------------------+ | openSUSE Leap 15 | PASS | SKIPPED | SKIPPED | SKIPPED | SKIPPED | SKIPPED | +---------------------+--------------------+------------------+-------------------+-------------------+-------------------------+----------------------+ | RHEL8 | PASS | PASS | SKIPPED | SKIPPED | SKIPPED | SKIPPED | +---------------------+--------------------+------------------+-------------------+-------------------+-------------------------+----------------------+ | Fedora 41 (Clang) | PASS | PASS | PASS | SKIPPED | SKIPPED | SKIPPED | +---------------------+--------------------+------------------+-------------------+-------------------+-------------------------+----------------------+ | Ubuntu 20.04 | PASS | SKIPPED | SKIPPED | SKIPPED | SKIPPED | SKIPPED | +---------------------+--------------------+------------------+-------------------+-------------------+-------------------------+----------------------+ | RHEL9 | PASS | PASS | SKIPPED | SKIPPED | SKIPPED | SKIPPED | +---------------------+--------------------+------------------+-------------------+-------------------+-------------------------+----------------------+ | Ubuntu 22.04 | PASS | PASS | PASS | SKIPPED | SKIPPED | SKIPPED | +---------------------+--------------------+------------------+-------------------+-------------------+-------------------------+----------------------+ | Ubuntu 24.04 | PASS | PASS | PASS | SKIPPED | SKIPPED | SKIPPED | +---------------------+--------------------+------------------+-------------------+-------------------+-------------------------+----------------------+ | Alpine | PASS | PASS | SKIPPED | SKIPPED | SKIPPED | SKIPPED | +---------------------+--------------------+------------------+-------------------+-------------------+-------------------------+----------------------+ | FreeBSD 13.4 | PASS | SKIPPED | SKIPPED | SKIPPED | SKIPPED | SKIPPED | +---------------------+--------------------+------------------+-------------------+-------------------+-------------------------+----------------------+ | FreeBSD 14.2 | PASS | SKIPPED | SKIPPED | SKIPPED | SKIPPED | SKIPPED | +---------------------+--------------------+------------------+-------------------+-------------------+-------------------------+----------------------+ | Windows Server 2022 | SKIPPED | SKIPPED | SKIPPED | PASS | PASS | PASS | +---------------------+--------------------+------------------+-------------------+-------------------+-------------------------+----------------------+ Debian Bullseye Kernel: Depends on container host Compiler: gcc (Debian 10.2.1-6) 10.2.1 20210110 Fedora 40 Kernel: Depends on container host Compiler: gcc 14.2.1 20240912 (Red Hat 14.2.1-3) Debian 12 Kernel: Depends on container host Compiler: gcc (Debian 12.2.0-14) 12.2.0 Fedora 40 (Clang) Kernel: Depends on container host Compiler: clang 18.1.8 (Fedora 18.1.8-1.fc40) Fedora 41 Kernel: Depends on container host Compiler: gcc 14.2.1 20240912 (Red Hat 14.2.1-3) openSUSE Leap 15 Kernel: Depends on container host Compiler: gcc (SUSE Linux) 7.5.0 RHEL8 Kernel: Depends on container host Compiler: gcc 8.5.0 20210514 (Red Hat 8.5.0-22) Fedora 41 (Clang) Kernel: Depends on container host Compiler: clang 19.1.5 (Fedora 19.1.5-1.fc41) Ubuntu 20.04 Kernel: Depends on container host Compiler: gcc (Ubuntu 9.4.0-1ubuntu1~20.04.2) 9.4.0 RHEL9 Kernel: Depends on container host Compiler: gcc 11.5.0 20240719 (Red Hat 11.5.0-2) Ubuntu 22.04 Kernel: Depends on container host Compiler: gcc (Ubuntu 11.4.0-1ubuntu1~22.04) 11.4.0 Ubuntu 24.04 Kernel: Depends on container host Compiler: gcc (Ubuntu 13.3.0-6ubuntu2~24.04) 13.3.0 Alpine Kernel: Depends on container host Compiler: gcc (Alpine 14.2.0) 14.2.0 FreeBSD 13.4 Kernel: 13.4-RELEASE-p1 Compiler: clang 18.1.6 FreeBSD 14.2 Kernel: 14.2-RELEASE Compiler: clang 18.1.6 Windows Server 2022 Kernel: 10.0.20348.2031 Compiler: clang 15.0.7, gcc 14.1.0 (MinGW), and MSVC VS 19.39.33521 To view detailed results, visit: https://lab.dpdk.org/results/dashboard/patchsets/32396/ UNH-IOL DPDK Community Lab To manage your email subscriptions, visit: https://lab.dpdk.org/results/dashboard/preferences/subscriptions/