From mboxrd@z Thu Jan 1 00:00:00 1970 Return-Path: Received: from mails.dpdk.org (mails.dpdk.org [217.70.189.124]) by inbox.dpdk.org (Postfix) with ESMTP id E93D8461A0 for ; Wed, 5 Feb 2025 18:26:15 +0100 (CET) Received: from mails.dpdk.org (localhost [127.0.0.1]) by mails.dpdk.org (Postfix) with ESMTP id E5E5D402E6; Wed, 5 Feb 2025 18:26:15 +0100 (CET) Received: from mail-pl1-f226.google.com (mail-pl1-f226.google.com [209.85.214.226]) by mails.dpdk.org (Postfix) with ESMTP id 1ADEA402E4 for ; Wed, 5 Feb 2025 18:26:15 +0100 (CET) Received: by mail-pl1-f226.google.com with SMTP id d9443c01a7336-2165cb60719so1610635ad.0 for ; Wed, 05 Feb 2025 09:26:15 -0800 (PST) DKIM-Signature: v=1; a=rsa-sha256; c=relaxed/relaxed; d=iol.unh.edu; s=unh-iol; t=1738776374; x=1739381174; darn=dpdk.org; h=references:in-reply-to:cc:to:from:subject:message-id:date:from:to :cc:subject:date:message-id:reply-to; bh=WdSk4McCYFqyLR0JrTZcYhe8zL8XqTnD7oTnXcM1p3o=; b=hcwTNMa2qU83WU59+uGukfbOaZIfJ8++Z1oJe94r862plujplm/okVzEH8KARzfwXX Pq3loyJ3zZjDSD6sXlp/HYnLTMDuistTYxV2T8lG/qT7L5C+H3677xgk/NAfiJRvmDjK nR9Fs5ouIXi0RI/oeq1OxRtwCu9n8xi0t8ag0= X-Google-DKIM-Signature: v=1; a=rsa-sha256; c=relaxed/relaxed; d=1e100.net; s=20230601; t=1738776374; x=1739381174; h=references:in-reply-to:cc:to:from:subject:message-id:date :x-gm-message-state:from:to:cc:subject:date:message-id:reply-to; bh=WdSk4McCYFqyLR0JrTZcYhe8zL8XqTnD7oTnXcM1p3o=; b=mSXqx4y71ZY4fh/26EW+O+gBCQV5O7H1WaY88ZkGMYsZk8PIeQdUmOun6MoXFn2UZ8 SikXTqmadBpf6kYaMgrysfGAAiNCw0O+FXEbfnEDj4p7vM2tgqkRSvRB03ReZZ+33mwC D8yhQwzn+swnjY+tvCg+Lh6fgDk7KAdIgIZnL1ZMCwurn2K++MB0FTqWiITNh9vvYLgK w0kw8zJ0o1FdxH5kTkF4jNLNtJYipnvnJ/HRmo+s6bObFQngWedmWHG07IDq8bFfGjDV 3jf19ZvJlv+iNrm7FrRt9cW12Bo7g4PGU50noKudDjN67v2chk1y5YACBII4RjHQv1+e DDFA== X-Gm-Message-State: AOJu0YwKRXBoUSqsn8/LOt2r6q5WanFgDhzaJ/4FFP95zJZiGtdOlk19 jkB6o6HEFEYXa52Nn8R8UBwCgsxjjeXg4NrYQEXqhMOwVHa21a1ZlYDFJ3uDpLyQcnLlYh1Wrqy yrsnKLFzNsZ6HxL2EftxDJQ0WY5VnilEJjomcyEjU X-Gm-Gg: ASbGncvWu6SWUCwm6KlZatuiFWi6/5ftDwHLDyZwVTrz7i1eDa2XGyd29bSzz5w8X9U hno8/CDMuEdbAHMsmIsi3B6CNyGwzSJGneTjZgHxP8fWUuV7K8Azc4tdNxJvbMSmImC/lxNhu4b bycpR5NhFDz7Zg3HL/06vEsX/nUKs06cdCPKkNhHAxQJpujrQOdqHP98JcP7Nb6N7Ro9dIbQgfK NBbKLe9AwkMV3+0+KdhWmpUh53G5QtumNEQ85HPwrl8koW2DsM9QVQOjoylxewiFwk3z5vRhV8b avWUr5zmO9oCAeNO3s6un15BXvAJcQ== X-Google-Smtp-Source: AGHT+IF0HZcH87X59C6jDFrrcDwAJ1WL1HgGDAD/x8bJDenqmFt3iCuMfht0ZnsvsKVkN7xUd2rzd+MGDLwL X-Received: by 2002:a05:6a20:d04e:b0:1e0:d89e:f5bc with SMTP id adf61e73a8af0-1ede883b82fmr6433205637.11.1738776372770; Wed, 05 Feb 2025 09:26:12 -0800 (PST) Received: from postal.iol.unh.edu (postal.iol.unh.edu. [132.177.123.84]) by smtp-relay.gmail.com with ESMTPS id 41be03b00d2f7-acec0a666b1sm790204a12.26.2025.02.05.09.26.12 (version=TLS1_2 cipher=ECDHE-ECDSA-AES128-GCM-SHA256 bits=128/128); Wed, 05 Feb 2025 09:26:12 -0800 (PST) X-Relaying-Domain: iol.unh.edu Date: Wed, 05 Feb 2025 09:26:12 -0800 (PST) Message-ID: <67a39f34.630a0220.12e58e.5ed1SMTPIN_ADDED_MISSING@mx.google.com> Received: from [172.17.0.4] (unknown [172.18.0.217]) by postal.iol.unh.edu (Postfix) with ESMTP id E64C06052471; Wed, 5 Feb 2025 12:26:11 -0500 (EST) Subject: |SUCCESS| pw150163-150164 [PATCH] [v3,2/2] ethdev: fix some function From: dpdklab@iol.unh.edu To: Test Report Cc: dpdk-test-reports@iol.unh.edu In-Reply-To: <20250117091210.12419-3-lihuisong@huawei.com> References: <20250117091210.12419-3-lihuisong@huawei.com> Content-Type: text/plain X-BeenThere: test-report@dpdk.org X-Mailman-Version: 2.1.29 Precedence: list List-Id: automatic DPDK test reports List-Unsubscribe: , List-Archive: List-Post: List-Help: List-Subscribe: , Errors-To: test-report-bounces@dpdk.org Test-Label: iol-compile-amd64-testing Test-Status: SUCCESS http://dpdk.org/patch/150164 _Testing PASS_ Submitter: Huisong Li Date: Friday, January 17 2025 09:12:10 DPDK git baseline: Repo:dpdk Branch: master CommitID:06e2856620a70000b2a28f0ea715fc247b85fd8d 150163-150164 --> testing pass Test environment and result as below: +---------------------+--------------------+------------------+-------------------+-------------------+-------------------------+----------------------+ | Environment | dpdk_meson_compile | dpdk_compile_ovs | dpdk_compile_spdk | dpdk_msvc_compile | dpdk_llvm_clang_compile | dpdk_mingw64_compile | +=====================+====================+==================+===================+===================+=========================+======================+ | CentOS Stream 9 | PASS | PASS | PASS | SKIPPED | SKIPPED | SKIPPED | +---------------------+--------------------+------------------+-------------------+-------------------+-------------------------+----------------------+ | Debian 12 | PASS | PASS | PASS | SKIPPED | SKIPPED | SKIPPED | +---------------------+--------------------+------------------+-------------------+-------------------+-------------------------+----------------------+ | Debian Bullseye | PASS | PASS | PASS | SKIPPED | SKIPPED | SKIPPED | +---------------------+--------------------+------------------+-------------------+-------------------+-------------------------+----------------------+ | Fedora 40 | PASS | PASS | PASS | SKIPPED | SKIPPED | SKIPPED | +---------------------+--------------------+------------------+-------------------+-------------------+-------------------------+----------------------+ | Fedora 40 (Clang) | PASS | PASS | PASS | SKIPPED | SKIPPED | SKIPPED | +---------------------+--------------------+------------------+-------------------+-------------------+-------------------------+----------------------+ | Fedora 41 (Clang) | PASS | PASS | PASS | SKIPPED | SKIPPED | SKIPPED | +---------------------+--------------------+------------------+-------------------+-------------------+-------------------------+----------------------+ | Fedora 41 | PASS | PASS | PASS | SKIPPED | SKIPPED | SKIPPED | +---------------------+--------------------+------------------+-------------------+-------------------+-------------------------+----------------------+ | openSUSE Leap 15 | PASS | SKIPPED | SKIPPED | SKIPPED | SKIPPED | SKIPPED | +---------------------+--------------------+------------------+-------------------+-------------------+-------------------------+----------------------+ | RHEL8 | PASS | PASS | SKIPPED | SKIPPED | SKIPPED | SKIPPED | +---------------------+--------------------+------------------+-------------------+-------------------+-------------------------+----------------------+ | RHEL9 | PASS | PASS | SKIPPED | SKIPPED | SKIPPED | SKIPPED | +---------------------+--------------------+------------------+-------------------+-------------------+-------------------------+----------------------+ | Ubuntu 20.04 | PASS | SKIPPED | SKIPPED | SKIPPED | SKIPPED | SKIPPED | +---------------------+--------------------+------------------+-------------------+-------------------+-------------------------+----------------------+ | Ubuntu 22.04 | PASS | PASS | PASS | SKIPPED | SKIPPED | SKIPPED | +---------------------+--------------------+------------------+-------------------+-------------------+-------------------------+----------------------+ | Ubuntu 24.04 | PASS | PASS | PASS | SKIPPED | SKIPPED | SKIPPED | +---------------------+--------------------+------------------+-------------------+-------------------+-------------------------+----------------------+ | Alpine | PASS | PASS | SKIPPED | SKIPPED | SKIPPED | SKIPPED | +---------------------+--------------------+------------------+-------------------+-------------------+-------------------------+----------------------+ | FreeBSD 13.4 | PASS | SKIPPED | SKIPPED | SKIPPED | SKIPPED | SKIPPED | +---------------------+--------------------+------------------+-------------------+-------------------+-------------------------+----------------------+ | FreeBSD 14.2 | PASS | SKIPPED | SKIPPED | SKIPPED | SKIPPED | SKIPPED | +---------------------+--------------------+------------------+-------------------+-------------------+-------------------------+----------------------+ | Windows Server 2022 | SKIPPED | SKIPPED | SKIPPED | PASS | PASS | PASS | +---------------------+--------------------+------------------+-------------------+-------------------+-------------------------+----------------------+ CentOS Stream 9 Kernel: Depends on container host Compiler: gcc 11.5.0 20240719 (Red Hat 11.5.0-2) Debian 12 Kernel: Depends on container host Compiler: gcc (Debian 12.2.0-14) 12.2.0 Debian Bullseye Kernel: Depends on container host Compiler: gcc (Debian 10.2.1-6) 10.2.1 20210110 Fedora 40 Kernel: Depends on container host Compiler: gcc 14.2.1 20240912 (Red Hat 14.2.1-3) Fedora 40 (Clang) Kernel: Depends on container host Compiler: clang 18.1.8 (Fedora 18.1.8-1.fc40) Fedora 41 (Clang) Kernel: Depends on container host Compiler: clang 19.1.5 (Fedora 19.1.5-1.fc41) Fedora 41 Kernel: Depends on container host Compiler: gcc 14.2.1 20240912 (Red Hat 14.2.1-3) openSUSE Leap 15 Kernel: Depends on container host Compiler: gcc (SUSE Linux) 7.5.0 RHEL8 Kernel: Depends on container host Compiler: gcc 8.5.0 20210514 (Red Hat 8.5.0-22) RHEL9 Kernel: Depends on container host Compiler: gcc 11.5.0 20240719 (Red Hat 11.5.0-2) Ubuntu 20.04 Kernel: Depends on container host Compiler: gcc (Ubuntu 9.4.0-1ubuntu1~20.04.2) 9.4.0 Ubuntu 22.04 Kernel: Depends on container host Compiler: gcc (Ubuntu 11.4.0-1ubuntu1~22.04) 11.4.0 Ubuntu 24.04 Kernel: Depends on container host Compiler: gcc (Ubuntu 13.3.0-6ubuntu2~24.04) 13.3.0 Alpine Kernel: Depends on container host Compiler: gcc (Alpine 14.2.0) 14.2.0 FreeBSD 13.4 Kernel: 13.4-RELEASE-p1 Compiler: clang 18.1.6 FreeBSD 14.2 Kernel: 14.2-RELEASE Compiler: clang 18.1.6 Windows Server 2022 Kernel: 10.0.20348.2031 Compiler: clang 15.0.7, gcc 14.1.0 (MinGW), and MSVC VS 19.39.33521 To view detailed results, visit: https://lab.dpdk.org/results/dashboard/patchsets/32354/ UNH-IOL DPDK Community Lab To manage your email subscriptions, visit: https://lab.dpdk.org/results/dashboard/preferences/subscriptions/