From mboxrd@z Thu Jan 1 00:00:00 1970 Return-Path: Received: from mails.dpdk.org (mails.dpdk.org [217.70.189.124]) by inbox.dpdk.org (Postfix) with ESMTP id 09E05461A0 for ; Wed, 5 Feb 2025 18:26:22 +0100 (CET) Received: from mails.dpdk.org (localhost [127.0.0.1]) by mails.dpdk.org (Postfix) with ESMTP id 076E2402E6; Wed, 5 Feb 2025 18:26:22 +0100 (CET) Received: from mail-yw1-f227.google.com (mail-yw1-f227.google.com [209.85.128.227]) by mails.dpdk.org (Postfix) with ESMTP id CF233402E4 for ; Wed, 5 Feb 2025 18:26:20 +0100 (CET) Received: by mail-yw1-f227.google.com with SMTP id 00721157ae682-6ef60e500d7so360407b3.0 for ; Wed, 05 Feb 2025 09:26:20 -0800 (PST) DKIM-Signature: v=1; a=rsa-sha256; c=relaxed/relaxed; d=iol.unh.edu; s=unh-iol; t=1738776380; x=1739381180; darn=dpdk.org; h=references:in-reply-to:cc:to:from:subject:message-id:date:from:to :cc:subject:date:message-id:reply-to; bh=Wl/A+rgWXQi6tufI1VFQ90iLdofDKFckFiwb45ml1yQ=; b=fSP0+XmK8yWAwpRVKO/aUiMQ6klKLD+j+tO9wbmxMqZTa+Ojb3tBJ3nCdM9ZXVsSw8 GsXciU9DUDtYVX/RI8bUqR+XYuc6++Og38U+jsZKYprzneySh3WtcCnGXyP7Q49XzlLI bVpvjdzRDpIOXriNaWcd0Z95bjDxWJNknLR3A= X-Google-DKIM-Signature: v=1; a=rsa-sha256; c=relaxed/relaxed; d=1e100.net; s=20230601; t=1738776380; x=1739381180; h=references:in-reply-to:cc:to:from:subject:message-id:date :x-gm-message-state:from:to:cc:subject:date:message-id:reply-to; bh=Wl/A+rgWXQi6tufI1VFQ90iLdofDKFckFiwb45ml1yQ=; b=UMI+xj2k96vpDZrKPVAxXkcw1jFYcEKXTFR67PE+0bMXkdomHlrvrXiIbsvs2kYDBU wksdXvVdJ+0IJP+dVo2lK22Bb4fMrlZPFYSY3qjXJRZVxLb8VCSOIvo97pyr0dYgK272 IUkL5i5rBeXd3yGEzOtS7OsLTgT3KMoT2ctNDNfW9hPMjOZ3ED4U9jmJuURxnUJyVQzl 2Ub56jwDEWXCP9qG+Ht4wgu0OTziGnb3df5UfzpGjJ7xmgNsRPYMa0blFGBUZfJ1jSGp YZvBoOPUMGzE2jAN5CZ+zPS7v3bspeYFYsKMhAtvI5TbaOFzdDdEqJRKygyqOwmZr1Rk c0mA== X-Gm-Message-State: AOJu0Yw8PWHgeVd6gX+PzY9ToDKLnw4KQ8mnorSajuUDr9puHCcQegny 567tCVjOf4mn+sOOKkHP9i8Na596vnEhUsUhFGl3mHZChwtcCxRAKgbx4iTNFzKVxpBwzlTlf6O dgVIkhAPosyWbyIg3ngpHKj+3APzPc0Q/ULIpBHRgRji4hrzayX8fxWi7 X-Gm-Gg: ASbGncvR/6JtSeX75xQp0jJ8TcXR3WvItG2Sd+FBrrbKfMJem5hnlMKGmF7qJRInFIY NDifmnNwF7rS3iT0UroJU5QEKU2oBjObeNPabQAClEgrT3SRYiGhNO1sEOn5OJZLps9/n87R1G/ XQU19aCUBWwsxmyb0MvP4vmZwt1jBiJv1qfBuwJ8FalPi6OTF224EYyJcMW0fzqCXcXoLZmMHjZ 13mG48VtMNlen7zqF/kuUVLXsIsmYRZTG7a20u7198DEoW0crUkM3Q9pH3rISkv7TCTTv8AAwAA w/1QxRn7WwHy/S2fgjryTh4VQscD9ztsFwlHEk8jMg== X-Google-Smtp-Source: AGHT+IEr/E4SGIz/Cz8MN//rkVAZGJz2DiSo4KhWw8UD7azkwv36A/8EA+gGDTujNGnadeTGtiWal/kDUet8 X-Received: by 2002:a05:690c:3503:b0:6ef:8dd0:fff9 with SMTP id 00721157ae682-6f989e3ae5bmr31889347b3.8.1738776380267; Wed, 05 Feb 2025 09:26:20 -0800 (PST) Received: from postal.iol.unh.edu (postal.iol.unh.edu. [2606:4100:3880:1234::84]) by smtp-relay.gmail.com with ESMTPS id 3f1490d57ef6-e5b35a5894fsm146276.16.2025.02.05.09.26.20 (version=TLS1_2 cipher=ECDHE-ECDSA-AES128-GCM-SHA256 bits=128/128); Wed, 05 Feb 2025 09:26:20 -0800 (PST) X-Relaying-Domain: iol.unh.edu Date: Wed, 05 Feb 2025 09:26:20 -0800 (PST) Message-ID: <67a39f3c.250a0220.1a784.0023SMTPIN_ADDED_MISSING@mx.google.com> Received: from [172.21.0.5] (unknown [172.18.0.240]) by postal.iol.unh.edu (Postfix) with ESMTP id E846E6052471; Wed, 5 Feb 2025 12:26:19 -0500 (EST) Subject: |SUCCESS| pw150322 [PATCH] [v2] net/af_packet: provide packet drop s From: dpdklab@iol.unh.edu To: Test Report Cc: dpdk-test-reports@iol.unh.edu In-Reply-To: <20250121122616.301666-1-stefan.laesser@omicronenergy.com> References: <20250121122616.301666-1-stefan.laesser@omicronenergy.com> Content-Type: text/plain X-BeenThere: test-report@dpdk.org X-Mailman-Version: 2.1.29 Precedence: list List-Id: automatic DPDK test reports List-Unsubscribe: , List-Archive: List-Post: List-Help: List-Subscribe: , Errors-To: test-report-bounces@dpdk.org Test-Label: iol-compile-amd64-testing Test-Status: SUCCESS http://dpdk.org/patch/150322 _Testing PASS_ Submitter: Stefan Laesser Date: Tuesday, January 21 2025 12:26:16 DPDK git baseline: Repo:dpdk Branch: master CommitID:6876790f90cff60573eff012fd35944a1e499069 150322 --> testing pass Test environment and result as below: +---------------------+--------------------+------------------+-------------------+-------------------+-------------------------+----------------------+ | Environment | dpdk_meson_compile | dpdk_compile_ovs | dpdk_compile_spdk | dpdk_msvc_compile | dpdk_llvm_clang_compile | dpdk_mingw64_compile | +=====================+====================+==================+===================+===================+=========================+======================+ | CentOS Stream 9 | PASS | PASS | PASS | SKIPPED | SKIPPED | SKIPPED | +---------------------+--------------------+------------------+-------------------+-------------------+-------------------------+----------------------+ | Fedora 40 (Clang) | PASS | PASS | PASS | SKIPPED | SKIPPED | SKIPPED | +---------------------+--------------------+------------------+-------------------+-------------------+-------------------------+----------------------+ | Debian Bullseye | PASS | PASS | PASS | SKIPPED | SKIPPED | SKIPPED | +---------------------+--------------------+------------------+-------------------+-------------------+-------------------------+----------------------+ | Fedora 41 (Clang) | PASS | PASS | PASS | SKIPPED | SKIPPED | SKIPPED | +---------------------+--------------------+------------------+-------------------+-------------------+-------------------------+----------------------+ | Fedora 41 | PASS | PASS | PASS | SKIPPED | SKIPPED | SKIPPED | +---------------------+--------------------+------------------+-------------------+-------------------+-------------------------+----------------------+ | Fedora 40 | PASS | PASS | PASS | SKIPPED | SKIPPED | SKIPPED | +---------------------+--------------------+------------------+-------------------+-------------------+-------------------------+----------------------+ | Ubuntu 20.04 | PASS | SKIPPED | SKIPPED | SKIPPED | SKIPPED | SKIPPED | +---------------------+--------------------+------------------+-------------------+-------------------+-------------------------+----------------------+ | RHEL9 | PASS | PASS | SKIPPED | SKIPPED | SKIPPED | SKIPPED | +---------------------+--------------------+------------------+-------------------+-------------------+-------------------------+----------------------+ | openSUSE Leap 15 | PASS | SKIPPED | SKIPPED | SKIPPED | SKIPPED | SKIPPED | +---------------------+--------------------+------------------+-------------------+-------------------+-------------------------+----------------------+ | RHEL8 | PASS | PASS | SKIPPED | SKIPPED | SKIPPED | SKIPPED | +---------------------+--------------------+------------------+-------------------+-------------------+-------------------------+----------------------+ | Ubuntu 22.04 | PASS | PASS | PASS | SKIPPED | SKIPPED | SKIPPED | +---------------------+--------------------+------------------+-------------------+-------------------+-------------------------+----------------------+ | Ubuntu 24.04 | PASS | PASS | PASS | SKIPPED | SKIPPED | SKIPPED | +---------------------+--------------------+------------------+-------------------+-------------------+-------------------------+----------------------+ | Alpine | PASS | PASS | SKIPPED | SKIPPED | SKIPPED | SKIPPED | +---------------------+--------------------+------------------+-------------------+-------------------+-------------------------+----------------------+ | FreeBSD 13.4 | PASS | SKIPPED | SKIPPED | SKIPPED | SKIPPED | SKIPPED | +---------------------+--------------------+------------------+-------------------+-------------------+-------------------------+----------------------+ | FreeBSD 14.2 | PASS | SKIPPED | SKIPPED | SKIPPED | SKIPPED | SKIPPED | +---------------------+--------------------+------------------+-------------------+-------------------+-------------------------+----------------------+ | Windows Server 2022 | SKIPPED | SKIPPED | SKIPPED | PASS | PASS | PASS | +---------------------+--------------------+------------------+-------------------+-------------------+-------------------------+----------------------+ CentOS Stream 9 Kernel: Depends on container host Compiler: gcc 11.5.0 20240719 (Red Hat 11.5.0-2) Fedora 40 (Clang) Kernel: Depends on container host Compiler: clang 18.1.8 (Fedora 18.1.8-1.fc40) Debian Bullseye Kernel: Depends on container host Compiler: gcc (Debian 10.2.1-6) 10.2.1 20210110 Fedora 41 (Clang) Kernel: Depends on container host Compiler: clang 19.1.5 (Fedora 19.1.5-1.fc41) Fedora 41 Kernel: Depends on container host Compiler: gcc 14.2.1 20240912 (Red Hat 14.2.1-3) Fedora 40 Kernel: Depends on container host Compiler: gcc 14.2.1 20240912 (Red Hat 14.2.1-3) Ubuntu 20.04 Kernel: Depends on container host Compiler: gcc (Ubuntu 9.4.0-1ubuntu1~20.04.2) 9.4.0 RHEL9 Kernel: Depends on container host Compiler: gcc 11.5.0 20240719 (Red Hat 11.5.0-2) openSUSE Leap 15 Kernel: Depends on container host Compiler: gcc (SUSE Linux) 7.5.0 RHEL8 Kernel: Depends on container host Compiler: gcc 8.5.0 20210514 (Red Hat 8.5.0-22) Ubuntu 22.04 Kernel: Depends on container host Compiler: gcc (Ubuntu 11.4.0-1ubuntu1~22.04) 11.4.0 Ubuntu 24.04 Kernel: Depends on container host Compiler: gcc (Ubuntu 13.3.0-6ubuntu2~24.04) 13.3.0 Alpine Kernel: Depends on container host Compiler: gcc (Alpine 14.2.0) 14.2.0 FreeBSD 13.4 Kernel: 13.4-RELEASE-p1 Compiler: clang 18.1.6 FreeBSD 14.2 Kernel: 14.2-RELEASE Compiler: clang 18.1.6 Windows Server 2022 Kernel: 10.0.20348.2031 Compiler: clang 15.0.7, gcc 14.1.0 (MinGW), and MSVC VS 19.39.33521 To view detailed results, visit: https://lab.dpdk.org/results/dashboard/patchsets/32380/ UNH-IOL DPDK Community Lab To manage your email subscriptions, visit: https://lab.dpdk.org/results/dashboard/preferences/subscriptions/