From mboxrd@z Thu Jan 1 00:00:00 1970 Return-Path: Received: from mails.dpdk.org (mails.dpdk.org [217.70.189.124]) by inbox.dpdk.org (Postfix) with ESMTP id 19138461A0 for ; Wed, 5 Feb 2025 18:26:24 +0100 (CET) Received: from mails.dpdk.org (localhost [127.0.0.1]) by mails.dpdk.org (Postfix) with ESMTP id 15D9440647; Wed, 5 Feb 2025 18:26:24 +0100 (CET) Received: from mail-yb1-f228.google.com (mail-yb1-f228.google.com [209.85.219.228]) by mails.dpdk.org (Postfix) with ESMTP id E4CBF402E4 for ; Wed, 5 Feb 2025 18:26:22 +0100 (CET) Received: by mail-yb1-f228.google.com with SMTP id 3f1490d57ef6-e461015fbd4so6190984276.2 for ; Wed, 05 Feb 2025 09:26:22 -0800 (PST) DKIM-Signature: v=1; a=rsa-sha256; c=relaxed/relaxed; d=iol.unh.edu; s=unh-iol; t=1738776382; x=1739381182; darn=dpdk.org; h=references:in-reply-to:cc:to:from:subject:message-id:date:from:to :cc:subject:date:message-id:reply-to; bh=zz8Is99F4DYFrmds2sruh4J2O2m4HR31TP94upaNTEM=; b=iXwd5VSvLU6SA32GJKiQFUHvTHG6qN7DicuEIc3EnLeFtnoYKTXSUnQKPP2D55qk3s jyh22YhzS3OhdUakXmL3mbQb6Seiz0qjo4xrLttbubHvr5CQACA21hx42xBC8svlA5wA Gh01dfg2kndrk4Ai/snnjss/fruABiVQ9KbZ0= X-Google-DKIM-Signature: v=1; a=rsa-sha256; c=relaxed/relaxed; d=1e100.net; s=20230601; t=1738776382; x=1739381182; h=references:in-reply-to:cc:to:from:subject:message-id:date :x-gm-message-state:from:to:cc:subject:date:message-id:reply-to; bh=zz8Is99F4DYFrmds2sruh4J2O2m4HR31TP94upaNTEM=; b=tIcxDeX44tTJiPo+/zC5hglMr6Cn7R6P+SF8uWMTM6g2HfJkosgr7xT4xi72QbMsRj PvGMr8g9XjYvpWRBmyNiq+Tkue9mHOtslJWb9+278V9ple4EaY5c855AC4G5PHsguo11 yvkIqiKSJvO/tFZiyvF/d1PCUvSt2snNeq1XNfOuG2cuZy2WtPYtHmouGUB9Y2Zvuu+a OpIV12vCdMu8fB0Er313RQ4lT4lmX2aJ5wKFA6Qehw4U0QSWdUOc4OSYhLMuZKmSZKK2 ScKiESh+yI4JvAk9kksDHq6WWKkrempCwIVAC+dIpYKjDLDAHwbEXPhFaUvJrvFPmv0N pATw== X-Gm-Message-State: AOJu0YzafTNnnZAq3DfDDdavqc3DtlMvR9x8VGO3KmM/U7+yhD6B9FHe rzWVhutiaJE0dkMrohFBMfuTrKx2iT1+3tZ3RDwAiB1PgMCeMguapZVjiM3r57ZPbyTm+QAgG0d KuSYiBQrk9q8ZydKUH42n0yG4R81JbwfxFAX5zsSG7VvYNr1TB1BJWxG+ X-Gm-Gg: ASbGncusJOQoQqY3fThi5aGspi2wwjEBnBPcx/2lIg21b/qSvgz6vMsIJO3K3nbAJlF UkCb0c59e/w9Q7/GLhVJlSc3xtdPLfm7rwfklDQt/T9piNUWTAKfK0n/oOJ/giSwbV1mLKKFgKQ iF+XnEyn9qYGrZeaVwHLL/3FIcUMWVuWFugiYxQ/CblTMierKAMaVK1es1IXWYjCY/Q3quY7sEw Jk+eLWCGl6YoXKpiNNpvmQ8NaE0SlntmdK1DO+5EDAyUMhQZzbYph2vwinxQqTE8gAqxIm1kswv 9caCZjkk4R1ZlMKS13eWbc1TbUawNuEXP7UZESePBQ== X-Google-Smtp-Source: AGHT+IHfZ2YIwqtXRXT62WIa0KJM3Q24tJzXobHnIAbGVindL2BQ4GlP2sA5zz9b/sT7LjvigdMdD2GeugGj X-Received: by 2002:a05:6902:2089:b0:e5b:2245:9d6d with SMTP id 3f1490d57ef6-e5b25a0e154mr3079081276.13.1738776382356; Wed, 05 Feb 2025 09:26:22 -0800 (PST) Received: from postal.iol.unh.edu (postal.iol.unh.edu. [2606:4100:3880:1234::84]) by smtp-relay.gmail.com with ESMTPS id 3f1490d57ef6-e5b1116add8sm281537276.12.2025.02.05.09.26.22 (version=TLS1_2 cipher=ECDHE-ECDSA-AES128-GCM-SHA256 bits=128/128); Wed, 05 Feb 2025 09:26:22 -0800 (PST) X-Relaying-Domain: iol.unh.edu Date: Wed, 05 Feb 2025 09:26:22 -0800 (PST) Message-ID: <67a39f3e.250a0220.287747.e0dcSMTPIN_ADDED_MISSING@mx.google.com> Received: from [172.21.0.8] (unknown [172.18.0.240]) by postal.iol.unh.edu (Postfix) with ESMTP id 0B2566052471; Wed, 5 Feb 2025 12:26:22 -0500 (EST) Subject: |SUCCESS| pw150182-150196 [PATCH] [v3,15/15] net/ngbe: add some ops From: dpdklab@iol.unh.edu To: Test Report Cc: dpdk-test-reports@iol.unh.edu In-Reply-To: <20250117114455.15864-16-zaiyuwang@trustnetic.com> References: <20250117114455.15864-16-zaiyuwang@trustnetic.com> Content-Type: text/plain X-BeenThere: test-report@dpdk.org X-Mailman-Version: 2.1.29 Precedence: list List-Id: automatic DPDK test reports List-Unsubscribe: , List-Archive: List-Post: List-Help: List-Subscribe: , Errors-To: test-report-bounces@dpdk.org Test-Label: iol-compile-amd64-testing Test-Status: SUCCESS http://dpdk.org/patch/150196 _Testing PASS_ Submitter: Zaiyu Wang Date: Friday, January 17 2025 11:44:53 DPDK git baseline: Repo:dpdk Branch: master CommitID:34ea86164bf17a431ec5ef78d7e51e2e9b3fd75e 150182-150196 --> testing pass Test environment and result as below: +---------------------+--------------------+------------------+-------------------+-------------------+-------------------------+----------------------+ | Environment | dpdk_meson_compile | dpdk_compile_ovs | dpdk_compile_spdk | dpdk_msvc_compile | dpdk_llvm_clang_compile | dpdk_mingw64_compile | +=====================+====================+==================+===================+===================+=========================+======================+ | Debian Bullseye | PASS | PASS | PASS | SKIPPED | SKIPPED | SKIPPED | +---------------------+--------------------+------------------+-------------------+-------------------+-------------------------+----------------------+ | CentOS Stream 9 | PASS | PASS | PASS | SKIPPED | SKIPPED | SKIPPED | +---------------------+--------------------+------------------+-------------------+-------------------+-------------------------+----------------------+ | Debian 12 | PASS | PASS | PASS | SKIPPED | SKIPPED | SKIPPED | +---------------------+--------------------+------------------+-------------------+-------------------+-------------------------+----------------------+ | Fedora 40 (Clang) | PASS | PASS | PASS | SKIPPED | SKIPPED | SKIPPED | +---------------------+--------------------+------------------+-------------------+-------------------+-------------------------+----------------------+ | Fedora 40 | PASS | PASS | PASS | SKIPPED | SKIPPED | SKIPPED | +---------------------+--------------------+------------------+-------------------+-------------------+-------------------------+----------------------+ | Fedora 41 (Clang) | PASS | PASS | PASS | SKIPPED | SKIPPED | SKIPPED | +---------------------+--------------------+------------------+-------------------+-------------------+-------------------------+----------------------+ | Fedora 41 | PASS | PASS | PASS | SKIPPED | SKIPPED | SKIPPED | +---------------------+--------------------+------------------+-------------------+-------------------+-------------------------+----------------------+ | openSUSE Leap 15 | PASS | SKIPPED | SKIPPED | SKIPPED | SKIPPED | SKIPPED | +---------------------+--------------------+------------------+-------------------+-------------------+-------------------------+----------------------+ | RHEL8 | PASS | PASS | SKIPPED | SKIPPED | SKIPPED | SKIPPED | +---------------------+--------------------+------------------+-------------------+-------------------+-------------------------+----------------------+ | RHEL9 | PASS | PASS | SKIPPED | SKIPPED | SKIPPED | SKIPPED | +---------------------+--------------------+------------------+-------------------+-------------------+-------------------------+----------------------+ | Ubuntu 20.04 | PASS | SKIPPED | SKIPPED | SKIPPED | SKIPPED | SKIPPED | +---------------------+--------------------+------------------+-------------------+-------------------+-------------------------+----------------------+ | Ubuntu 22.04 | PASS | PASS | PASS | SKIPPED | SKIPPED | SKIPPED | +---------------------+--------------------+------------------+-------------------+-------------------+-------------------------+----------------------+ | Ubuntu 24.04 | PASS | PASS | PASS | SKIPPED | SKIPPED | SKIPPED | +---------------------+--------------------+------------------+-------------------+-------------------+-------------------------+----------------------+ | Alpine | PASS | PASS | SKIPPED | SKIPPED | SKIPPED | SKIPPED | +---------------------+--------------------+------------------+-------------------+-------------------+-------------------------+----------------------+ | FreeBSD 13.4 | PASS | SKIPPED | SKIPPED | SKIPPED | SKIPPED | SKIPPED | +---------------------+--------------------+------------------+-------------------+-------------------+-------------------------+----------------------+ | FreeBSD 14.2 | PASS | SKIPPED | SKIPPED | SKIPPED | SKIPPED | SKIPPED | +---------------------+--------------------+------------------+-------------------+-------------------+-------------------------+----------------------+ | Windows Server 2022 | SKIPPED | SKIPPED | SKIPPED | PASS | PASS | PASS | +---------------------+--------------------+------------------+-------------------+-------------------+-------------------------+----------------------+ Debian Bullseye Kernel: Depends on container host Compiler: gcc (Debian 10.2.1-6) 10.2.1 20210110 CentOS Stream 9 Kernel: Depends on container host Compiler: gcc 11.5.0 20240719 (Red Hat 11.5.0-2) Debian 12 Kernel: Depends on container host Compiler: gcc (Debian 12.2.0-14) 12.2.0 Fedora 40 (Clang) Kernel: Depends on container host Compiler: clang 18.1.8 (Fedora 18.1.8-1.fc40) Fedora 40 Kernel: Depends on container host Compiler: gcc 14.2.1 20240912 (Red Hat 14.2.1-3) Fedora 41 (Clang) Kernel: Depends on container host Compiler: clang 19.1.5 (Fedora 19.1.5-1.fc41) Fedora 41 Kernel: Depends on container host Compiler: gcc 14.2.1 20240912 (Red Hat 14.2.1-3) openSUSE Leap 15 Kernel: Depends on container host Compiler: gcc (SUSE Linux) 7.5.0 RHEL8 Kernel: Depends on container host Compiler: gcc 8.5.0 20210514 (Red Hat 8.5.0-22) RHEL9 Kernel: Depends on container host Compiler: gcc 11.5.0 20240719 (Red Hat 11.5.0-2) Ubuntu 20.04 Kernel: Depends on container host Compiler: gcc (Ubuntu 9.4.0-1ubuntu1~20.04.2) 9.4.0 Ubuntu 22.04 Kernel: Depends on container host Compiler: gcc (Ubuntu 11.4.0-1ubuntu1~22.04) 11.4.0 Ubuntu 24.04 Kernel: Depends on container host Compiler: gcc (Ubuntu 13.3.0-6ubuntu2~24.04) 13.3.0 Alpine Kernel: Depends on container host Compiler: gcc (Alpine 14.2.0) 14.2.0 FreeBSD 13.4 Kernel: 13.4-RELEASE-p1 Compiler: clang 18.1.6 FreeBSD 14.2 Kernel: 14.2-RELEASE Compiler: clang 18.1.6 Windows Server 2022 Kernel: 10.0.20348.2031 Compiler: clang 15.0.7, gcc 14.1.0 (MinGW), and MSVC VS 19.39.33521 To view detailed results, visit: https://lab.dpdk.org/results/dashboard/patchsets/32357/ UNH-IOL DPDK Community Lab To manage your email subscriptions, visit: https://lab.dpdk.org/results/dashboard/preferences/subscriptions/