From mboxrd@z Thu Jan 1 00:00:00 1970 Return-Path: Received: from mails.dpdk.org (mails.dpdk.org [217.70.189.124]) by inbox.dpdk.org (Postfix) with ESMTP id 30740461A0 for ; Wed, 5 Feb 2025 18:26:26 +0100 (CET) Received: from mails.dpdk.org (localhost [127.0.0.1]) by mails.dpdk.org (Postfix) with ESMTP id 25BF7402EE; Wed, 5 Feb 2025 18:26:26 +0100 (CET) Received: from mail-qk1-f225.google.com (mail-qk1-f225.google.com [209.85.222.225]) by mails.dpdk.org (Postfix) with ESMTP id F283B402E4 for ; Wed, 5 Feb 2025 18:26:23 +0100 (CET) Received: by mail-qk1-f225.google.com with SMTP id af79cd13be357-7b6f53c12adso595360485a.1 for ; Wed, 05 Feb 2025 09:26:23 -0800 (PST) DKIM-Signature: v=1; a=rsa-sha256; c=relaxed/relaxed; d=iol.unh.edu; s=unh-iol; t=1738776383; x=1739381183; darn=dpdk.org; h=references:in-reply-to:cc:to:from:subject:message-id:date:from:to :cc:subject:date:message-id:reply-to; bh=MZVl1NOjanOMBFKmL+IauNPuYN6mrCmN3zt1GzhAF4o=; b=fnWLKezhSf4qBkJ5rnqRAiP+B84EQA44+Xyz64IBzV5Gf23b2l/eSduZpQ5DhUo4dm xPp5EBb2a6FgG9c7c1GH942de7ul9P0vh3So0I+0GSgFdXhwWo8NykMPF3FGkG4ZPZWH FElNlCs47jeOjOjh+eLAATc/nbWp3FT0a4SDU= X-Google-DKIM-Signature: v=1; a=rsa-sha256; c=relaxed/relaxed; d=1e100.net; s=20230601; t=1738776383; x=1739381183; h=references:in-reply-to:cc:to:from:subject:message-id:date :x-gm-message-state:from:to:cc:subject:date:message-id:reply-to; bh=MZVl1NOjanOMBFKmL+IauNPuYN6mrCmN3zt1GzhAF4o=; b=o8pm2aimLMTPOkh6jtKhsKyOklHvDVx/6mft/4tB7FUwqbVwcWLsHSakHIo8Vyaw/i gN5fCNMiks6m9wdyQG3Xk4aJ+nbLk68PsrB8WxQboWgbYvZixJl/UhXUh0/32bX3LNy5 iOFL7EUa1iH0pHAEL3No+WDluPnL3ERnDJHF/YcfWPxPORefpLNhCl3KSpYUIp2UQ8a5 bz2uWdRTV2t8/NYpHGjYqwoNk8FRumcS0V1fkDbTAERwa2bJKRFHcQIBZ1I+uWoaJMUh X/8BEPMMIpR31MPYGQCg4HH/Lr5Syxo/QrYePxSSYX+/rMt7YspHZwmJ2QKUTn0Gwj4x +z4A== X-Gm-Message-State: AOJu0YxZcTji9SUEyoh6Q6fXDMZDnOqPcV6jpBQzpj8oDQcPfcIaScpn 3LQa1cwMe+qCeEaUVyWH9J71rPACIVVHV20/JljyFaZbRvKCy4oD3O4u5wCwmU8xHKgPSN9lIED E6HgMiOFQkKCD30xSLAeIok//bUdoO+Rz/jA3wOc4 X-Gm-Gg: ASbGncuyGaLFlOVydfufhTT2Amu1qsei8/QGsokIRxDLepn+oJrEYJSOuP4Hu4xAf1A Qt1JEXwKMQX1f3a/dLZh6RaTBZOU06p7X32OPBCd2k5FSXjmDQtK4g8ORJaf5Skhr9qtKGAsJ5e YrQsNtmSXH2bD898KKSl6AE0zlNFCj2Gm+Jr3E0ufBpdJ1Bn09OKnke32grtezYSC6sl1WLpUeL NjIIlF0h2MUny66KzHqu/8+VoQtOa2ynGujh1Fua+DW41/yQaKOMhb3SZLDXhHsaV684bbhKz6t QyiO0L+xQ3AYHyUJ25XjRS4MnrknuA== X-Google-Smtp-Source: AGHT+IGF+5KbQCF5eLlPGxbFR74i3w8aBGEP5PBXkcdPF6b9UOzO9jDNbtXLPiZVFH3PDF0T9SgRondMxq+X X-Received: by 2002:a05:620a:1a8b:b0:7b6:d350:9bfc with SMTP id af79cd13be357-7c039fcf611mr566439385a.27.1738776383387; Wed, 05 Feb 2025 09:26:23 -0800 (PST) Received: from postal.iol.unh.edu (postal.iol.unh.edu. [132.177.123.84]) by smtp-relay.gmail.com with ESMTPS id af79cd13be357-7c00a8fd8e3sm82253285a.4.2025.02.05.09.26.23 (version=TLS1_2 cipher=ECDHE-ECDSA-AES128-GCM-SHA256 bits=128/128); Wed, 05 Feb 2025 09:26:23 -0800 (PST) X-Relaying-Domain: iol.unh.edu Date: Wed, 05 Feb 2025 09:26:23 -0800 (PST) Message-ID: <67a39f3f.050a0220.118ea1.62aaSMTPIN_ADDED_MISSING@mx.google.com> Received: from [172.17.0.6] (unknown [172.18.0.217]) by postal.iol.unh.edu (Postfix) with ESMTP id EADEE6052471; Wed, 5 Feb 2025 12:26:22 -0500 (EST) Subject: |SUCCESS| pw150182-150196 [PATCH] [v3,15/15] net/ngbe: add some ops From: dpdklab@iol.unh.edu To: Test Report Cc: dpdk-test-reports@iol.unh.edu In-Reply-To: <20250117114455.15864-16-zaiyuwang@trustnetic.com> References: <20250117114455.15864-16-zaiyuwang@trustnetic.com> Content-Type: text/plain X-BeenThere: test-report@dpdk.org X-Mailman-Version: 2.1.29 Precedence: list List-Id: automatic DPDK test reports List-Unsubscribe: , List-Archive: List-Post: List-Help: List-Subscribe: , Errors-To: test-report-bounces@dpdk.org Test-Label: iol-compile-amd64-testing Test-Status: SUCCESS http://dpdk.org/patch/150196 _Testing PASS_ Submitter: Zaiyu Wang Date: Friday, January 17 2025 11:44:53 DPDK git baseline: Repo:dpdk Branch: master CommitID:34ea86164bf17a431ec5ef78d7e51e2e9b3fd75e 150182-150196 --> testing pass Test environment and result as below: +---------------------+--------------------+------------------+-------------------+-------------------+-------------------------+----------------------+ | Environment | dpdk_meson_compile | dpdk_compile_ovs | dpdk_compile_spdk | dpdk_msvc_compile | dpdk_llvm_clang_compile | dpdk_mingw64_compile | +=====================+====================+==================+===================+===================+=========================+======================+ | CentOS Stream 9 | PASS | PASS | PASS | SKIPPED | SKIPPED | SKIPPED | +---------------------+--------------------+------------------+-------------------+-------------------+-------------------------+----------------------+ | Fedora 40 (Clang) | PASS | PASS | PASS | SKIPPED | SKIPPED | SKIPPED | +---------------------+--------------------+------------------+-------------------+-------------------+-------------------------+----------------------+ | Fedora 40 | PASS | PASS | PASS | SKIPPED | SKIPPED | SKIPPED | +---------------------+--------------------+------------------+-------------------+-------------------+-------------------------+----------------------+ | Debian 12 | PASS | PASS | PASS | SKIPPED | SKIPPED | SKIPPED | +---------------------+--------------------+------------------+-------------------+-------------------+-------------------------+----------------------+ | Debian Bullseye | PASS | PASS | PASS | SKIPPED | SKIPPED | SKIPPED | +---------------------+--------------------+------------------+-------------------+-------------------+-------------------------+----------------------+ | Fedora 41 (Clang) | PASS | PASS | PASS | SKIPPED | SKIPPED | SKIPPED | +---------------------+--------------------+------------------+-------------------+-------------------+-------------------------+----------------------+ | openSUSE Leap 15 | PASS | SKIPPED | SKIPPED | SKIPPED | SKIPPED | SKIPPED | +---------------------+--------------------+------------------+-------------------+-------------------+-------------------------+----------------------+ | Fedora 41 | PASS | PASS | PASS | SKIPPED | SKIPPED | SKIPPED | +---------------------+--------------------+------------------+-------------------+-------------------+-------------------------+----------------------+ | RHEL8 | PASS | PASS | SKIPPED | SKIPPED | SKIPPED | SKIPPED | +---------------------+--------------------+------------------+-------------------+-------------------+-------------------------+----------------------+ | RHEL9 | PASS | PASS | SKIPPED | SKIPPED | SKIPPED | SKIPPED | +---------------------+--------------------+------------------+-------------------+-------------------+-------------------------+----------------------+ | Ubuntu 20.04 | PASS | SKIPPED | SKIPPED | SKIPPED | SKIPPED | SKIPPED | +---------------------+--------------------+------------------+-------------------+-------------------+-------------------------+----------------------+ | Ubuntu 22.04 | PASS | PASS | PASS | SKIPPED | SKIPPED | SKIPPED | +---------------------+--------------------+------------------+-------------------+-------------------+-------------------------+----------------------+ | Ubuntu 24.04 | PASS | PASS | PASS | SKIPPED | SKIPPED | SKIPPED | +---------------------+--------------------+------------------+-------------------+-------------------+-------------------------+----------------------+ | Alpine | PASS | PASS | SKIPPED | SKIPPED | SKIPPED | SKIPPED | +---------------------+--------------------+------------------+-------------------+-------------------+-------------------------+----------------------+ | FreeBSD 13.4 | PASS | SKIPPED | SKIPPED | SKIPPED | SKIPPED | SKIPPED | +---------------------+--------------------+------------------+-------------------+-------------------+-------------------------+----------------------+ | FreeBSD 14.2 | PASS | SKIPPED | SKIPPED | SKIPPED | SKIPPED | SKIPPED | +---------------------+--------------------+------------------+-------------------+-------------------+-------------------------+----------------------+ | Windows Server 2022 | SKIPPED | SKIPPED | SKIPPED | PASS | PASS | PASS | +---------------------+--------------------+------------------+-------------------+-------------------+-------------------------+----------------------+ CentOS Stream 9 Kernel: Depends on container host Compiler: gcc 11.5.0 20240719 (Red Hat 11.5.0-2) Fedora 40 (Clang) Kernel: Depends on container host Compiler: clang 18.1.8 (Fedora 18.1.8-1.fc40) Fedora 40 Kernel: Depends on container host Compiler: gcc 14.2.1 20240912 (Red Hat 14.2.1-3) Debian 12 Kernel: Depends on container host Compiler: gcc (Debian 12.2.0-14) 12.2.0 Debian Bullseye Kernel: Depends on container host Compiler: gcc (Debian 10.2.1-6) 10.2.1 20210110 Fedora 41 (Clang) Kernel: Depends on container host Compiler: clang 19.1.5 (Fedora 19.1.5-1.fc41) openSUSE Leap 15 Kernel: Depends on container host Compiler: gcc (SUSE Linux) 7.5.0 Fedora 41 Kernel: Depends on container host Compiler: gcc 14.2.1 20240912 (Red Hat 14.2.1-3) RHEL8 Kernel: Depends on container host Compiler: gcc 8.5.0 20210514 (Red Hat 8.5.0-22) RHEL9 Kernel: Depends on container host Compiler: gcc 11.5.0 20240719 (Red Hat 11.5.0-2) Ubuntu 20.04 Kernel: Depends on container host Compiler: gcc (Ubuntu 9.4.0-1ubuntu1~20.04.2) 9.4.0 Ubuntu 22.04 Kernel: Depends on container host Compiler: gcc (Ubuntu 11.4.0-1ubuntu1~22.04) 11.4.0 Ubuntu 24.04 Kernel: Depends on container host Compiler: gcc (Ubuntu 13.3.0-6ubuntu2~24.04) 13.3.0 Alpine Kernel: Depends on container host Compiler: gcc (Alpine 14.2.0) 14.2.0 FreeBSD 13.4 Kernel: 13.4-RELEASE-p1 Compiler: clang 18.1.6 FreeBSD 14.2 Kernel: 14.2-RELEASE Compiler: clang 18.1.6 Windows Server 2022 Kernel: 10.0.20348.2031 Compiler: clang 15.0.7, gcc 14.1.0 (MinGW), and MSVC VS 19.39.33521 To view detailed results, visit: https://lab.dpdk.org/results/dashboard/patchsets/32357/ UNH-IOL DPDK Community Lab To manage your email subscriptions, visit: https://lab.dpdk.org/results/dashboard/preferences/subscriptions/