From mboxrd@z Thu Jan 1 00:00:00 1970 Return-Path: Received: from mails.dpdk.org (mails.dpdk.org [217.70.189.124]) by inbox.dpdk.org (Postfix) with ESMTP id 36310461A1 for ; Wed, 5 Feb 2025 18:26:26 +0100 (CET) Received: from mails.dpdk.org (localhost [127.0.0.1]) by mails.dpdk.org (Postfix) with ESMTP id 3125540652; Wed, 5 Feb 2025 18:26:26 +0100 (CET) Received: from mail-qk1-f226.google.com (mail-qk1-f226.google.com [209.85.222.226]) by mails.dpdk.org (Postfix) with ESMTP id 0A6A4402E6 for ; Wed, 5 Feb 2025 18:26:24 +0100 (CET) Received: by mail-qk1-f226.google.com with SMTP id af79cd13be357-7b6f7d7e128so111150685a.1 for ; Wed, 05 Feb 2025 09:26:23 -0800 (PST) DKIM-Signature: v=1; a=rsa-sha256; c=relaxed/relaxed; d=iol.unh.edu; s=unh-iol; t=1738776383; x=1739381183; darn=dpdk.org; h=references:in-reply-to:cc:to:from:subject:message-id:date:from:to :cc:subject:date:message-id:reply-to; bh=R7Urrk66I0MGeqCIBH8PfmxQAoVh8hjiCQDAY0uEUQI=; b=NUEnd6gU9ds3wYJlqOi2g6blTzxNu6ZcIqRTHaELJBoIkYDtQhnEBvTzj5zmukHunk NHG/lE/qTZ/w/o0lVqOuJ6Dnf5X+snudJaU42F7+xKt2TV3Rk6whoa93mhwPvMUm1Kqn DDxHH9ydjBlkFVBBI9d39eEoprmQfgpv72YlQ= X-Google-DKIM-Signature: v=1; a=rsa-sha256; c=relaxed/relaxed; d=1e100.net; s=20230601; t=1738776383; x=1739381183; h=references:in-reply-to:cc:to:from:subject:message-id:date :x-gm-message-state:from:to:cc:subject:date:message-id:reply-to; bh=R7Urrk66I0MGeqCIBH8PfmxQAoVh8hjiCQDAY0uEUQI=; b=pqHFR4EQ2PvC3qYIDKaai+hb5m1Fbp7EwRBDNqLvp8kdtPgXPYjZMVgho/8lBmtTJq 5WWick3k007but5FPFzSo5DW/3RaU8GycwCi7P6IhdCmTklDQXyxGEB/dpq6z7CwXvt4 11nSITzqyBP7aXFFEodGNrgpPbYBN1ritcwkSIL7Px/XNeuPCSoOWmUQE2gERgIOoGSz 49Ie3GfK6Hc0mISYiIq3dyvX3OF4FN1E1Bz59+a+yRd2gdNZ+jfdgoKzrzzAbE/UgLJq bjEvYgAZQvXuRdwcmauNprkRi+MPrMEE0A3M5zZWpjkhLfNleTyDafTQKlriiRwH28Eb u7zQ== X-Gm-Message-State: AOJu0YyTwGBs8u8UQK5iAd6CdicckdntWz+tLyCH3PxHNMzXVQZFmaOC VbI5ItWqaBK3kfeV4VQzuhOgSevFE+el4YOC9fC5FU6e9OeOs4TAIQwVERGSvxhOY45DghCYTVr EI7hpp6MXqU+X7dh63V9dA6Nrz+EG1bj3L3hzZ4v3 X-Gm-Gg: ASbGnct/lXatLaSjOqbtQSZWXyU2I66NO7vOve3Othfce8okcqKSVi7sPlDvBoTXCfw bWEC62HAy0TKczf0LuIG8v7Zj7XeqpfgRMnq+PrbSkyGe+phesg5taR7Ev4T18+VA1fDY+doCBI wzX+Dlb0N7+7F9ZpDYyGZH8QcXoS2mAMjZWYTAOqNA6ppPJYr/m4jRnY2Fpp/6LcInOCl9NCacJ WzeVYco+u39R8/tFev/9SkNk4PCREocnAPRwqg6adroq7lgS64CI0ZKRaIOyXVQLJzRY/B1E7fG QG+WlM896LWqYT0JEqTRt6LtVVYUxQ== X-Google-Smtp-Source: AGHT+IEABXlGwuazJ6gyTz6o9myzmE5NDeogBYQX5DR/pwKHQ8uX9jEJB0CL4c3vnDUdPOCqADryhx6Zssce X-Received: by 2002:a05:620a:240e:b0:7be:73f6:9e86 with SMTP id af79cd13be357-7c04028d7e9mr16191885a.20.1738776383385; Wed, 05 Feb 2025 09:26:23 -0800 (PST) Received: from postal.iol.unh.edu (postal.iol.unh.edu. [132.177.123.84]) by smtp-relay.gmail.com with ESMTPS id af79cd13be357-7c00a905c24sm83208385a.6.2025.02.05.09.26.23 (version=TLS1_2 cipher=ECDHE-ECDSA-AES128-GCM-SHA256 bits=128/128); Wed, 05 Feb 2025 09:26:23 -0800 (PST) X-Relaying-Domain: iol.unh.edu Date: Wed, 05 Feb 2025 09:26:23 -0800 (PST) Message-ID: <67a39f3f.050a0220.167d44.58e6SMTPIN_ADDED_MISSING@mx.google.com> Received: from [172.17.0.4] (unknown [172.18.0.214]) by postal.iol.unh.edu (Postfix) with ESMTP id 0EE1E6052472; Wed, 5 Feb 2025 12:26:23 -0500 (EST) Subject: |SUCCESS| pw150203 [PATCH] drivers/net: fix indication of allocation From: dpdklab@iol.unh.edu To: Test Report Cc: dpdk-test-reports@iol.unh.edu In-Reply-To: <1737147093-11172-1-git-send-email-andremue@linux.microsoft.com> References: <1737147093-11172-1-git-send-email-andremue@linux.microsoft.com> Content-Type: text/plain X-BeenThere: test-report@dpdk.org X-Mailman-Version: 2.1.29 Precedence: list List-Id: automatic DPDK test reports List-Unsubscribe: , List-Archive: List-Post: List-Help: List-Subscribe: , Errors-To: test-report-bounces@dpdk.org Test-Label: iol-compile-amd64-testing Test-Status: SUCCESS http://dpdk.org/patch/150203 _Testing PASS_ Submitter: Andre Muezerie Date: Friday, January 17 2025 20:51:33 DPDK git baseline: Repo:dpdk Branch: master CommitID:06e2856620a70000b2a28f0ea715fc247b85fd8d 150203 --> testing pass Test environment and result as below: +---------------------+--------------------+------------------+-------------------+-------------------+-------------------------+----------------------+ | Environment | dpdk_meson_compile | dpdk_compile_ovs | dpdk_compile_spdk | dpdk_msvc_compile | dpdk_llvm_clang_compile | dpdk_mingw64_compile | +=====================+====================+==================+===================+===================+=========================+======================+ | CentOS Stream 9 | PASS | PASS | PASS | SKIPPED | SKIPPED | SKIPPED | +---------------------+--------------------+------------------+-------------------+-------------------+-------------------------+----------------------+ | Debian Bullseye | PASS | PASS | PASS | SKIPPED | SKIPPED | SKIPPED | +---------------------+--------------------+------------------+-------------------+-------------------+-------------------------+----------------------+ | Debian 12 | PASS | PASS | PASS | SKIPPED | SKIPPED | SKIPPED | +---------------------+--------------------+------------------+-------------------+-------------------+-------------------------+----------------------+ | Fedora 40 (Clang) | PASS | PASS | PASS | SKIPPED | SKIPPED | SKIPPED | +---------------------+--------------------+------------------+-------------------+-------------------+-------------------------+----------------------+ | Fedora 40 | PASS | PASS | PASS | SKIPPED | SKIPPED | SKIPPED | +---------------------+--------------------+------------------+-------------------+-------------------+-------------------------+----------------------+ | RHEL8 | PASS | PASS | SKIPPED | SKIPPED | SKIPPED | SKIPPED | +---------------------+--------------------+------------------+-------------------+-------------------+-------------------------+----------------------+ | Fedora 41 (Clang) | PASS | PASS | PASS | SKIPPED | SKIPPED | SKIPPED | +---------------------+--------------------+------------------+-------------------+-------------------+-------------------------+----------------------+ | Fedora 41 | PASS | PASS | PASS | SKIPPED | SKIPPED | SKIPPED | +---------------------+--------------------+------------------+-------------------+-------------------+-------------------------+----------------------+ | Ubuntu 20.04 | PASS | SKIPPED | SKIPPED | SKIPPED | SKIPPED | SKIPPED | +---------------------+--------------------+------------------+-------------------+-------------------+-------------------------+----------------------+ | RHEL9 | PASS | PASS | SKIPPED | SKIPPED | SKIPPED | SKIPPED | +---------------------+--------------------+------------------+-------------------+-------------------+-------------------------+----------------------+ | Ubuntu 22.04 | PASS | PASS | PASS | SKIPPED | SKIPPED | SKIPPED | +---------------------+--------------------+------------------+-------------------+-------------------+-------------------------+----------------------+ | Ubuntu 24.04 | PASS | PASS | PASS | SKIPPED | SKIPPED | SKIPPED | +---------------------+--------------------+------------------+-------------------+-------------------+-------------------------+----------------------+ | Alpine | PASS | PASS | SKIPPED | SKIPPED | SKIPPED | SKIPPED | +---------------------+--------------------+------------------+-------------------+-------------------+-------------------------+----------------------+ | FreeBSD 13.4 | PASS | SKIPPED | SKIPPED | SKIPPED | SKIPPED | SKIPPED | +---------------------+--------------------+------------------+-------------------+-------------------+-------------------------+----------------------+ | FreeBSD 14.2 | PASS | SKIPPED | SKIPPED | SKIPPED | SKIPPED | SKIPPED | +---------------------+--------------------+------------------+-------------------+-------------------+-------------------------+----------------------+ | openSUSE Leap 15 | PASS | SKIPPED | SKIPPED | SKIPPED | SKIPPED | SKIPPED | +---------------------+--------------------+------------------+-------------------+-------------------+-------------------------+----------------------+ | Windows Server 2022 | SKIPPED | SKIPPED | SKIPPED | PASS | PASS | PASS | +---------------------+--------------------+------------------+-------------------+-------------------+-------------------------+----------------------+ CentOS Stream 9 Kernel: Depends on container host Compiler: gcc 11.5.0 20240719 (Red Hat 11.5.0-2) Debian Bullseye Kernel: Depends on container host Compiler: gcc (Debian 10.2.1-6) 10.2.1 20210110 Debian 12 Kernel: Depends on container host Compiler: gcc (Debian 12.2.0-14) 12.2.0 Fedora 40 (Clang) Kernel: Depends on container host Compiler: clang 18.1.8 (Fedora 18.1.8-1.fc40) Fedora 40 Kernel: Depends on container host Compiler: gcc 14.2.1 20240912 (Red Hat 14.2.1-3) RHEL8 Kernel: Depends on container host Compiler: gcc 8.5.0 20210514 (Red Hat 8.5.0-22) Fedora 41 (Clang) Kernel: Depends on container host Compiler: clang 19.1.5 (Fedora 19.1.5-1.fc41) Fedora 41 Kernel: Depends on container host Compiler: gcc 14.2.1 20240912 (Red Hat 14.2.1-3) Ubuntu 20.04 Kernel: Depends on container host Compiler: gcc (Ubuntu 9.4.0-1ubuntu1~20.04.2) 9.4.0 RHEL9 Kernel: Depends on container host Compiler: gcc 11.5.0 20240719 (Red Hat 11.5.0-2) Ubuntu 22.04 Kernel: Depends on container host Compiler: gcc (Ubuntu 11.4.0-1ubuntu1~22.04) 11.4.0 Ubuntu 24.04 Kernel: Depends on container host Compiler: gcc (Ubuntu 13.3.0-6ubuntu2~24.04) 13.3.0 Alpine Kernel: Depends on container host Compiler: gcc (Alpine 14.2.0) 14.2.0 FreeBSD 13.4 Kernel: 13.4-RELEASE-p1 Compiler: clang 18.1.6 FreeBSD 14.2 Kernel: 14.2-RELEASE Compiler: clang 18.1.6 openSUSE Leap 15 Kernel: Depends on container host Compiler: gcc (SUSE Linux) 7.5.0 Windows Server 2022 Kernel: 10.0.20348.2031 Compiler: clang 15.0.7, gcc 14.1.0 (MinGW), and MSVC VS 19.39.33521 To view detailed results, visit: https://lab.dpdk.org/results/dashboard/patchsets/32363/ UNH-IOL DPDK Community Lab To manage your email subscriptions, visit: https://lab.dpdk.org/results/dashboard/preferences/subscriptions/