From mboxrd@z Thu Jan 1 00:00:00 1970 Return-Path: Received: from mails.dpdk.org (mails.dpdk.org [217.70.189.124]) by inbox.dpdk.org (Postfix) with ESMTP id 507B2461A0 for ; Wed, 5 Feb 2025 18:26:32 +0100 (CET) Received: from mails.dpdk.org (localhost [127.0.0.1]) by mails.dpdk.org (Postfix) with ESMTP id 4DBBF402E6; Wed, 5 Feb 2025 18:26:32 +0100 (CET) Received: from mail-qv1-f99.google.com (mail-qv1-f99.google.com [209.85.219.99]) by mails.dpdk.org (Postfix) with ESMTP id A4B35402E4 for ; Wed, 5 Feb 2025 18:26:31 +0100 (CET) Received: by mail-qv1-f99.google.com with SMTP id 6a1803df08f44-6d89a727a19so11041896d6.0 for ; Wed, 05 Feb 2025 09:26:31 -0800 (PST) DKIM-Signature: v=1; a=rsa-sha256; c=relaxed/relaxed; d=iol.unh.edu; s=unh-iol; t=1738776391; x=1739381191; darn=dpdk.org; h=references:in-reply-to:cc:to:from:subject:message-id:date:from:to :cc:subject:date:message-id:reply-to; bh=v6GXAmVv7wKZrFcybMQw/ci16PW5bGixn+u0tLqTfSc=; b=W40Zv6Wr+0oNfFDfxYFGY7gMFNpyJtWMNpyvJmRyTj9Tzm9iv7I2mvbr7roJEwlcRh BRAT5m08j3A46ivMCtU1uCdpwaMZkZm16RspYoprK/KhIY+uInMaOvneoSFIN0vvEnna i62+dZfeTY3X3CLaq2l0Yr3dGnfsmM/St8EpE= X-Google-DKIM-Signature: v=1; a=rsa-sha256; c=relaxed/relaxed; d=1e100.net; s=20230601; t=1738776391; x=1739381191; h=references:in-reply-to:cc:to:from:subject:message-id:date :x-gm-message-state:from:to:cc:subject:date:message-id:reply-to; bh=v6GXAmVv7wKZrFcybMQw/ci16PW5bGixn+u0tLqTfSc=; b=erRAR5VMF9XHvCmTixCwLKjzyRTzaqHg7dtRibTeP0xGqW1Dg8LzSh1Hi76q60LkRi rltD0Pq3vsBsm0wh93ZQrQhYDAybmQ8ELF7CL04rQLYdMLo9xGlzdEEitz4sdXmhsokE STY3sZqJDOSR92m1E8juL/0CHsgXfTT9wYutsRsBG5h6tpG+HDyN2keAwOSrL7bnV/Y1 6QIrkZBV7/9qXtFYBtIq2bkdP3GJoMRdiACMTxOQOykkMuJJ1zIyP4QjXlovdump790e n9C/YdOsXyRUwwkA/ezTlR3fDMNbhukydVehAs545FxPTLns9t75/FP24HLEhgq0CFyP O0WA== X-Gm-Message-State: AOJu0Yw86EY98mJ4ddKf5tAsqafWGw6f0URFqytguZ3f2utvVDL5QUXA kMgKNSiPRPq3mxHmLfUjyJHFnvpsvaixeYAeh7ItLozsJrMblr3xeKANjNfXpNmRJ4GjDZV3gu9 iDrl37HKwvsLDwx6Dza0tmdBI/l1wAqLuma6EI+by X-Gm-Gg: ASbGncsdkxlcWBkn5ZVP5JRP4s00i7hd8i5k3Tq7VLXQl+wEj6bLcdkRVG7DX8dzlo6 fgEnN/nxRjwL57Nlm4OH/nx/eAL0mMfgh0/5rYETbGnREgwDGb59YR/7deSnnoh/eZVYAwRAKHl OK4W9mJwDErD1xJ/oYm037a46BHhLgmA5rdYi7yfJq14crvhoL8NKg+7ACTFy6P3ouPLZpp5CMq 9DKig8QqOOwb+UJUhKqmciJ3D0YReT4l4qWhYGo3hA3CuQZ32TBcsHNuqpMLjkK+gxSusmkd/zi Q2b7CDKGmmtdtCBou7ugwgyv36Qk5A== X-Google-Smtp-Source: AGHT+IH7om7Iq9A1Te9I4lU/0YnIARaVGTbkb2/U+LXzUNlVjzUFiXJSuMnBzDmAQVcBeP9TH+6AcPiWXWBs X-Received: by 2002:a05:6214:240e:b0:6df:ba9b:35ba with SMTP id 6a1803df08f44-6e439ace15fmr1909026d6.12.1738776391105; Wed, 05 Feb 2025 09:26:31 -0800 (PST) Received: from postal.iol.unh.edu (postal.iol.unh.edu. [132.177.123.84]) by smtp-relay.gmail.com with ESMTPS id 6a1803df08f44-6e435a1f572sm817856d6.22.2025.02.05.09.26.31 (version=TLS1_2 cipher=ECDHE-ECDSA-AES128-GCM-SHA256 bits=128/128); Wed, 05 Feb 2025 09:26:31 -0800 (PST) X-Relaying-Domain: iol.unh.edu Date: Wed, 05 Feb 2025 09:26:31 -0800 (PST) Message-ID: <67a39f47.050a0220.f2a3a.3b0dSMTPIN_ADDED_MISSING@mx.google.com> Received: from [172.21.0.7] (unknown [172.18.0.240]) by postal.iol.unh.edu (Postfix) with ESMTP id D83126052471; Wed, 5 Feb 2025 12:26:30 -0500 (EST) Subject: |SUCCESS| pw150202 [PATCH] net/ice: fix memory leak in scalar Rx From: dpdklab@iol.unh.edu To: Test Report Cc: dpdk-test-reports@iol.unh.edu In-Reply-To: <20250117175205.1598739-1-vladimir.medvedkin@intel.com> References: <20250117175205.1598739-1-vladimir.medvedkin@intel.com> Content-Type: text/plain X-BeenThere: test-report@dpdk.org X-Mailman-Version: 2.1.29 Precedence: list List-Id: automatic DPDK test reports List-Unsubscribe: , List-Archive: List-Post: List-Help: List-Subscribe: , Errors-To: test-report-bounces@dpdk.org Test-Label: iol-compile-amd64-testing Test-Status: SUCCESS http://dpdk.org/patch/150202 _Testing PASS_ Submitter: Medvedkin, Vladimir Date: Friday, January 17 2025 17:52:05 DPDK git baseline: Repo:dpdk Branch: master CommitID:06e2856620a70000b2a28f0ea715fc247b85fd8d 150202 --> testing pass Test environment and result as below: +---------------------+--------------------+------------------+-------------------+-------------------+-------------------------+----------------------+ | Environment | dpdk_meson_compile | dpdk_compile_ovs | dpdk_compile_spdk | dpdk_msvc_compile | dpdk_llvm_clang_compile | dpdk_mingw64_compile | +=====================+====================+==================+===================+===================+=========================+======================+ | CentOS Stream 9 | PASS | PASS | PASS | SKIPPED | SKIPPED | SKIPPED | +---------------------+--------------------+------------------+-------------------+-------------------+-------------------------+----------------------+ | Debian 12 | PASS | PASS | PASS | SKIPPED | SKIPPED | SKIPPED | +---------------------+--------------------+------------------+-------------------+-------------------+-------------------------+----------------------+ | Debian Bullseye | PASS | PASS | PASS | SKIPPED | SKIPPED | SKIPPED | +---------------------+--------------------+------------------+-------------------+-------------------+-------------------------+----------------------+ | Fedora 40 (Clang) | PASS | PASS | PASS | SKIPPED | SKIPPED | SKIPPED | +---------------------+--------------------+------------------+-------------------+-------------------+-------------------------+----------------------+ | Fedora 40 | PASS | PASS | PASS | SKIPPED | SKIPPED | SKIPPED | +---------------------+--------------------+------------------+-------------------+-------------------+-------------------------+----------------------+ | Fedora 41 (Clang) | PASS | PASS | PASS | SKIPPED | SKIPPED | SKIPPED | +---------------------+--------------------+------------------+-------------------+-------------------+-------------------------+----------------------+ | Fedora 41 | PASS | PASS | PASS | SKIPPED | SKIPPED | SKIPPED | +---------------------+--------------------+------------------+-------------------+-------------------+-------------------------+----------------------+ | openSUSE Leap 15 | PASS | SKIPPED | SKIPPED | SKIPPED | SKIPPED | SKIPPED | +---------------------+--------------------+------------------+-------------------+-------------------+-------------------------+----------------------+ | RHEL8 | PASS | PASS | SKIPPED | SKIPPED | SKIPPED | SKIPPED | +---------------------+--------------------+------------------+-------------------+-------------------+-------------------------+----------------------+ | Ubuntu 20.04 | PASS | SKIPPED | SKIPPED | SKIPPED | SKIPPED | SKIPPED | +---------------------+--------------------+------------------+-------------------+-------------------+-------------------------+----------------------+ | Ubuntu 22.04 | PASS | PASS | PASS | SKIPPED | SKIPPED | SKIPPED | +---------------------+--------------------+------------------+-------------------+-------------------+-------------------------+----------------------+ | Ubuntu 24.04 | PASS | PASS | PASS | SKIPPED | SKIPPED | SKIPPED | +---------------------+--------------------+------------------+-------------------+-------------------+-------------------------+----------------------+ | Alpine | PASS | PASS | SKIPPED | SKIPPED | SKIPPED | SKIPPED | +---------------------+--------------------+------------------+-------------------+-------------------+-------------------------+----------------------+ | FreeBSD 13.4 | PASS | SKIPPED | SKIPPED | SKIPPED | SKIPPED | SKIPPED | +---------------------+--------------------+------------------+-------------------+-------------------+-------------------------+----------------------+ | RHEL9 | PASS | PASS | SKIPPED | SKIPPED | SKIPPED | SKIPPED | +---------------------+--------------------+------------------+-------------------+-------------------+-------------------------+----------------------+ | FreeBSD 14.2 | PASS | SKIPPED | SKIPPED | SKIPPED | SKIPPED | SKIPPED | +---------------------+--------------------+------------------+-------------------+-------------------+-------------------------+----------------------+ | Windows Server 2022 | SKIPPED | SKIPPED | SKIPPED | PASS | PASS | PASS | +---------------------+--------------------+------------------+-------------------+-------------------+-------------------------+----------------------+ CentOS Stream 9 Kernel: Depends on container host Compiler: gcc 11.5.0 20240719 (Red Hat 11.5.0-2) Debian 12 Kernel: Depends on container host Compiler: gcc (Debian 12.2.0-14) 12.2.0 Debian Bullseye Kernel: Depends on container host Compiler: gcc (Debian 10.2.1-6) 10.2.1 20210110 Fedora 40 (Clang) Kernel: Depends on container host Compiler: clang 18.1.8 (Fedora 18.1.8-1.fc40) Fedora 40 Kernel: Depends on container host Compiler: gcc 14.2.1 20240912 (Red Hat 14.2.1-3) Fedora 41 (Clang) Kernel: Depends on container host Compiler: clang 19.1.5 (Fedora 19.1.5-1.fc41) Fedora 41 Kernel: Depends on container host Compiler: gcc 14.2.1 20240912 (Red Hat 14.2.1-3) openSUSE Leap 15 Kernel: Depends on container host Compiler: gcc (SUSE Linux) 7.5.0 RHEL8 Kernel: Depends on container host Compiler: gcc 8.5.0 20210514 (Red Hat 8.5.0-22) Ubuntu 20.04 Kernel: Depends on container host Compiler: gcc (Ubuntu 9.4.0-1ubuntu1~20.04.2) 9.4.0 Ubuntu 22.04 Kernel: Depends on container host Compiler: gcc (Ubuntu 11.4.0-1ubuntu1~22.04) 11.4.0 Ubuntu 24.04 Kernel: Depends on container host Compiler: gcc (Ubuntu 13.3.0-6ubuntu2~24.04) 13.3.0 Alpine Kernel: Depends on container host Compiler: gcc (Alpine 14.2.0) 14.2.0 FreeBSD 13.4 Kernel: 13.4-RELEASE-p1 Compiler: clang 18.1.6 RHEL9 Kernel: Depends on container host Compiler: gcc 11.5.0 20240719 (Red Hat 11.5.0-2) FreeBSD 14.2 Kernel: 14.2-RELEASE Compiler: clang 18.1.6 Windows Server 2022 Kernel: 10.0.20348.2031 Compiler: clang 15.0.7, gcc 14.1.0 (MinGW), and MSVC VS 19.39.33521 To view detailed results, visit: https://lab.dpdk.org/results/dashboard/patchsets/32362/ UNH-IOL DPDK Community Lab To manage your email subscriptions, visit: https://lab.dpdk.org/results/dashboard/preferences/subscriptions/