From mboxrd@z Thu Jan 1 00:00:00 1970 Return-Path: Received: from mails.dpdk.org (mails.dpdk.org [217.70.189.124]) by inbox.dpdk.org (Postfix) with ESMTP id 689B0461A0 for ; Wed, 5 Feb 2025 18:26:37 +0100 (CET) Received: from mails.dpdk.org (localhost [127.0.0.1]) by mails.dpdk.org (Postfix) with ESMTP id 660BE40647; Wed, 5 Feb 2025 18:26:37 +0100 (CET) Received: from mail-ot1-f97.google.com (mail-ot1-f97.google.com [209.85.210.97]) by mails.dpdk.org (Postfix) with ESMTP id 0A8B4402E6 for ; Wed, 5 Feb 2025 18:26:36 +0100 (CET) Received: by mail-ot1-f97.google.com with SMTP id 46e09a7af769-71df1f45b0cso560815a34.1 for ; Wed, 05 Feb 2025 09:26:35 -0800 (PST) DKIM-Signature: v=1; a=rsa-sha256; c=relaxed/relaxed; d=iol.unh.edu; s=unh-iol; t=1738776395; x=1739381195; darn=dpdk.org; h=references:in-reply-to:cc:to:from:subject:message-id:date:from:to :cc:subject:date:message-id:reply-to; bh=+z9j2McKQk9lB67f/8EZz57am43V+bMrQs8ya4v2Z/s=; b=PMKJAsv4kEpBoIr+sVvR53L6UWvXZt+gaUymE2cFsUTxa/leBHYt4i19j6GsM+JcbN AepbxK2GioDUGQtt0INnSD+ZOJUZ/t0lq5IZDsaQ7WU2sYZUzXCT1Ll462gjfhUm3jWJ j8OPZy9Z1nR2ac+Ps+8dQY2fYwKj8OiMXrdLQ= X-Google-DKIM-Signature: v=1; a=rsa-sha256; c=relaxed/relaxed; d=1e100.net; s=20230601; t=1738776395; x=1739381195; h=references:in-reply-to:cc:to:from:subject:message-id:date :x-gm-message-state:from:to:cc:subject:date:message-id:reply-to; bh=+z9j2McKQk9lB67f/8EZz57am43V+bMrQs8ya4v2Z/s=; b=r26/r2VvWyZj0fyfo6q1NFwvUwzvDyywaxgxSrnQvDP01AuYtwLyLxoqvmd0/5cEms 3fX37judYhHA45y9lhSjI56waVdn987vVblwjLT2rvUGvi1UoeOwUjxPpmWYU3HjDqGh DNhsxHxrfp1L7SCMo33N3JeyUSrB165Slo5/oGqu1fslowjV/+guzffks6HvuF083Ytu kr0YmhJmVxlmkS0KmpKKLdUTb+O3IQtVipxQqgT3MZzNEWX2jZvp1xi85bvNsFmZT5Ws HM+4TVneEEAkXB78YdewPZmCiqPb0kftqAT7Khv5UKherx31LlEZbRuwXwT3JyAZgRYL Viwg== X-Gm-Message-State: AOJu0Yxb2J2b7vOMEmGHuX8g+pt3sEb4aUaXKo5B9vm8xRxBRaxg0Thi am37pkRem4Y1sBTSSUCA843bRt+vCRtinSFF9O7EBE9N9h/poZa0xD2sjiZPcxxHqsCwZVyPVSC WpQxT21IawoyANO8Vj9A/fW6gxRGL5JJkVZQ3iLS3+cwXP9ZwwpQ5ZaB6 X-Gm-Gg: ASbGnctZrX8hxEGWjI/rtLHBegPn47uoT2HOrV+xZamOyQwTvQ9B7chWNIu8Ynyn8+X h5QPPVY+ufwah1exa59aAlWcP1ogFAnWc/zJYQFRf+Fc46ZZGU/ot0oL21D8NXkHYPNHXZM+kkt sVMj7XqQrbYZ9xSg4HcYD1iwFbysVZB/3YgH48eOfIWLXh8SBnvu6vegest9eyMvzXKhPNHOuLx WuO4NxV75klRgyCzd8R7GpTnuvaTLP/wv/OejOjscrTNf6QSN2ZsEVvjZfKxXBlv/YRw4+DYdJm 29lyrWHaMpn1vlvtzrY5Doz2wtwp/KIWFKtXcPBLaQ== X-Google-Smtp-Source: AGHT+IFMPVJG1c8Z2b2Qpe1sNQ7jQuJXW4RgPOEEpQIgj6pUP1r8fcXzYlDf+nYG3yw562GUsxFcZ1GQcAxq X-Received: by 2002:a05:6830:63ce:b0:710:a425:d6b8 with SMTP id 46e09a7af769-726ad72b73bmr80543a34.14.1738776395352; Wed, 05 Feb 2025 09:26:35 -0800 (PST) Received: from postal.iol.unh.edu (postal.iol.unh.edu. [2606:4100:3880:1234::84]) by smtp-relay.gmail.com with ESMTPS id 46e09a7af769-72661877eaasm500462a34.8.2025.02.05.09.26.35 (version=TLS1_2 cipher=ECDHE-ECDSA-AES128-GCM-SHA256 bits=128/128); Wed, 05 Feb 2025 09:26:35 -0800 (PST) X-Relaying-Domain: iol.unh.edu Date: Wed, 05 Feb 2025 09:26:35 -0800 (PST) Message-ID: <67a39f4b.050a0220.2911a9.89fbSMTPIN_ADDED_MISSING@mx.google.com> Received: from [172.21.0.13] (unknown [172.18.0.240]) by postal.iol.unh.edu (Postfix) with ESMTP id D14C66052471; Wed, 5 Feb 2025 12:26:34 -0500 (EST) Subject: |WARNING| pw150159-150162 [PATCH] [v17,4/4] eal: add PMU support to From: dpdklab@iol.unh.edu To: Test Report Cc: dpdk-test-reports@iol.unh.edu In-Reply-To: <20250117090033.2807073-5-tduszynski@marvell.com> References: <20250117090033.2807073-5-tduszynski@marvell.com> Content-Type: text/plain X-BeenThere: test-report@dpdk.org X-Mailman-Version: 2.1.29 Precedence: list List-Id: automatic DPDK test reports List-Unsubscribe: , List-Archive: List-Post: List-Help: List-Subscribe: , Errors-To: test-report-bounces@dpdk.org Test-Label: iol-compile-amd64-testing Test-Status: WARNING http://dpdk.org/patch/150162 _Testing issues_ Submitter: Tomasz Duszynski Date: Friday, January 17 2025 09:00:33 DPDK git baseline: Repo:dpdk Branch: master CommitID:06e2856620a70000b2a28f0ea715fc247b85fd8d 150159-150162 --> testing issues Test environment and result as below: +---------------------+--------------------+------------------+-------------------+-------------------+-------------------------+ | Environment | dpdk_meson_compile | dpdk_compile_ovs | dpdk_compile_spdk | dpdk_msvc_compile | dpdk_llvm_clang_compile | +=====================+====================+==================+===================+===================+=========================+ | CentOS Stream 9 | PASS | PASS | WARN | SKIPPED | SKIPPED | +---------------------+--------------------+------------------+-------------------+-------------------+-------------------------+ | Debian 12 | PASS | PASS | WARN | SKIPPED | SKIPPED | +---------------------+--------------------+------------------+-------------------+-------------------+-------------------------+ | Debian Bullseye | PASS | PASS | WARN | SKIPPED | SKIPPED | +---------------------+--------------------+------------------+-------------------+-------------------+-------------------------+ | Fedora 41 | PASS | PASS | WARN | SKIPPED | SKIPPED | +---------------------+--------------------+------------------+-------------------+-------------------+-------------------------+ | Fedora 41 (Clang) | PASS | PASS | WARN | SKIPPED | SKIPPED | +---------------------+--------------------+------------------+-------------------+-------------------+-------------------------+ | Fedora 40 (Clang) | PASS | PASS | WARN | SKIPPED | SKIPPED | +---------------------+--------------------+------------------+-------------------+-------------------+-------------------------+ | Fedora 40 | PASS | PASS | WARN | SKIPPED | SKIPPED | +---------------------+--------------------+------------------+-------------------+-------------------+-------------------------+ | openSUSE Leap 15 | PASS | SKIPPED | SKIPPED | SKIPPED | SKIPPED | +---------------------+--------------------+------------------+-------------------+-------------------+-------------------------+ | RHEL9 | PASS | PASS | SKIPPED | SKIPPED | SKIPPED | +---------------------+--------------------+------------------+-------------------+-------------------+-------------------------+ | RHEL8 | PASS | PASS | SKIPPED | SKIPPED | SKIPPED | +---------------------+--------------------+------------------+-------------------+-------------------+-------------------------+ | Ubuntu 20.04 | PASS | SKIPPED | SKIPPED | SKIPPED | SKIPPED | +---------------------+--------------------+------------------+-------------------+-------------------+-------------------------+ | Ubuntu 22.04 | PASS | PASS | WARN | SKIPPED | SKIPPED | +---------------------+--------------------+------------------+-------------------+-------------------+-------------------------+ | Ubuntu 24.04 | PASS | PASS | WARN | SKIPPED | SKIPPED | +---------------------+--------------------+------------------+-------------------+-------------------+-------------------------+ | Alpine | PASS | PASS | SKIPPED | SKIPPED | SKIPPED | +---------------------+--------------------+------------------+-------------------+-------------------+-------------------------+ | FreeBSD 14.2 | PASS | SKIPPED | SKIPPED | SKIPPED | SKIPPED | +---------------------+--------------------+------------------+-------------------+-------------------+-------------------------+ | FreeBSD 13.4 | PASS | SKIPPED | SKIPPED | SKIPPED | SKIPPED | +---------------------+--------------------+------------------+-------------------+-------------------+-------------------------+ | Windows Server 2022 | SKIPPED | SKIPPED | SKIPPED | PASS | PASS | +---------------------+--------------------+------------------+-------------------+-------------------+-------------------------+ ==== 20 line log output for Ubuntu 24.04 (dpdk_compile_spdk): ==== --- Failed to get log output --- ==== End log output ==== CentOS Stream 9 Kernel: Depends on container host Compiler: gcc 11.5.0 20240719 (Red Hat 11.5.0-2) Debian 12 Kernel: Depends on container host Compiler: gcc (Debian 12.2.0-14) 12.2.0 Debian Bullseye Kernel: Depends on container host Compiler: gcc (Debian 10.2.1-6) 10.2.1 20210110 Fedora 41 Kernel: Depends on container host Compiler: gcc 14.2.1 20240912 (Red Hat 14.2.1-3) Fedora 41 (Clang) Kernel: Depends on container host Compiler: clang 19.1.5 (Fedora 19.1.5-1.fc41) Fedora 40 (Clang) Kernel: Depends on container host Compiler: clang 18.1.8 (Fedora 18.1.8-1.fc40) Fedora 40 Kernel: Depends on container host Compiler: gcc 14.2.1 20240912 (Red Hat 14.2.1-3) openSUSE Leap 15 Kernel: Depends on container host Compiler: gcc (SUSE Linux) 7.5.0 RHEL9 Kernel: Depends on container host Compiler: gcc 11.5.0 20240719 (Red Hat 11.5.0-2) RHEL8 Kernel: Depends on container host Compiler: gcc 8.5.0 20210514 (Red Hat 8.5.0-22) Ubuntu 20.04 Kernel: Depends on container host Compiler: gcc (Ubuntu 9.4.0-1ubuntu1~20.04.2) 9.4.0 Ubuntu 22.04 Kernel: Depends on container host Compiler: gcc (Ubuntu 11.4.0-1ubuntu1~22.04) 11.4.0 Ubuntu 24.04 Kernel: Depends on container host Compiler: gcc (Ubuntu 13.3.0-6ubuntu2~24.04) 13.3.0 Alpine Kernel: Depends on container host Compiler: gcc (Alpine 14.2.0) 14.2.0 FreeBSD 14.2 Kernel: 14.2-RELEASE Compiler: clang 18.1.6 FreeBSD 13.4 Kernel: 13.4-RELEASE-p1 Compiler: clang 18.1.6 Windows Server 2022 Kernel: 10.0.20348.2031 Compiler: clang 15.0.7, gcc 14.1.0 (MinGW), and MSVC VS 19.39.33521 To view detailed results, visit: https://lab.dpdk.org/results/dashboard/patchsets/32353/ UNH-IOL DPDK Community Lab To manage your email subscriptions, visit: https://lab.dpdk.org/results/dashboard/preferences/subscriptions/