From mboxrd@z Thu Jan 1 00:00:00 1970 Return-Path: Received: from mails.dpdk.org (mails.dpdk.org [217.70.189.124]) by inbox.dpdk.org (Postfix) with ESMTP id 75130461A0 for ; Wed, 5 Feb 2025 18:26:39 +0100 (CET) Received: from mails.dpdk.org (localhost [127.0.0.1]) by mails.dpdk.org (Postfix) with ESMTP id 7143E402E6; Wed, 5 Feb 2025 18:26:39 +0100 (CET) Received: from mail-il1-f227.google.com (mail-il1-f227.google.com [209.85.166.227]) by mails.dpdk.org (Postfix) with ESMTP id 7E5C440654 for ; Wed, 5 Feb 2025 18:26:37 +0100 (CET) Received: by mail-il1-f227.google.com with SMTP id e9e14a558f8ab-3cf880d90bdso23309455ab.3 for ; Wed, 05 Feb 2025 09:26:37 -0800 (PST) DKIM-Signature: v=1; a=rsa-sha256; c=relaxed/relaxed; d=iol.unh.edu; s=unh-iol; t=1738776397; x=1739381197; darn=dpdk.org; h=references:in-reply-to:cc:to:from:subject:message-id:date:from:to :cc:subject:date:message-id:reply-to; bh=cKefg0le17ojK97MRhEXez8yz8GkNGhzr+eJUiUYIdo=; b=YfAeI7xxXPrUNjs3qBNtZg778/fMNvDekqS9J/JTjSlwMYgbclbo6z7zrHw8WaOENG NDoSRMAwjO/PzLx6nysrcQZjNC+CdWbYxotfd7gDgwuSLDVancCNFvdqOsfynMCJLYsh VJUm8L/xuQo+0vPbhmL5XobMva7D/Ld9jshRA= X-Google-DKIM-Signature: v=1; a=rsa-sha256; c=relaxed/relaxed; d=1e100.net; s=20230601; t=1738776397; x=1739381197; h=references:in-reply-to:cc:to:from:subject:message-id:date :x-gm-message-state:from:to:cc:subject:date:message-id:reply-to; bh=cKefg0le17ojK97MRhEXez8yz8GkNGhzr+eJUiUYIdo=; b=L2DjJ4oRW3gnSMngWT45yKyM6XYxnCZUZjlxiacAYNLcTEeNV4x1V+kFEnhkmzJQyL 93AuqYF2wWFnfHuiNjs+Z54K1EafjiMpbJOfxUOZGdDC7UT1u0m/hMeuwqQTuX9Yx4+S DKkxtPqJmBVfmj0Lwn+R3lF2HWORWaTECI5ArFlYTopZZ3Gs24YieN4FsvvcqJOecKvb MSq+GxptPh2rbmvsGuuaglPTDiJtU2u6JJuxc20Tuior9sMWCfDkoJ1m5q9JqTlixOAk Y8IyWNdjeQpX47PRGffXP98qGe/liA2PoXZCH+WoS2vlT7evXPkxYkGn5mp+Rr6f21Ra iyuw== X-Gm-Message-State: AOJu0YxuMhna8GAXHQloKj5Eka356cedxTncM54/Xb5wDPPRWhTpYzZs PsvIrb8cvKUNUt439SQ22y2NbJ2DtTytzKHuWONDd7eFwx6iFSBM6d3oKcAd32quaKmv7F/LBvJ oRf6iQVNKI30h5eWzgYWqBcKKD1AxYsEp+GyyTZy8X6A5ONOyLjL46wRa X-Gm-Gg: ASbGncshnN1vUH2XzgEmxg/PSgNHypZ8YpvvAqWXki4K1VgQmXYoOUPhMn91oAHM7zn BpOiJtZST1CR9/iGmIajUAXTdhP1fvp4HzPMz32z5QLNQF1apNZDbe8SuDUiIFobDz6K3zc/cM5 bt9iB7ULFTwcxuChO+ylo/wAsFjVBvttm7FEY14cVRxan+8xpEjbtFO5LDAVCJ0G6Mqv7lTfmE+ c7+dDvAsRx2/YTMPEpjNNh8cXa7IqysUv0mCe1aDHNdX4kWz10I30JvvhOj6RCrNCnYNcCC/msd PTSXm5Og2KH8cuzvQZ9GfmTcOodNRSj/nWSm0Z2S3A== X-Google-Smtp-Source: AGHT+IEkSD4kRP914z4d5E2b6USlMSt5UDr+21l0/oJj8I5Zm/qeK18UdsRbw7ul0pMNgTIj0QG1PGAMUbgP X-Received: by 2002:a92:c24f:0:b0:3cf:cac9:b02d with SMTP id e9e14a558f8ab-3d04f4282e9mr33954875ab.8.1738776396893; Wed, 05 Feb 2025 09:26:36 -0800 (PST) Received: from postal.iol.unh.edu (postal.iol.unh.edu. [2606:4100:3880:1234::84]) by smtp-relay.gmail.com with ESMTPS id e9e14a558f8ab-3d02136d244sm6938335ab.32.2025.02.05.09.26.36 (version=TLS1_2 cipher=ECDHE-ECDSA-AES128-GCM-SHA256 bits=128/128); Wed, 05 Feb 2025 09:26:36 -0800 (PST) X-Relaying-Domain: iol.unh.edu Date: Wed, 05 Feb 2025 09:26:36 -0800 (PST) Message-ID: <67a39f4c.050a0220.b6d08.d90aSMTPIN_ADDED_MISSING@mx.google.com> Received: from [172.21.0.12] (unknown [172.18.0.240]) by postal.iol.unh.edu (Postfix) with ESMTP id 864326052471; Wed, 5 Feb 2025 12:26:36 -0500 (EST) Subject: |SUCCESS| pw150289-150303 [PATCH] [15/15] sched: add allocation func From: dpdklab@iol.unh.edu To: Test Report Cc: dpdk-test-reports@iol.unh.edu In-Reply-To: <20250120180550.198121-16-stephen@networkplumber.org> References: <20250120180550.198121-16-stephen@networkplumber.org> Content-Type: text/plain X-BeenThere: test-report@dpdk.org X-Mailman-Version: 2.1.29 Precedence: list List-Id: automatic DPDK test reports List-Unsubscribe: , List-Archive: List-Post: List-Help: List-Subscribe: , Errors-To: test-report-bounces@dpdk.org Test-Label: iol-compile-amd64-testing Test-Status: SUCCESS http://dpdk.org/patch/150303 _Testing PASS_ Submitter: Stephen Hemminger Date: Monday, January 20 2025 18:03:33 DPDK git baseline: Repo:dpdk Branch: master CommitID:6d7e741be18ab1e6ecce46edb2516318305c3c73 150289-150303 --> testing pass Test environment and result as below: +---------------------+--------------------+------------------+-------------------+-------------------------+-------------------+----------------------+ | Environment | dpdk_meson_compile | dpdk_compile_ovs | dpdk_compile_spdk | dpdk_llvm_clang_compile | dpdk_msvc_compile | dpdk_mingw64_compile | +=====================+====================+==================+===================+=========================+===================+======================+ | CentOS Stream 9 | PASS | PASS | PASS | SKIPPED | SKIPPED | SKIPPED | +---------------------+--------------------+------------------+-------------------+-------------------------+-------------------+----------------------+ | Debian Bullseye | PASS | PASS | PASS | SKIPPED | SKIPPED | SKIPPED | +---------------------+--------------------+------------------+-------------------+-------------------------+-------------------+----------------------+ | Fedora 40 (Clang) | PASS | PASS | PASS | SKIPPED | SKIPPED | SKIPPED | +---------------------+--------------------+------------------+-------------------+-------------------------+-------------------+----------------------+ | Debian 12 | PASS | PASS | PASS | SKIPPED | SKIPPED | SKIPPED | +---------------------+--------------------+------------------+-------------------+-------------------------+-------------------+----------------------+ | Fedora 40 | PASS | PASS | PASS | SKIPPED | SKIPPED | SKIPPED | +---------------------+--------------------+------------------+-------------------+-------------------------+-------------------+----------------------+ | Fedora 41 (Clang) | PASS | PASS | PASS | SKIPPED | SKIPPED | SKIPPED | +---------------------+--------------------+------------------+-------------------+-------------------------+-------------------+----------------------+ | RHEL8 | PASS | PASS | SKIPPED | SKIPPED | SKIPPED | SKIPPED | +---------------------+--------------------+------------------+-------------------+-------------------------+-------------------+----------------------+ | openSUSE Leap 15 | PASS | SKIPPED | SKIPPED | SKIPPED | SKIPPED | SKIPPED | +---------------------+--------------------+------------------+-------------------+-------------------------+-------------------+----------------------+ | Fedora 41 | PASS | PASS | PASS | SKIPPED | SKIPPED | SKIPPED | +---------------------+--------------------+------------------+-------------------+-------------------------+-------------------+----------------------+ | Ubuntu 20.04 | PASS | SKIPPED | SKIPPED | SKIPPED | SKIPPED | SKIPPED | +---------------------+--------------------+------------------+-------------------+-------------------------+-------------------+----------------------+ | Ubuntu 24.04 | PASS | PASS | PASS | SKIPPED | SKIPPED | SKIPPED | +---------------------+--------------------+------------------+-------------------+-------------------------+-------------------+----------------------+ | Ubuntu 22.04 | PASS | PASS | PASS | SKIPPED | SKIPPED | SKIPPED | +---------------------+--------------------+------------------+-------------------+-------------------------+-------------------+----------------------+ | FreeBSD 13.4 | PASS | SKIPPED | SKIPPED | SKIPPED | SKIPPED | SKIPPED | +---------------------+--------------------+------------------+-------------------+-------------------------+-------------------+----------------------+ | FreeBSD 14.2 | PASS | SKIPPED | SKIPPED | SKIPPED | SKIPPED | SKIPPED | +---------------------+--------------------+------------------+-------------------+-------------------------+-------------------+----------------------+ | Alpine | PASS | PASS | SKIPPED | SKIPPED | SKIPPED | SKIPPED | +---------------------+--------------------+------------------+-------------------+-------------------------+-------------------+----------------------+ | RHEL9 | PASS | PASS | SKIPPED | SKIPPED | SKIPPED | SKIPPED | +---------------------+--------------------+------------------+-------------------+-------------------------+-------------------+----------------------+ | Windows Server 2022 | SKIPPED | SKIPPED | SKIPPED | PASS | PASS | PASS | +---------------------+--------------------+------------------+-------------------+-------------------------+-------------------+----------------------+ CentOS Stream 9 Kernel: Depends on container host Compiler: gcc 11.5.0 20240719 (Red Hat 11.5.0-2) Debian Bullseye Kernel: Depends on container host Compiler: gcc (Debian 10.2.1-6) 10.2.1 20210110 Fedora 40 (Clang) Kernel: Depends on container host Compiler: clang 18.1.8 (Fedora 18.1.8-1.fc40) Debian 12 Kernel: Depends on container host Compiler: gcc (Debian 12.2.0-14) 12.2.0 Fedora 40 Kernel: Depends on container host Compiler: gcc 14.2.1 20240912 (Red Hat 14.2.1-3) Fedora 41 (Clang) Kernel: Depends on container host Compiler: clang 19.1.5 (Fedora 19.1.5-1.fc41) RHEL8 Kernel: Depends on container host Compiler: gcc 8.5.0 20210514 (Red Hat 8.5.0-22) openSUSE Leap 15 Kernel: Depends on container host Compiler: gcc (SUSE Linux) 7.5.0 Fedora 41 Kernel: Depends on container host Compiler: gcc 14.2.1 20240912 (Red Hat 14.2.1-3) Ubuntu 20.04 Kernel: Depends on container host Compiler: gcc (Ubuntu 9.4.0-1ubuntu1~20.04.2) 9.4.0 Ubuntu 24.04 Kernel: Depends on container host Compiler: gcc (Ubuntu 13.3.0-6ubuntu2~24.04) 13.3.0 Ubuntu 22.04 Kernel: Depends on container host Compiler: gcc (Ubuntu 11.4.0-1ubuntu1~22.04) 11.4.0 FreeBSD 13.4 Kernel: 13.4-RELEASE-p1 Compiler: clang 18.1.6 FreeBSD 14.2 Kernel: 14.2-RELEASE Compiler: clang 18.1.6 Alpine Kernel: Depends on container host Compiler: gcc (Alpine 14.2.0) 14.2.0 RHEL9 Kernel: Depends on container host Compiler: gcc 11.5.0 20240719 (Red Hat 11.5.0-2) Windows Server 2022 Kernel: 10.0.20348.2031 Compiler: clang 15.0.7, gcc 14.1.0 (MinGW), and MSVC VS 19.39.33521 To view detailed results, visit: https://lab.dpdk.org/results/dashboard/patchsets/32377/ UNH-IOL DPDK Community Lab To manage your email subscriptions, visit: https://lab.dpdk.org/results/dashboard/preferences/subscriptions/