From mboxrd@z Thu Jan 1 00:00:00 1970 Return-Path: Received: from mails.dpdk.org (mails.dpdk.org [217.70.189.124]) by inbox.dpdk.org (Postfix) with ESMTP id 95AE9461A0 for ; Wed, 5 Feb 2025 18:26:56 +0100 (CET) Received: from mails.dpdk.org (localhost [127.0.0.1]) by mails.dpdk.org (Postfix) with ESMTP id 916C4402E6; Wed, 5 Feb 2025 18:26:56 +0100 (CET) Received: from mail-pj1-f100.google.com (mail-pj1-f100.google.com [209.85.216.100]) by mails.dpdk.org (Postfix) with ESMTP id 8AE95402E4 for ; Wed, 5 Feb 2025 18:26:55 +0100 (CET) Received: by mail-pj1-f100.google.com with SMTP id 98e67ed59e1d1-2f9cb23d22cso3037128a91.1 for ; Wed, 05 Feb 2025 09:26:55 -0800 (PST) DKIM-Signature: v=1; a=rsa-sha256; c=relaxed/relaxed; d=iol.unh.edu; s=unh-iol; t=1738776415; x=1739381215; darn=dpdk.org; h=cc:to:from:subject:message-id:date:from:to:cc:subject:date :message-id:reply-to; bh=42eCGaE/+3Y8LGTrrgfszJi/TH/Bkc4umg0gTUEvMWo=; b=WlIS9uG42oQ330CBcnKRNYbX57I8OXkY4VCtMj3qEJHV8nPovimzm2NpZh6kuRgWc9 eFuAEgXb6z/slgQ07FrPCfGB/EMNmN1E8dbGh0Ac00l+9jFB9wNJGop/fdFLBs4MIrYq TzRFp4+qGYCwGCi1tMOimHVNzdh659pn1u7GQ= X-Google-DKIM-Signature: v=1; a=rsa-sha256; c=relaxed/relaxed; d=1e100.net; s=20230601; t=1738776415; x=1739381215; h=cc:to:from:subject:message-id:date:x-gm-message-state:from:to:cc :subject:date:message-id:reply-to; bh=42eCGaE/+3Y8LGTrrgfszJi/TH/Bkc4umg0gTUEvMWo=; b=VykVHO43bSQjYqqs8J2ygi64GmXOhg74p26gCltwKJYdtpvu3V3+yLgkl7q+HvMMdb UiBIeztyXZEz9mXagXbes6Rq7P1qQ+hjw5f7bdtFiIpPxfIUgpFdhj2EmT/39v4covea J5m3ORo8IndUG564tL2PCyqodFP0CL8tZk0T+QPqFFjeAfZ5R9hjd6i/qGA3RdMnjBdn aT9a+hFPZvagUx8G1x/OM1MLqcyxCPdmOFwy7b1eXLc9cI7xjDKEo6pYRaKKE4o1BMoG M+by1f2j6uhazo2G2Z45rN0xQGNDK11uPR71pUzvNX715DtPLQe9c9iH1Gz8uinjeGx+ EkTg== X-Gm-Message-State: AOJu0Yx0jKYkzpzqBx48ySq++kL1VoDOoVPQaJDyM7NTAmprvBQzengJ am1gDLbx6wICyHM7JqAP6de4zj9qkbAtfW8t1/+H6tNt4gwQSwE3c5CzQsU8b/WrS3/zzNMcAwo YwtZd2vIVKBRtCe2ButBAW3dBNqdF6e++NNojTo4o X-Gm-Gg: ASbGncvcAQzz7fRmZtPKwtXTTlAVFsNxoX4hhX7X5oZ6ukSAppyiv6HJhBEc+ascvXX zicNE1sZEoOCZOyI+qYNBKeQ5JNG7/2FYEKGiyZQJDjp+Gr7hGruRXjN/Dh9+mOo+NQmCAp4uHe dzoC34pvPOJX8d3WLsDmAJ1IPyPfT/Ww5RAk56v+J1boZUqeQpLEeYizg1ZIs0kGDnoGi5Whptk Sy6fSQ8/PIKbZIEpU+v0niRpD43Y2kmVqQ8lTbFTSTygAb8XwsiHVJMhxt8X3f4CJp9c3DHTtGu Xv/rZ/xAQix/t/oub1ARL9aYvafeUQ== X-Google-Smtp-Source: AGHT+IHiCjEEPx/+3T2AKbO4IeLAN+AVN8PwTt1Mn0ZYn0lQln36D8lXvDa2vW2pxqbNq/SMpeXN6ljekncJ X-Received: by 2002:a17:90b:52d0:b0:2ea:7329:43 with SMTP id 98e67ed59e1d1-2f9e074c920mr5299649a91.6.1738776414172; Wed, 05 Feb 2025 09:26:54 -0800 (PST) Received: from postal.iol.unh.edu (postal.iol.unh.edu. [132.177.123.84]) by smtp-relay.gmail.com with ESMTPS id 98e67ed59e1d1-2f9bf6f24ffsm34621a91.0.2025.02.05.09.26.54 (version=TLS1_2 cipher=ECDHE-ECDSA-AES128-GCM-SHA256 bits=128/128); Wed, 05 Feb 2025 09:26:54 -0800 (PST) X-Relaying-Domain: iol.unh.edu Date: Wed, 05 Feb 2025 09:26:54 -0800 (PST) Message-ID: <67a39f5e.170a0220.19ad83.1210SMTPIN_ADDED_MISSING@mx.google.com> Received: from [172.17.0.3] (unknown [172.18.0.57]) by postal.iol.unh.edu (Postfix) with ESMTP id 42CF96052471; Wed, 5 Feb 2025 12:26:53 -0500 (EST) Subject: |SUCCESS| [GIT MASTER] 34ea86164bf17a431ec5ef78d7e51e2e9b3fd75e From: dpdklab@iol.unh.edu To: Test Report Cc: dpdk-test-reports@iol.unh.edu, Stephen Hemminger Content-Type: text/plain X-BeenThere: test-report@dpdk.org X-Mailman-Version: 2.1.29 Precedence: list List-Id: automatic DPDK test reports List-Unsubscribe: , List-Archive: List-Post: List-Help: List-Subscribe: , Errors-To: test-report-bounces@dpdk.org _Testing PASS_ Branch: dpdk-next-net 34ea86164bf17a431ec5ef78d7e51e2e9b3fd75e --> testing pass Test environment and result as below: +---------------------+--------------------+------------------+-------------------+-------------------+-------------------------+----------------------+ | Environment | dpdk_meson_compile | dpdk_compile_ovs | dpdk_compile_spdk | dpdk_msvc_compile | dpdk_llvm_clang_compile | dpdk_mingw64_compile | +=====================+====================+==================+===================+===================+=========================+======================+ | CentOS Stream 9 | PASS | PASS | PASS | SKIPPED | SKIPPED | SKIPPED | +---------------------+--------------------+------------------+-------------------+-------------------+-------------------------+----------------------+ | Debian Bullseye | PASS | PASS | PASS | SKIPPED | SKIPPED | SKIPPED | +---------------------+--------------------+------------------+-------------------+-------------------+-------------------------+----------------------+ | Fedora 40 (Clang) | PASS | PASS | PASS | SKIPPED | SKIPPED | SKIPPED | +---------------------+--------------------+------------------+-------------------+-------------------+-------------------------+----------------------+ | Fedora 40 | PASS | PASS | PASS | SKIPPED | SKIPPED | SKIPPED | +---------------------+--------------------+------------------+-------------------+-------------------+-------------------------+----------------------+ | Debian 12 | PASS | PASS | PASS | SKIPPED | SKIPPED | SKIPPED | +---------------------+--------------------+------------------+-------------------+-------------------+-------------------------+----------------------+ | RHEL9 | PASS | PASS | SKIPPED | SKIPPED | SKIPPED | SKIPPED | +---------------------+--------------------+------------------+-------------------+-------------------+-------------------------+----------------------+ | openSUSE Leap 15 | PASS | SKIPPED | SKIPPED | SKIPPED | SKIPPED | SKIPPED | +---------------------+--------------------+------------------+-------------------+-------------------+-------------------------+----------------------+ | Fedora 41 | PASS | PASS | PASS | SKIPPED | SKIPPED | SKIPPED | +---------------------+--------------------+------------------+-------------------+-------------------+-------------------------+----------------------+ | RHEL8 | PASS | PASS | SKIPPED | SKIPPED | SKIPPED | SKIPPED | +---------------------+--------------------+------------------+-------------------+-------------------+-------------------------+----------------------+ | Fedora 41 (Clang) | PASS | PASS | PASS | SKIPPED | SKIPPED | SKIPPED | +---------------------+--------------------+------------------+-------------------+-------------------+-------------------------+----------------------+ | Ubuntu 20.04 | PASS | SKIPPED | SKIPPED | SKIPPED | SKIPPED | SKIPPED | +---------------------+--------------------+------------------+-------------------+-------------------+-------------------------+----------------------+ | Ubuntu 22.04 | PASS | PASS | PASS | SKIPPED | SKIPPED | SKIPPED | +---------------------+--------------------+------------------+-------------------+-------------------+-------------------------+----------------------+ | Ubuntu 24.04 | PASS | PASS | PASS | SKIPPED | SKIPPED | SKIPPED | +---------------------+--------------------+------------------+-------------------+-------------------+-------------------------+----------------------+ | FreeBSD 13.4 | PASS | SKIPPED | SKIPPED | SKIPPED | SKIPPED | SKIPPED | +---------------------+--------------------+------------------+-------------------+-------------------+-------------------------+----------------------+ | Alpine | PASS | PASS | SKIPPED | SKIPPED | SKIPPED | SKIPPED | +---------------------+--------------------+------------------+-------------------+-------------------+-------------------------+----------------------+ | FreeBSD 14.2 | PASS | SKIPPED | SKIPPED | SKIPPED | SKIPPED | SKIPPED | +---------------------+--------------------+------------------+-------------------+-------------------+-------------------------+----------------------+ | Windows Server 2022 | SKIPPED | SKIPPED | SKIPPED | PASS | PASS | PASS | +---------------------+--------------------+------------------+-------------------+-------------------+-------------------------+----------------------+ CentOS Stream 9 Kernel: Depends on container host Compiler: gcc 11.5.0 20240719 (Red Hat 11.5.0-2) Debian Bullseye Kernel: Depends on container host Compiler: gcc (Debian 10.2.1-6) 10.2.1 20210110 Fedora 40 (Clang) Kernel: Depends on container host Compiler: clang 18.1.8 (Fedora 18.1.8-1.fc40) Fedora 40 Kernel: Depends on container host Compiler: gcc 14.2.1 20240912 (Red Hat 14.2.1-3) Debian 12 Kernel: Depends on container host Compiler: gcc (Debian 12.2.0-14) 12.2.0 RHEL9 Kernel: Depends on container host Compiler: gcc 11.5.0 20240719 (Red Hat 11.5.0-2) openSUSE Leap 15 Kernel: Depends on container host Compiler: gcc (SUSE Linux) 7.5.0 Fedora 41 Kernel: Depends on container host Compiler: gcc 14.2.1 20240912 (Red Hat 14.2.1-3) RHEL8 Kernel: Depends on container host Compiler: gcc 8.5.0 20210514 (Red Hat 8.5.0-22) Fedora 41 (Clang) Kernel: Depends on container host Compiler: clang 19.1.5 (Fedora 19.1.5-1.fc41) Ubuntu 20.04 Kernel: Depends on container host Compiler: gcc (Ubuntu 9.4.0-1ubuntu1~20.04.2) 9.4.0 Ubuntu 22.04 Kernel: Depends on container host Compiler: gcc (Ubuntu 11.4.0-1ubuntu1~22.04) 11.4.0 Ubuntu 24.04 Kernel: Depends on container host Compiler: gcc (Ubuntu 13.3.0-6ubuntu2~24.04) 13.3.0 FreeBSD 13.4 Kernel: 13.4-RELEASE-p1 Compiler: clang 18.1.6 Alpine Kernel: Depends on container host Compiler: gcc (Alpine 14.2.0) 14.2.0 FreeBSD 14.2 Kernel: 14.2-RELEASE Compiler: clang 18.1.6 Windows Server 2022 Kernel: 10.0.20348.2031 Compiler: clang 15.0.7, gcc 14.1.0 (MinGW), and MSVC VS 19.39.33521 To view detailed results, visit: https://lab.dpdk.org/results/dashboard/tarballs/32234/ UNH-IOL DPDK Community Lab To manage your email subscriptions, visit: https://lab.dpdk.org/results/dashboard/preferences/subscriptions/