From mboxrd@z Thu Jan 1 00:00:00 1970 Return-Path: Received: from mails.dpdk.org (mails.dpdk.org [217.70.189.124]) by inbox.dpdk.org (Postfix) with ESMTP id A72B1461A0 for ; Wed, 5 Feb 2025 18:26:58 +0100 (CET) Received: from mails.dpdk.org (localhost [127.0.0.1]) by mails.dpdk.org (Postfix) with ESMTP id A4895402E6; Wed, 5 Feb 2025 18:26:58 +0100 (CET) Received: from mail-qv1-f100.google.com (mail-qv1-f100.google.com [209.85.219.100]) by mails.dpdk.org (Postfix) with ESMTP id E579E402E4 for ; Wed, 5 Feb 2025 18:26:56 +0100 (CET) Received: by mail-qv1-f100.google.com with SMTP id 6a1803df08f44-6dd43aa1558so434546d6.0 for ; Wed, 05 Feb 2025 09:26:56 -0800 (PST) DKIM-Signature: v=1; a=rsa-sha256; c=relaxed/relaxed; d=iol.unh.edu; s=unh-iol; t=1738776416; x=1739381216; darn=dpdk.org; h=references:in-reply-to:cc:to:from:subject:message-id:date:from:to :cc:subject:date:message-id:reply-to; bh=PM8BDjjHo2cuh+0vRt+UCcWJcftBCJPTrVpSMZWeGpE=; b=UHW3F1YdsM0JiqvoNx+SoXRZHUhJquB6uFgD2jVLP8A0OFWtkQAgr1nWKjcdC2+hYZ Hgm63sWt/F61QIf4hbKsHdfiTwSN5Yu4ASWeviytagiDT1a8AH5zaxFNR8mpd/bAuHbr nsAnM/xuK3llijs7SVjaz9MN/VbJ6tcq8Q0f0= X-Google-DKIM-Signature: v=1; a=rsa-sha256; c=relaxed/relaxed; d=1e100.net; s=20230601; t=1738776416; x=1739381216; h=references:in-reply-to:cc:to:from:subject:message-id:date :x-gm-message-state:from:to:cc:subject:date:message-id:reply-to; bh=PM8BDjjHo2cuh+0vRt+UCcWJcftBCJPTrVpSMZWeGpE=; b=IU7WZZdc0unVJ4Kv7UUtWtDbNaGf999xJopAODwTG4EGhIijlKWzg6ZZ1gICtgwlSk 4qCInuk00O9KV501HF52Z/+R67xKCsnx6FmUd7zoLAIqM4peWo2FxaTnqaS/u27QhinN 6RfNvrzp32Om0B4cLPURVhoZDf4TiDRvw6DXOx5cd4CFsEgRvY6T6wUJWYUrAYh1vYU9 F/Oz9k8iWHn1PMiR8l0QKBK3keuFnY0lO+uVyh0gCFkRvWbBJvmtvBPFIORKhhMlTGvK /TpcC8n/f0bjiyCcC4BMPwA4jQ3MDK6uuQukdjqnIPBkR4UyYP8OkIFJLaZt6f67en7h Qfvg== X-Gm-Message-State: AOJu0Yy47P7HoOMJB5ZXKpMxk3nDGYJ5pKumuqyXEisMdtB3qUZJpqDB hqMQfBI0qKuAJfVmDTI3P49o36AXZ63xHqkYOW7IIQTMz5ZmTKn5uTLPTs7pGcoRt8cgXH5k/iU fRT6ozMBNnrv95R6FTOM6tG5aJp1l0ufYkDU9fMnWyS3T68MKJ31lgRar X-Gm-Gg: ASbGncsabPjh0YcFdjs+VWdpvhbsLLKZ6q0JE7kC2sAhmHMCsrMfk6UabdnExDvn+yp Z/oAB7Sgij8zS6AWA6ch0BH1f+byrxIyEWGX6gMNh9K/NE2hnuTZ+B83FZY/5KoOsIDPSppIq6k Kq8084IMkPZsqXtYMjgRiAwE7jrx8o1hJzfalUegAQl7DRDKUMEdU5BjWzKgHMC8QIsARacBlH0 EuJg2NQrfe97PBBytEHFpzrAs0dQDcF4dwhpghELeZTDwx7SSaJRB98RgZE1HvuqCQ3v6SeyFlL yZgYRy2s+xkaJMw6lZvU4eGds8Y1SBb46PrCgrNOvA== X-Google-Smtp-Source: AGHT+IGTqqR5DGrylRAySUG3/+szE+D7wpYTFOGFcqW+4tpO3ewcwHkigemRXQSz9T8v2szxBocccGNLVwjV X-Received: by 2002:a05:6214:5992:b0:6df:99e9:39b3 with SMTP id 6a1803df08f44-6e42fb69655mr49930476d6.15.1738776416434; Wed, 05 Feb 2025 09:26:56 -0800 (PST) Received: from postal.iol.unh.edu (postal.iol.unh.edu. [2606:4100:3880:1234::84]) by smtp-relay.gmail.com with ESMTPS id 6a1803df08f44-6e2549678fbsm10664256d6.68.2025.02.05.09.26.56 (version=TLS1_2 cipher=ECDHE-ECDSA-AES128-GCM-SHA256 bits=128/128); Wed, 05 Feb 2025 09:26:56 -0800 (PST) X-Relaying-Domain: iol.unh.edu Date: Wed, 05 Feb 2025 09:26:56 -0800 (PST) Message-ID: <67a39f60.050a0220.2d659b.1fc8SMTPIN_ADDED_MISSING@mx.google.com> Received: from [172.17.0.2] (unknown [172.18.0.215]) by postal.iol.unh.edu (Postfix) with ESMTP id 2744A6052472; Wed, 5 Feb 2025 12:26:56 -0500 (EST) Subject: |SUCCESS| pw150119-150120 [PATCH] [v13,3/3] drivers/net: add diagnos From: dpdklab@iol.unh.edu To: Test Report Cc: dpdk-test-reports@iol.unh.edu In-Reply-To: <1736992511-20462-4-git-send-email-andremue@linux.microsoft.com> References: <1736992511-20462-4-git-send-email-andremue@linux.microsoft.com> Content-Type: text/plain X-BeenThere: test-report@dpdk.org X-Mailman-Version: 2.1.29 Precedence: list List-Id: automatic DPDK test reports List-Unsubscribe: , List-Archive: List-Post: List-Help: List-Subscribe: , Errors-To: test-report-bounces@dpdk.org Test-Label: iol-compile-amd64-testing Test-Status: SUCCESS http://dpdk.org/patch/150120 _Testing PASS_ Submitter: Andre Muezerie Date: Thursday, January 16 2025 01:55:11 DPDK git baseline: Repo:dpdk Branch: master CommitID:154303b06ab29e040000f0536961601d952e2974 150119-150120 --> testing pass Test environment and result as below: +---------------------+--------------------+------------------+-------------------+-------------------------+-------------------+----------------------+ | Environment | dpdk_meson_compile | dpdk_compile_ovs | dpdk_compile_spdk | dpdk_llvm_clang_compile | dpdk_msvc_compile | dpdk_mingw64_compile | +=====================+====================+==================+===================+=========================+===================+======================+ | CentOS Stream 9 | PASS | PASS | PASS | SKIPPED | SKIPPED | SKIPPED | +---------------------+--------------------+------------------+-------------------+-------------------------+-------------------+----------------------+ | Fedora 40 | PASS | PASS | PASS | SKIPPED | SKIPPED | SKIPPED | +---------------------+--------------------+------------------+-------------------+-------------------------+-------------------+----------------------+ | Fedora 40 (Clang) | PASS | PASS | PASS | SKIPPED | SKIPPED | SKIPPED | +---------------------+--------------------+------------------+-------------------+-------------------------+-------------------+----------------------+ | Debian 12 | PASS | PASS | PASS | SKIPPED | SKIPPED | SKIPPED | +---------------------+--------------------+------------------+-------------------+-------------------------+-------------------+----------------------+ | Debian Bullseye | PASS | PASS | PASS | SKIPPED | SKIPPED | SKIPPED | +---------------------+--------------------+------------------+-------------------+-------------------------+-------------------+----------------------+ | RHEL8 | PASS | PASS | SKIPPED | SKIPPED | SKIPPED | SKIPPED | +---------------------+--------------------+------------------+-------------------+-------------------------+-------------------+----------------------+ | openSUSE Leap 15 | PASS | SKIPPED | SKIPPED | SKIPPED | SKIPPED | SKIPPED | +---------------------+--------------------+------------------+-------------------+-------------------------+-------------------+----------------------+ | Fedora 41 (Clang) | PASS | PASS | PASS | SKIPPED | SKIPPED | SKIPPED | +---------------------+--------------------+------------------+-------------------+-------------------------+-------------------+----------------------+ | Ubuntu 20.04 | PASS | SKIPPED | SKIPPED | SKIPPED | SKIPPED | SKIPPED | +---------------------+--------------------+------------------+-------------------+-------------------------+-------------------+----------------------+ | Ubuntu 22.04 | PASS | PASS | PASS | SKIPPED | SKIPPED | SKIPPED | +---------------------+--------------------+------------------+-------------------+-------------------------+-------------------+----------------------+ | Ubuntu 24.04 | PASS | PASS | PASS | SKIPPED | SKIPPED | SKIPPED | +---------------------+--------------------+------------------+-------------------+-------------------------+-------------------+----------------------+ | Alpine | PASS | PASS | SKIPPED | SKIPPED | SKIPPED | SKIPPED | +---------------------+--------------------+------------------+-------------------+-------------------------+-------------------+----------------------+ | FreeBSD 13.4 | PASS | SKIPPED | SKIPPED | SKIPPED | SKIPPED | SKIPPED | +---------------------+--------------------+------------------+-------------------+-------------------------+-------------------+----------------------+ | FreeBSD 14.2 | PASS | SKIPPED | SKIPPED | SKIPPED | SKIPPED | SKIPPED | +---------------------+--------------------+------------------+-------------------+-------------------------+-------------------+----------------------+ | RHEL9 | PASS | PASS | SKIPPED | SKIPPED | SKIPPED | SKIPPED | +---------------------+--------------------+------------------+-------------------+-------------------------+-------------------+----------------------+ | Fedora 41 | PASS | PASS | PASS | SKIPPED | SKIPPED | SKIPPED | +---------------------+--------------------+------------------+-------------------+-------------------------+-------------------+----------------------+ | Windows Server 2022 | SKIPPED | SKIPPED | SKIPPED | PASS | PASS | PASS | +---------------------+--------------------+------------------+-------------------+-------------------------+-------------------+----------------------+ CentOS Stream 9 Kernel: Depends on container host Compiler: gcc 11.5.0 20240719 (Red Hat 11.5.0-2) Fedora 40 Kernel: Depends on container host Compiler: gcc 14.2.1 20240912 (Red Hat 14.2.1-3) Fedora 40 (Clang) Kernel: Depends on container host Compiler: clang 18.1.8 (Fedora 18.1.8-1.fc40) Debian 12 Kernel: Depends on container host Compiler: gcc (Debian 12.2.0-14) 12.2.0 Debian Bullseye Kernel: Depends on container host Compiler: gcc (Debian 10.2.1-6) 10.2.1 20210110 RHEL8 Kernel: Depends on container host Compiler: gcc 8.5.0 20210514 (Red Hat 8.5.0-22) openSUSE Leap 15 Kernel: Depends on container host Compiler: gcc (SUSE Linux) 7.5.0 Fedora 41 (Clang) Kernel: Depends on container host Compiler: clang 19.1.5 (Fedora 19.1.5-1.fc41) Ubuntu 20.04 Kernel: Depends on container host Compiler: gcc (Ubuntu 9.4.0-1ubuntu1~20.04.2) 9.4.0 Ubuntu 22.04 Kernel: Depends on container host Compiler: gcc (Ubuntu 11.4.0-1ubuntu1~22.04) 11.4.0 Ubuntu 24.04 Kernel: Depends on container host Compiler: gcc (Ubuntu 13.3.0-6ubuntu2~24.04) 13.3.0 Alpine Kernel: Depends on container host Compiler: gcc (Alpine 14.2.0) 14.2.0 FreeBSD 13.4 Kernel: 13.4-RELEASE-p1 Compiler: clang 18.1.6 FreeBSD 14.2 Kernel: 14.2-RELEASE Compiler: clang 18.1.6 RHEL9 Kernel: Depends on container host Compiler: gcc 11.5.0 20240719 (Red Hat 11.5.0-2) Fedora 41 Kernel: Depends on container host Compiler: gcc 14.2.1 20240912 (Red Hat 14.2.1-3) Windows Server 2022 Kernel: 10.0.20348.2031 Compiler: clang 15.0.7, gcc 14.1.0 (MinGW), and MSVC VS 19.39.33521 To view detailed results, visit: https://lab.dpdk.org/results/dashboard/patchsets/32338/ UNH-IOL DPDK Community Lab To manage your email subscriptions, visit: https://lab.dpdk.org/results/dashboard/preferences/subscriptions/