From mboxrd@z Thu Jan 1 00:00:00 1970 Return-Path: Received: from mails.dpdk.org (mails.dpdk.org [217.70.189.124]) by inbox.dpdk.org (Postfix) with ESMTP id C339D461A0 for ; Wed, 5 Feb 2025 18:27:22 +0100 (CET) Received: from mails.dpdk.org (localhost [127.0.0.1]) by mails.dpdk.org (Postfix) with ESMTP id BFC19402E6; Wed, 5 Feb 2025 18:27:22 +0100 (CET) Received: from mail-ot1-f97.google.com (mail-ot1-f97.google.com [209.85.210.97]) by mails.dpdk.org (Postfix) with ESMTP id 3F97E402E4 for ; Wed, 5 Feb 2025 18:27:21 +0100 (CET) Received: by mail-ot1-f97.google.com with SMTP id 46e09a7af769-7231e2ac9e4so22935a34.0 for ; Wed, 05 Feb 2025 09:27:21 -0800 (PST) DKIM-Signature: v=1; a=rsa-sha256; c=relaxed/relaxed; d=iol.unh.edu; s=unh-iol; t=1738776440; x=1739381240; darn=dpdk.org; h=cc:to:from:subject:message-id:date:from:to:cc:subject:date :message-id:reply-to; bh=MiB/bUWBSXAwsSqkZTCCLQNblZZT/TuxJiC2FD4yalg=; b=JGjBMS6AE733O4IFWvqAcX71VpmgBwzJZryklpVyPr8pp+L3KSpRO9pGNCNlYIrGBp Sp/RC8J6rXs4HsNS9i5GnHTYcJ7QC44I5CyFjnGNmziMy5EOCcutv83zPFpV6EM0byh0 zcek8Tsxm0KmaGgG0SU26O/oFbniNNwd4Ixjg= X-Google-DKIM-Signature: v=1; a=rsa-sha256; c=relaxed/relaxed; d=1e100.net; s=20230601; t=1738776440; x=1739381240; h=cc:to:from:subject:message-id:date:x-gm-message-state:from:to:cc :subject:date:message-id:reply-to; bh=MiB/bUWBSXAwsSqkZTCCLQNblZZT/TuxJiC2FD4yalg=; b=S1my55pvH3Z9H3eeEmqA5l728JKXytnOYWIeXqI3BIQu9eIMOvykliprn1btMFH9r9 iczlOatlTRY5FOi+PGvBnhRKgznmX7iCf8BR680U2bUcsgNQkFkqPgbxJqJxFuHmIqvQ v1owh8O1Cm4i2hSmvE270m8jDwYvJX3e9YfImRDZCzPOibH4W7a7tWaWCqxh/daT85mz LkJARhCW5XDC3ODVLKU47rknzOc1gPPWZJAaUnW5F9r1GUTeZbms2B/e6DAKwD0oHAOT icqXQz0rngH9rCBwnzk99QpAE1IjKtumY2f7C4MCU4mzyzAZ/N0bQKO+hnsfpBWJa6Vx 0VTQ== X-Gm-Message-State: AOJu0YzaYHBgvcrHee38fVkqblT92hF92GBxBKlzcQ+JN5IOjZ5skSBS PpGHvGEP8V3f3MBBfFfqQuYpP3ES+IvgPW9kWMNB2UlOPd+d2FhIyS2t8gg0QgNXwAYtTi4hvLq 4bSSJ/CwbOuZ8M8NutMyguzqe1r/tgyda9zZG2FTZ X-Gm-Gg: ASbGnct763HWBUGPMJ+Qv0SuVISKGxMigCFXKUtQe1bcIgTwK3xuruVYbAk+ReXGVuq p7H0kVbWDrpPz+DCoCZhlHMOPTkMU2kjYqROUd5qpRizQdIyUA3s+fUk2cNxW+Y8gaeJyIdMIaN VkBrHuW2y5rzqMS+1gppCED7f/HbEXyyjzBIC355Uz3PkKs+aCZuFbkRuX3ADer4EfFATfy38zk pWZBdoIQTacd2wBZMP9nUCSvAqU0N0Ler1jkLmzI/pUUGAUnGF9y7j7eic6S3xd88VSMnPe8y/w WhKjAuSzhT4Jk4nWVHsR4Ip0K/8Krw== X-Google-Smtp-Source: AGHT+IH8BvI6I0hZzjqzTZ26iYx1l33aqlxURqAZB43RA9RdpqOxqdcaUkgxGKuXGBWfC/BAfpUk02K04i6b X-Received: by 2002:a05:6830:2a86:b0:71e:1c5:4f7c with SMTP id 46e09a7af769-726a41bf789mr2408286a34.14.1738776440662; Wed, 05 Feb 2025 09:27:20 -0800 (PST) Received: from postal.iol.unh.edu (postal.iol.unh.edu. [132.177.123.84]) by smtp-relay.gmail.com with ESMTPS id 586e51a60fabf-2b356112377sm980009fac.6.2025.02.05.09.27.20 (version=TLS1_2 cipher=ECDHE-ECDSA-AES128-GCM-SHA256 bits=128/128); Wed, 05 Feb 2025 09:27:20 -0800 (PST) X-Relaying-Domain: iol.unh.edu Date: Wed, 05 Feb 2025 09:27:20 -0800 (PST) Message-ID: <67a39f78.050a0220.370108.ec81SMTPIN_ADDED_MISSING@mx.google.com> Received: from [172.21.0.15] (unknown [172.18.0.240]) by postal.iol.unh.edu (Postfix) with ESMTP id 2B10A6052471; Wed, 5 Feb 2025 12:27:20 -0500 (EST) Subject: |SUCCESS| [GIT MASTER] 154303b06ab29e040000f0536961601d952e2974 From: dpdklab@iol.unh.edu To: Test Report Cc: dpdk-test-reports@iol.unh.edu Content-Type: text/plain X-BeenThere: test-report@dpdk.org X-Mailman-Version: 2.1.29 Precedence: list List-Id: automatic DPDK test reports List-Unsubscribe: , List-Archive: List-Post: List-Help: List-Subscribe: , Errors-To: test-report-bounces@dpdk.org _Testing PASS_ Branch: dpdk 154303b06ab29e040000f0536961601d952e2974 --> testing pass Test environment and result as below: +---------------------+--------------------+------------------+-------------------+-------------------+-------------------------+----------------------+ | Environment | dpdk_meson_compile | dpdk_compile_ovs | dpdk_compile_spdk | dpdk_msvc_compile | dpdk_llvm_clang_compile | dpdk_mingw64_compile | +=====================+====================+==================+===================+===================+=========================+======================+ | CentOS Stream 9 | PASS | PASS | PASS | SKIPPED | SKIPPED | SKIPPED | +---------------------+--------------------+------------------+-------------------+-------------------+-------------------------+----------------------+ | Debian Bullseye | PASS | PASS | PASS | SKIPPED | SKIPPED | SKIPPED | +---------------------+--------------------+------------------+-------------------+-------------------+-------------------------+----------------------+ | Debian 12 | PASS | PASS | PASS | SKIPPED | SKIPPED | SKIPPED | +---------------------+--------------------+------------------+-------------------+-------------------+-------------------------+----------------------+ | Fedora 41 (Clang) | PASS | PASS | PASS | SKIPPED | SKIPPED | SKIPPED | +---------------------+--------------------+------------------+-------------------+-------------------+-------------------------+----------------------+ | RHEL9 | PASS | PASS | SKIPPED | SKIPPED | SKIPPED | SKIPPED | +---------------------+--------------------+------------------+-------------------+-------------------+-------------------------+----------------------+ | openSUSE Leap 15 | PASS | SKIPPED | SKIPPED | SKIPPED | SKIPPED | SKIPPED | +---------------------+--------------------+------------------+-------------------+-------------------+-------------------------+----------------------+ | Ubuntu 20.04 | PASS | SKIPPED | SKIPPED | SKIPPED | SKIPPED | SKIPPED | +---------------------+--------------------+------------------+-------------------+-------------------+-------------------------+----------------------+ | Fedora 40 | PASS | PASS | PASS | SKIPPED | SKIPPED | SKIPPED | +---------------------+--------------------+------------------+-------------------+-------------------+-------------------------+----------------------+ | RHEL8 | PASS | PASS | SKIPPED | SKIPPED | SKIPPED | SKIPPED | +---------------------+--------------------+------------------+-------------------+-------------------+-------------------------+----------------------+ | Fedora 41 | PASS | PASS | PASS | SKIPPED | SKIPPED | SKIPPED | +---------------------+--------------------+------------------+-------------------+-------------------+-------------------------+----------------------+ | Ubuntu 22.04 | PASS | PASS | PASS | SKIPPED | SKIPPED | SKIPPED | +---------------------+--------------------+------------------+-------------------+-------------------+-------------------------+----------------------+ | Alpine | PASS | PASS | SKIPPED | SKIPPED | SKIPPED | SKIPPED | +---------------------+--------------------+------------------+-------------------+-------------------+-------------------------+----------------------+ | Ubuntu 24.04 | PASS | PASS | PASS | SKIPPED | SKIPPED | SKIPPED | +---------------------+--------------------+------------------+-------------------+-------------------+-------------------------+----------------------+ | Arch Linux | PASS | PASS | SKIPPED | SKIPPED | SKIPPED | SKIPPED | +---------------------+--------------------+------------------+-------------------+-------------------+-------------------------+----------------------+ | FreeBSD 13.4 | PASS | SKIPPED | SKIPPED | SKIPPED | SKIPPED | SKIPPED | +---------------------+--------------------+------------------+-------------------+-------------------+-------------------------+----------------------+ | FreeBSD 14.2 | PASS | SKIPPED | SKIPPED | SKIPPED | SKIPPED | SKIPPED | +---------------------+--------------------+------------------+-------------------+-------------------+-------------------------+----------------------+ | Fedora 40 (Clang) | PASS | PASS | PASS | SKIPPED | SKIPPED | SKIPPED | +---------------------+--------------------+------------------+-------------------+-------------------+-------------------------+----------------------+ | Windows Server 2022 | SKIPPED | SKIPPED | SKIPPED | PASS | PASS | PASS | +---------------------+--------------------+------------------+-------------------+-------------------+-------------------------+----------------------+ CentOS Stream 9 Kernel: Depends on container host Compiler: gcc 11.5.0 20240719 (Red Hat 11.5.0-2) Debian Bullseye Kernel: Depends on container host Compiler: gcc (Debian 10.2.1-6) 10.2.1 20210110 Debian 12 Kernel: Depends on container host Compiler: gcc (Debian 12.2.0-14) 12.2.0 Fedora 41 (Clang) Kernel: Depends on container host Compiler: clang 19.1.5 (Fedora 19.1.5-1.fc41) RHEL9 Kernel: Depends on container host Compiler: gcc 11.5.0 20240719 (Red Hat 11.5.0-2) openSUSE Leap 15 Kernel: Depends on container host Compiler: gcc (SUSE Linux) 7.5.0 Ubuntu 20.04 Kernel: Depends on container host Compiler: gcc (Ubuntu 9.4.0-1ubuntu1~20.04.2) 9.4.0 Fedora 40 Kernel: Depends on container host Compiler: gcc 14.2.1 20240912 (Red Hat 14.2.1-3) RHEL8 Kernel: Depends on container host Compiler: gcc 8.5.0 20210514 (Red Hat 8.5.0-22) Fedora 41 Kernel: Depends on container host Compiler: gcc 14.2.1 20240912 (Red Hat 14.2.1-3) Ubuntu 22.04 Kernel: Depends on container host Compiler: gcc (Ubuntu 11.4.0-1ubuntu1~22.04) 11.4.0 Alpine Kernel: Depends on container host Compiler: gcc (Alpine 14.2.0) 14.2.0 Ubuntu 24.04 Kernel: Depends on container host Compiler: gcc (Ubuntu 13.3.0-6ubuntu2~24.04) 13.3.0 Arch Linux Kernel: Depends on container host Compiler: gcc 14.2.1 20240910 FreeBSD 13.4 Kernel: 13.4-RELEASE-p1 Compiler: clang 18.1.6 FreeBSD 14.2 Kernel: 14.2-RELEASE Compiler: clang 18.1.6 Fedora 40 (Clang) Kernel: Depends on container host Compiler: clang 18.1.8 (Fedora 18.1.8-1.fc40) Windows Server 2022 Kernel: 10.0.20348.2031 Compiler: clang 15.0.7, gcc 14.1.0 (MinGW), and MSVC VS 19.39.33521 To view detailed results, visit: https://lab.dpdk.org/results/dashboard/tarballs/32217/ UNH-IOL DPDK Community Lab To manage your email subscriptions, visit: https://lab.dpdk.org/results/dashboard/preferences/subscriptions/