From mboxrd@z Thu Jan 1 00:00:00 1970 Return-Path: Received: from mails.dpdk.org (mails.dpdk.org [217.70.189.124]) by inbox.dpdk.org (Postfix) with ESMTP id 05517461A0 for ; Wed, 5 Feb 2025 18:28:38 +0100 (CET) Received: from mails.dpdk.org (localhost [127.0.0.1]) by mails.dpdk.org (Postfix) with ESMTP id EAEA0402E6; Wed, 5 Feb 2025 18:28:37 +0100 (CET) Received: from mail-qv1-f99.google.com (mail-qv1-f99.google.com [209.85.219.99]) by mails.dpdk.org (Postfix) with ESMTP id 5AFA5402E4 for ; Wed, 5 Feb 2025 18:28:36 +0100 (CET) Received: by mail-qv1-f99.google.com with SMTP id 6a1803df08f44-6e42d9c092bso348536d6.0 for ; Wed, 05 Feb 2025 09:28:36 -0800 (PST) DKIM-Signature: v=1; a=rsa-sha256; c=relaxed/relaxed; d=iol.unh.edu; s=unh-iol; t=1738776516; x=1739381316; darn=dpdk.org; h=references:in-reply-to:cc:to:from:subject:message-id:date:from:to :cc:subject:date:message-id:reply-to; bh=xj0wEk8/yzt+tcLcE+TBXWnIBJ/ReBNBAxKeodS5vJw=; b=K+hVzsJXUS7bi6lVWzMUJPhNe1yQbKLRj9+FLbTJp9gOZqZBeGIpzaog5mziq1yhoL cLkRMWdKVmoqhmhNUSWNTS2eURzIsKMrIOo169GPgXceFY4XGJN2efRLR/LI6LjD7L5z ZfnfsGnnInuHmTTuH7G5cMxaeVhAjLHTjKbIk= X-Google-DKIM-Signature: v=1; a=rsa-sha256; c=relaxed/relaxed; d=1e100.net; s=20230601; t=1738776516; x=1739381316; h=references:in-reply-to:cc:to:from:subject:message-id:date :x-gm-message-state:from:to:cc:subject:date:message-id:reply-to; bh=xj0wEk8/yzt+tcLcE+TBXWnIBJ/ReBNBAxKeodS5vJw=; b=iE+L/pRbyrjzInUH3r7iHCdPiFdMqZnNqRZAiy3sK9u1nb7gXuZgbXyeIAitSOwTrb l63dfQwFtUtJ1zMHX/EcD1M0bWsAfFMFN2M2ypLeSoVXatFQ2SlWJ2xN/4WD5NDhZzjK dQ/bhjNzaL8op0nw6ewe7SP7PUlXcPNkpGYLdeNW7ZqMdrA6JhNgWtt4S+0/1+OzLXCn OUXEFOrB+NwjaqU6PupOZrByI88ibNwfuLJ5RKkZkOtdhywDjTNm6SkNn4BOUDfCj240 XwcShR0y9pgNFTeFXCDP1ZCJjX56aSwqUSGi+Xfb2/qiV4IFhISbMhLd7zMSQWg+4Ajv EWPQ== X-Gm-Message-State: AOJu0YxJg5gZu+mwEjg076v/yB84iBgeaSo074OLI9+vXJQfVm1jWnH4 rQobaZwE9IWwm3qERM7DDtA8L29dbpjSPSL2JuYve4iDA9sjbBGIXbNQ7tJbDBl9P53P5azD4Pc XnQJXrqTG1MR8MhwpTVtum9xlS4DM26BCMonqMRCJ X-Gm-Gg: ASbGncs/ZZI1+PIQ6Gn1z7eBwKR12hF/lv8ukOEfRaeN4Zr52p2zUtF/A4Ru1gaLePL uX0mv50MQXeCFG2or7uvrv/ddpOSlvSMXJbWwMQ5IaBdct0YFv//ZrMaVlE9cpYVcRXYFYZb89p H46HAkNmlLaN/04m6wfYq687zxUtgzYAyKvgzyZ23AiWtUOIHMebUBvzaHrKIcMx7b0dqErKZdY xt3gAc0YJvmg/N4A8Sf87tiqubNA99Ye34IKofblkmcCwALvhe1T+KuSXrBxvCa04mr55q4kd3B ckt7+htvjEBzyNmtglhrWPDqMMnhIw== X-Google-Smtp-Source: AGHT+IFMkNQaPIBrUqStqUEUB68MBGRTfrPDjgsolFfaecnWAca6qYlMh1TKQEwnqfq6vN5Vk+ZIEAOQSH0L X-Received: by 2002:a05:6214:21cb:b0:6d8:96a6:ec22 with SMTP id 6a1803df08f44-6e42fbc98f5mr61952856d6.23.1738776515759; Wed, 05 Feb 2025 09:28:35 -0800 (PST) Received: from postal.iol.unh.edu (postal.iol.unh.edu. [132.177.123.84]) by smtp-relay.gmail.com with ESMTPS id 6a1803df08f44-6e254952438sm10292406d6.65.2025.02.05.09.28.35 (version=TLS1_2 cipher=ECDHE-ECDSA-AES128-GCM-SHA256 bits=128/128); Wed, 05 Feb 2025 09:28:35 -0800 (PST) X-Relaying-Domain: iol.unh.edu Date: Wed, 05 Feb 2025 09:28:35 -0800 (PST) Message-ID: <67a39fc3.050a0220.1fe4a2.fe99SMTPIN_ADDED_MISSING@mx.google.com> Received: from [172.21.0.17] (unknown [172.18.0.240]) by postal.iol.unh.edu (Postfix) with ESMTP id 7303B6052471; Wed, 5 Feb 2025 12:28:35 -0500 (EST) Subject: |SUCCESS| pw150098 [PATCH] [v0,1/1] common/cnxk: fix DPI mailbox str From: dpdklab@iol.unh.edu To: Test Report Cc: dpdk-test-reports@iol.unh.edu In-Reply-To: <20250115123654.1490937-1-vattunuru@marvell.com> References: <20250115123654.1490937-1-vattunuru@marvell.com> Content-Type: text/plain X-BeenThere: test-report@dpdk.org X-Mailman-Version: 2.1.29 Precedence: list List-Id: automatic DPDK test reports List-Unsubscribe: , List-Archive: List-Post: List-Help: List-Subscribe: , Errors-To: test-report-bounces@dpdk.org Test-Label: iol-compile-amd64-testing Test-Status: SUCCESS http://dpdk.org/patch/150098 _Testing PASS_ Submitter: Vamsi Krishna Attunuru Date: Wednesday, January 15 2025 12:36:54 DPDK git baseline: Repo:dpdk Branch: master CommitID:fd51012de5369679e807be1d6a81d63ef15015ce 150098 --> testing pass Test environment and result as below: +---------------------+--------------------+------------------+-------------------+-------------------+-------------------------+----------------------+ | Environment | dpdk_meson_compile | dpdk_compile_ovs | dpdk_compile_spdk | dpdk_msvc_compile | dpdk_llvm_clang_compile | dpdk_mingw64_compile | +=====================+====================+==================+===================+===================+=========================+======================+ | CentOS Stream 9 | PASS | PASS | PASS | SKIPPED | SKIPPED | SKIPPED | +---------------------+--------------------+------------------+-------------------+-------------------+-------------------------+----------------------+ | Debian Bullseye | PASS | PASS | PASS | SKIPPED | SKIPPED | SKIPPED | +---------------------+--------------------+------------------+-------------------+-------------------+-------------------------+----------------------+ | Debian 12 | PASS | PASS | PASS | SKIPPED | SKIPPED | SKIPPED | +---------------------+--------------------+------------------+-------------------+-------------------+-------------------------+----------------------+ | Fedora 40 | PASS | PASS | PASS | SKIPPED | SKIPPED | SKIPPED | +---------------------+--------------------+------------------+-------------------+-------------------+-------------------------+----------------------+ | Fedora 40 (Clang) | PASS | PASS | PASS | SKIPPED | SKIPPED | SKIPPED | +---------------------+--------------------+------------------+-------------------+-------------------+-------------------------+----------------------+ | Fedora 41 (Clang) | PASS | PASS | PASS | SKIPPED | SKIPPED | SKIPPED | +---------------------+--------------------+------------------+-------------------+-------------------+-------------------------+----------------------+ | Fedora 41 | PASS | PASS | PASS | SKIPPED | SKIPPED | SKIPPED | +---------------------+--------------------+------------------+-------------------+-------------------+-------------------------+----------------------+ | openSUSE Leap 15 | PASS | SKIPPED | SKIPPED | SKIPPED | SKIPPED | SKIPPED | +---------------------+--------------------+------------------+-------------------+-------------------+-------------------------+----------------------+ | RHEL8 | PASS | PASS | SKIPPED | SKIPPED | SKIPPED | SKIPPED | +---------------------+--------------------+------------------+-------------------+-------------------+-------------------------+----------------------+ | RHEL9 | PASS | PASS | SKIPPED | SKIPPED | SKIPPED | SKIPPED | +---------------------+--------------------+------------------+-------------------+-------------------+-------------------------+----------------------+ | Ubuntu 20.04 | PASS | SKIPPED | SKIPPED | SKIPPED | SKIPPED | SKIPPED | +---------------------+--------------------+------------------+-------------------+-------------------+-------------------------+----------------------+ | Ubuntu 22.04 | PASS | PASS | PASS | SKIPPED | SKIPPED | SKIPPED | +---------------------+--------------------+------------------+-------------------+-------------------+-------------------------+----------------------+ | Ubuntu 24.04 | PASS | PASS | PASS | SKIPPED | SKIPPED | SKIPPED | +---------------------+--------------------+------------------+-------------------+-------------------+-------------------------+----------------------+ | Alpine | PASS | PASS | SKIPPED | SKIPPED | SKIPPED | SKIPPED | +---------------------+--------------------+------------------+-------------------+-------------------+-------------------------+----------------------+ | FreeBSD 13.4 | PASS | SKIPPED | SKIPPED | SKIPPED | SKIPPED | SKIPPED | +---------------------+--------------------+------------------+-------------------+-------------------+-------------------------+----------------------+ | FreeBSD 14.2 | PASS | SKIPPED | SKIPPED | SKIPPED | SKIPPED | SKIPPED | +---------------------+--------------------+------------------+-------------------+-------------------+-------------------------+----------------------+ | Windows Server 2022 | SKIPPED | SKIPPED | SKIPPED | PASS | PASS | PASS | +---------------------+--------------------+------------------+-------------------+-------------------+-------------------------+----------------------+ CentOS Stream 9 Kernel: Depends on container host Compiler: gcc 11.5.0 20240719 (Red Hat 11.5.0-2) Debian Bullseye Kernel: Depends on container host Compiler: gcc (Debian 10.2.1-6) 10.2.1 20210110 Debian 12 Kernel: Depends on container host Compiler: gcc (Debian 12.2.0-14) 12.2.0 Fedora 40 Kernel: Depends on container host Compiler: gcc 14.2.1 20240912 (Red Hat 14.2.1-3) Fedora 40 (Clang) Kernel: Depends on container host Compiler: clang 18.1.8 (Fedora 18.1.8-1.fc40) Fedora 41 (Clang) Kernel: Depends on container host Compiler: clang 19.1.5 (Fedora 19.1.5-1.fc41) Fedora 41 Kernel: Depends on container host Compiler: gcc 14.2.1 20240912 (Red Hat 14.2.1-3) openSUSE Leap 15 Kernel: Depends on container host Compiler: gcc (SUSE Linux) 7.5.0 RHEL8 Kernel: Depends on container host Compiler: gcc 8.5.0 20210514 (Red Hat 8.5.0-22) RHEL9 Kernel: Depends on container host Compiler: gcc 11.5.0 20240719 (Red Hat 11.5.0-2) Ubuntu 20.04 Kernel: Depends on container host Compiler: gcc (Ubuntu 9.4.0-1ubuntu1~20.04.2) 9.4.0 Ubuntu 22.04 Kernel: Depends on container host Compiler: gcc (Ubuntu 11.4.0-1ubuntu1~22.04) 11.4.0 Ubuntu 24.04 Kernel: Depends on container host Compiler: gcc (Ubuntu 13.3.0-6ubuntu2~24.04) 13.3.0 Alpine Kernel: Depends on container host Compiler: gcc (Alpine 14.2.0) 14.2.0 FreeBSD 13.4 Kernel: 13.4-RELEASE-p1 Compiler: clang 18.1.6 FreeBSD 14.2 Kernel: 14.2-RELEASE Compiler: clang 18.1.6 Windows Server 2022 Kernel: 10.0.20348.2031 Compiler: clang 15.0.7, gcc 14.1.0 (MinGW), and MSVC VS 19.39.33521 To view detailed results, visit: https://lab.dpdk.org/results/dashboard/patchsets/32329/ UNH-IOL DPDK Community Lab To manage your email subscriptions, visit: https://lab.dpdk.org/results/dashboard/preferences/subscriptions/