From mboxrd@z Thu Jan 1 00:00:00 1970 Return-Path: Received: from mails.dpdk.org (mails.dpdk.org [217.70.189.124]) by inbox.dpdk.org (Postfix) with ESMTP id 13C66461A0 for ; Wed, 5 Feb 2025 18:28:44 +0100 (CET) Received: from mails.dpdk.org (localhost [127.0.0.1]) by mails.dpdk.org (Postfix) with ESMTP id 10032402E6; Wed, 5 Feb 2025 18:28:44 +0100 (CET) Received: from mail-io1-f99.google.com (mail-io1-f99.google.com [209.85.166.99]) by mails.dpdk.org (Postfix) with ESMTP id 9E639402E4 for ; Wed, 5 Feb 2025 18:28:42 +0100 (CET) Received: by mail-io1-f99.google.com with SMTP id ca18e2360f4ac-84a012f7232so31305439f.0 for ; Wed, 05 Feb 2025 09:28:42 -0800 (PST) DKIM-Signature: v=1; a=rsa-sha256; c=relaxed/relaxed; d=iol.unh.edu; s=unh-iol; t=1738776522; x=1739381322; darn=dpdk.org; h=references:in-reply-to:cc:to:from:subject:message-id:date:from:to :cc:subject:date:message-id:reply-to; bh=mUZ5dXXvJV/i1m4cFQZryjBRRMjDq41YqT7Q/Xhg29Q=; b=HL0r7/vGvbiUIrrIqZAxtaHdssMfByWnoUakzV9T7owkJhX+QOe5hI6QbGlkCh2UOY Tg6KXWbsJfLBwQCfR42WsdsPldog6hUBvNFAQ2vrNwdIXuXrKoIgQoC6Jn4TFuyeNroA 9cr2sDVc6ZoDBWIDdpGepOczr6yWc6o8I5pAg= X-Google-DKIM-Signature: v=1; a=rsa-sha256; c=relaxed/relaxed; d=1e100.net; s=20230601; t=1738776522; x=1739381322; h=references:in-reply-to:cc:to:from:subject:message-id:date :x-gm-message-state:from:to:cc:subject:date:message-id:reply-to; bh=mUZ5dXXvJV/i1m4cFQZryjBRRMjDq41YqT7Q/Xhg29Q=; b=cXLPcASH6inHWlh88v1t56MPYMOy2U5hXS7pwUAzhKcbFA+XPWWCkJrIh3uOGBLpVm xi9YKLY1lnmWnpLEeT5eamLF/pks6icEv06D1Mj4uZazRrIveu/+PfpIukmk7PZk5y2U jLrvN3RE2Ibyasu2HXXXxVpKtXCq2Oj2lJr7ESosF4r8vjWyTpoLCwuKSzhb8bGy9JLO H8V34xDPHy708GniImir53/y1/XcUSiRIswPi0wHLcNsL/jSa8MM3AJPwTO1xA3QHygv lZcbsmymZtbQhy8bsIlw2w8JpLKLCxQyCoUaJJYvIvBjmgxJoPblQ+z894Umwbd+NsBM Nk4w== X-Gm-Message-State: AOJu0Yw9u4sWpeq+llquAkjc9mlrlcJ81Aewj+Sib5qN9mY9SrRzDivC xOM33MqLRfAytdgBBs9whS8lL6TlhS8bl3b5jKpgdy3vR3GSluYOKN+PeK0kD0o3trQOmcT8rf9 GfdxjBzaaZJeNgxwmW8yArklp9kbOy4tTK1LtD5dz X-Gm-Gg: ASbGncv/535gD0iIKFvStGfN2K2/o0txv1Skc9K1oK3hzueBAJ2uDnxc/S29XOEvu+q NQgpeuF7ZLl20ijxeCW7DAb/Do4UW85m0jL+JwtAR3X1780AUvZ+LOtmTEp+wTADjbCuloCu3HJ c8oVOv9u69znCfTiNsl5KxSJXQY5ZUpVSRdenYBHDdWGgPnTiWwlCTfqfAtvk2Yx1ZgpJ8cSdzT 0SXl1HGpohc7ef8UI10cJgx5nUV35BhZ7Th/WYrHJSvXILfim8ZLIhtskOJ9iM07QqT9YLpY6W2 OoeJvvGnJGUQTwtzC48MevjhaiHWtg== X-Google-Smtp-Source: AGHT+IEWbZQwUstw07GoDKA1iqRTsE0Lt1lWj4gYsMBPdf53kFmhnYxgeTgnpZuHygBg/l0iDYAqmDtfM2/4 X-Received: by 2002:a6b:7719:0:b0:841:99cb:776f with SMTP id ca18e2360f4ac-854f3a4caa3mr15082639f.6.1738776521974; Wed, 05 Feb 2025 09:28:41 -0800 (PST) Received: from postal.iol.unh.edu (postal.iol.unh.edu. [132.177.123.84]) by smtp-relay.gmail.com with ESMTPS id 8926c6da1cb9f-4ec7469d8a9sm825292173.48.2025.02.05.09.28.41 (version=TLS1_2 cipher=ECDHE-ECDSA-AES128-GCM-SHA256 bits=128/128); Wed, 05 Feb 2025 09:28:41 -0800 (PST) X-Relaying-Domain: iol.unh.edu Date: Wed, 05 Feb 2025 09:28:41 -0800 (PST) Message-ID: <67a39fc9.050a0220.3d01d0.63b1SMTPIN_ADDED_MISSING@mx.google.com> Received: from [172.21.0.18] (unknown [172.18.0.240]) by postal.iol.unh.edu (Postfix) with ESMTP id 8103E6052471; Wed, 5 Feb 2025 12:28:41 -0500 (EST) Subject: |SUCCESS| pw150143-150144 [PATCH] [v1,2/2] dts: add verify to match From: dpdklab@iol.unh.edu To: Test Report Cc: dpdk-test-reports@iol.unh.edu In-Reply-To: <20250116131615.196053-3-thomas.wilks@arm.com> References: <20250116131615.196053-3-thomas.wilks@arm.com> Content-Type: text/plain X-BeenThere: test-report@dpdk.org X-Mailman-Version: 2.1.29 Precedence: list List-Id: automatic DPDK test reports List-Unsubscribe: , List-Archive: List-Post: List-Help: List-Subscribe: , Errors-To: test-report-bounces@dpdk.org Test-Label: iol-compile-amd64-testing Test-Status: SUCCESS http://dpdk.org/patch/150144 _Testing PASS_ Submitter: Thomas Wilks Date: Thursday, January 16 2025 13:16:15 DPDK git baseline: Repo:dpdk Branch: master CommitID:154303b06ab29e040000f0536961601d952e2974 150143-150144 --> testing pass Test environment and result as below: +---------------------+--------------------+------------------+-------------------+-------------------------+-------------------+----------------------+ | Environment | dpdk_meson_compile | dpdk_compile_ovs | dpdk_compile_spdk | dpdk_llvm_clang_compile | dpdk_msvc_compile | dpdk_mingw64_compile | +=====================+====================+==================+===================+=========================+===================+======================+ | CentOS Stream 9 | PASS | PASS | PASS | SKIPPED | SKIPPED | SKIPPED | +---------------------+--------------------+------------------+-------------------+-------------------------+-------------------+----------------------+ | Debian 12 | PASS | PASS | PASS | SKIPPED | SKIPPED | SKIPPED | +---------------------+--------------------+------------------+-------------------+-------------------------+-------------------+----------------------+ | Fedora 40 (Clang) | PASS | PASS | PASS | SKIPPED | SKIPPED | SKIPPED | +---------------------+--------------------+------------------+-------------------+-------------------------+-------------------+----------------------+ | Fedora 41 | PASS | PASS | PASS | SKIPPED | SKIPPED | SKIPPED | +---------------------+--------------------+------------------+-------------------+-------------------------+-------------------+----------------------+ | openSUSE Leap 15 | PASS | SKIPPED | SKIPPED | SKIPPED | SKIPPED | SKIPPED | +---------------------+--------------------+------------------+-------------------+-------------------------+-------------------+----------------------+ | Fedora 41 (Clang) | PASS | PASS | PASS | SKIPPED | SKIPPED | SKIPPED | +---------------------+--------------------+------------------+-------------------+-------------------------+-------------------+----------------------+ | Fedora 40 | PASS | PASS | PASS | SKIPPED | SKIPPED | SKIPPED | +---------------------+--------------------+------------------+-------------------+-------------------------+-------------------+----------------------+ | RHEL8 | PASS | PASS | SKIPPED | SKIPPED | SKIPPED | SKIPPED | +---------------------+--------------------+------------------+-------------------+-------------------------+-------------------+----------------------+ | RHEL9 | PASS | PASS | SKIPPED | SKIPPED | SKIPPED | SKIPPED | +---------------------+--------------------+------------------+-------------------+-------------------------+-------------------+----------------------+ | Ubuntu 22.04 | PASS | PASS | PASS | SKIPPED | SKIPPED | SKIPPED | +---------------------+--------------------+------------------+-------------------+-------------------------+-------------------+----------------------+ | Ubuntu 20.04 | PASS | SKIPPED | SKIPPED | SKIPPED | SKIPPED | SKIPPED | +---------------------+--------------------+------------------+-------------------+-------------------------+-------------------+----------------------+ | Ubuntu 24.04 | PASS | PASS | PASS | SKIPPED | SKIPPED | SKIPPED | +---------------------+--------------------+------------------+-------------------+-------------------------+-------------------+----------------------+ | Alpine | PASS | PASS | SKIPPED | SKIPPED | SKIPPED | SKIPPED | +---------------------+--------------------+------------------+-------------------+-------------------------+-------------------+----------------------+ | FreeBSD 13.4 | PASS | SKIPPED | SKIPPED | SKIPPED | SKIPPED | SKIPPED | +---------------------+--------------------+------------------+-------------------+-------------------------+-------------------+----------------------+ | FreeBSD 14.2 | PASS | SKIPPED | SKIPPED | SKIPPED | SKIPPED | SKIPPED | +---------------------+--------------------+------------------+-------------------+-------------------------+-------------------+----------------------+ | Debian Bullseye | PASS | PASS | PASS | SKIPPED | SKIPPED | SKIPPED | +---------------------+--------------------+------------------+-------------------+-------------------------+-------------------+----------------------+ | Windows Server 2022 | SKIPPED | SKIPPED | SKIPPED | PASS | PASS | PASS | +---------------------+--------------------+------------------+-------------------+-------------------------+-------------------+----------------------+ CentOS Stream 9 Kernel: Depends on container host Compiler: gcc 11.5.0 20240719 (Red Hat 11.5.0-2) Debian 12 Kernel: Depends on container host Compiler: gcc (Debian 12.2.0-14) 12.2.0 Fedora 40 (Clang) Kernel: Depends on container host Compiler: clang 18.1.8 (Fedora 18.1.8-1.fc40) Fedora 41 Kernel: Depends on container host Compiler: gcc 14.2.1 20240912 (Red Hat 14.2.1-3) openSUSE Leap 15 Kernel: Depends on container host Compiler: gcc (SUSE Linux) 7.5.0 Fedora 41 (Clang) Kernel: Depends on container host Compiler: clang 19.1.5 (Fedora 19.1.5-1.fc41) Fedora 40 Kernel: Depends on container host Compiler: gcc 14.2.1 20240912 (Red Hat 14.2.1-3) RHEL8 Kernel: Depends on container host Compiler: gcc 8.5.0 20210514 (Red Hat 8.5.0-22) RHEL9 Kernel: Depends on container host Compiler: gcc 11.5.0 20240719 (Red Hat 11.5.0-2) Ubuntu 22.04 Kernel: Depends on container host Compiler: gcc (Ubuntu 11.4.0-1ubuntu1~22.04) 11.4.0 Ubuntu 20.04 Kernel: Depends on container host Compiler: gcc (Ubuntu 9.4.0-1ubuntu1~20.04.2) 9.4.0 Ubuntu 24.04 Kernel: Depends on container host Compiler: gcc (Ubuntu 13.3.0-6ubuntu2~24.04) 13.3.0 Alpine Kernel: Depends on container host Compiler: gcc (Alpine 14.2.0) 14.2.0 FreeBSD 13.4 Kernel: 13.4-RELEASE-p1 Compiler: clang 18.1.6 FreeBSD 14.2 Kernel: 14.2-RELEASE Compiler: clang 18.1.6 Debian Bullseye Kernel: Depends on container host Compiler: gcc (Debian 10.2.1-6) 10.2.1 20210110 Windows Server 2022 Kernel: 10.0.20348.2031 Compiler: clang 15.0.7, gcc 14.1.0 (MinGW), and MSVC VS 19.39.33521 To view detailed results, visit: https://lab.dpdk.org/results/dashboard/patchsets/32343/ UNH-IOL DPDK Community Lab To manage your email subscriptions, visit: https://lab.dpdk.org/results/dashboard/preferences/subscriptions/