From mboxrd@z Thu Jan 1 00:00:00 1970 Return-Path: Received: from mails.dpdk.org (mails.dpdk.org [217.70.189.124]) by inbox.dpdk.org (Postfix) with ESMTP id 9799E461A0 for ; Wed, 5 Feb 2025 18:29:20 +0100 (CET) Received: from mails.dpdk.org (localhost [127.0.0.1]) by mails.dpdk.org (Postfix) with ESMTP id 90907402DC; Wed, 5 Feb 2025 18:29:20 +0100 (CET) Received: from mail-il1-f226.google.com (mail-il1-f226.google.com [209.85.166.226]) by mails.dpdk.org (Postfix) with ESMTP id 15F94402DA for ; Wed, 5 Feb 2025 18:29:18 +0100 (CET) Received: by mail-il1-f226.google.com with SMTP id e9e14a558f8ab-3d03ac846a7so10228685ab.2 for ; Wed, 05 Feb 2025 09:29:18 -0800 (PST) DKIM-Signature: v=1; a=rsa-sha256; c=relaxed/relaxed; d=iol.unh.edu; s=unh-iol; t=1738776557; x=1739381357; darn=dpdk.org; h=cc:to:from:subject:message-id:date:from:to:cc:subject:date :message-id:reply-to; bh=erDF+ZGhFPDIuE7GJX/hda8Ceq+QNgdyBpCrEXoJAvI=; b=Rg73iY9HUdxAcNd5kB0mwVpZtVw2qqLVjFPl9dKBlMem/vxwu4aiuOZ+mbURQdfLii N2pPVrczMF5XHNomUZU+kWlLBTgDk+imdufFzuXbcCFLnj0woe8CQAydDEQXPJW/MOzA g5pq0+NcZbY492aQltmX0gNfE4WVlxdadMbEo= X-Google-DKIM-Signature: v=1; a=rsa-sha256; c=relaxed/relaxed; d=1e100.net; s=20230601; t=1738776557; x=1739381357; h=cc:to:from:subject:message-id:date:x-gm-message-state:from:to:cc :subject:date:message-id:reply-to; bh=erDF+ZGhFPDIuE7GJX/hda8Ceq+QNgdyBpCrEXoJAvI=; b=czGP+DXH0xzvBe/wWFX/5sx2LmEl/CJ+JJladJjgtQxgnloMxANrfZGdn/Vuy9qIdB XUXJUjL0/kRLx1TdYhztBHIaZUZI6tDruVy2pO//jp1SWmgT3GIt2O+Agqh0zSV4hG04 y8WK5AUakludPC94UZzGbZXDOtyKp2LCEbb4qKIyau5+XeUb76B7uZfzMTE4V05x6can Jw9mQzQUREFSrk+TaQZSLY61eqyirQvLtW1ibIFyJNBk5yH2lSphHERsm+qV1yA4EOgA pA9/Y/sOsymbeSoanteZj9DevzXkzkfWN8Eo0W3mlTb/Xq+gAPzGAAXQTG83BzGYDI+Z yASQ== X-Gm-Message-State: AOJu0YzzhSwufEXZK3Uy/X2UN5mmDWLySLyTPFBpV8Qt49NfqhE4LNki vm1d0L4g6CphZuRiQIJrSciTmTXtjUyyUBMRdq3Zc1cpqdehNqbkB4uXsFZAcBbJJyR9USskRSp +FTnp2a1CR7UzCRp7eZq1DRI7MzFDcp3l3qiFi+ld9T718whM X-Gm-Gg: ASbGncsHyJHLGuVDNRZPZVvc520KY2rSHsskBvgk38Nw2zOBgdL/sv4t4z9Ps3Z44tk yzOl+I+msOyGAyDAqNIZzBpmOtfYLnMDJy/Asa//0rLB68oAbCrPvwAO6RYd0Nxpog+ytpKtan8 SqPRd3gW7BM5DWa9JW6XR1tpayghvHNtOmsBlRCHQ6BmwDSNpAyEaYf938h2XH/RU/svClOwLZA W8GKFgl5v5szbgLAHRyaSBcys9+Ez3ZWKUC4a/FGUB5xMnBzWYE/Gvq6ZJ/KPZPkFMGxvsQ8BIm 8PNadU3x7M972YAZaT+k+LZN/Z9H1kG/rhyMdA86Qw== X-Google-Smtp-Source: AGHT+IFIBpPho/P3MWRN2RPyIAqVtk8LKFtQPZdoNfYdfc6y/CzpRLxq6Jy0uc/QMU9s7m92QaBnunL3AEMn X-Received: by 2002:a05:6e02:b22:b0:3cf:fa94:cad with SMTP id e9e14a558f8ab-3d04f442d0dmr37054515ab.8.1738776557452; Wed, 05 Feb 2025 09:29:17 -0800 (PST) Received: from postal.iol.unh.edu (postal.iol.unh.edu. [2606:4100:3880:1234::84]) by smtp-relay.gmail.com with ESMTPS id 8926c6da1cb9f-4ec74591738sm827389173.10.2025.02.05.09.29.17 (version=TLS1_2 cipher=ECDHE-ECDSA-AES128-GCM-SHA256 bits=128/128); Wed, 05 Feb 2025 09:29:17 -0800 (PST) X-Relaying-Domain: iol.unh.edu Date: Wed, 05 Feb 2025 09:29:17 -0800 (PST) Message-ID: <67a39fed.050a0220.36395c.67ebSMTPIN_ADDED_MISSING@mx.google.com> Received: from [172.17.0.3] (unknown [172.18.0.213]) by postal.iol.unh.edu (Postfix) with ESMTP id 1B76E6052471; Wed, 5 Feb 2025 12:29:17 -0500 (EST) Subject: |SUCCESS| [GIT MASTER] f2eea2f37a82bb73fb01d56350708f7d70e21379 From: dpdklab@iol.unh.edu To: Test Report Cc: dpdk-test-reports@iol.unh.edu, Xueming Li , Christian Ehrhardt , Kevin Traynor , Luca Boccassi Content-Type: text/plain X-BeenThere: test-report@dpdk.org X-Mailman-Version: 2.1.29 Precedence: list List-Id: automatic DPDK test reports List-Unsubscribe: , List-Archive: List-Post: List-Help: List-Subscribe: , Errors-To: test-report-bounces@dpdk.org _Testing PASS_ Branch: tags/v24.11 f2eea2f37a82bb73fb01d56350708f7d70e21379 --> testing pass Test environment and result as below: +---------------------+--------------------+------------------+-------------------+-------------------------+-------------------+----------------------+ | Environment | dpdk_meson_compile | dpdk_compile_ovs | dpdk_compile_spdk | dpdk_llvm_clang_compile | dpdk_msvc_compile | dpdk_mingw64_compile | +=====================+====================+==================+===================+=========================+===================+======================+ | CentOS Stream 9 | PASS | PASS | PASS | SKIPPED | SKIPPED | SKIPPED | +---------------------+--------------------+------------------+-------------------+-------------------------+-------------------+----------------------+ | Debian Bullseye | PASS | PASS | PASS | SKIPPED | SKIPPED | SKIPPED | +---------------------+--------------------+------------------+-------------------+-------------------------+-------------------+----------------------+ | Debian 12 | PASS | PASS | PASS | SKIPPED | SKIPPED | SKIPPED | +---------------------+--------------------+------------------+-------------------+-------------------------+-------------------+----------------------+ | Fedora 40 (Clang) | PASS | PASS | PASS | SKIPPED | SKIPPED | SKIPPED | +---------------------+--------------------+------------------+-------------------+-------------------------+-------------------+----------------------+ | Fedora 41 (Clang) | PASS | PASS | PASS | SKIPPED | SKIPPED | SKIPPED | +---------------------+--------------------+------------------+-------------------+-------------------------+-------------------+----------------------+ | Fedora 41 | PASS | PASS | PASS | SKIPPED | SKIPPED | SKIPPED | +---------------------+--------------------+------------------+-------------------+-------------------------+-------------------+----------------------+ | RHEL8 | PASS | PASS | SKIPPED | SKIPPED | SKIPPED | SKIPPED | +---------------------+--------------------+------------------+-------------------+-------------------------+-------------------+----------------------+ | openSUSE Leap 15 | PASS | SKIPPED | SKIPPED | SKIPPED | SKIPPED | SKIPPED | +---------------------+--------------------+------------------+-------------------+-------------------------+-------------------+----------------------+ | Ubuntu 22.04 | PASS | PASS | PASS | SKIPPED | SKIPPED | SKIPPED | +---------------------+--------------------+------------------+-------------------+-------------------------+-------------------+----------------------+ | Ubuntu 20.04 | PASS | SKIPPED | SKIPPED | SKIPPED | SKIPPED | SKIPPED | +---------------------+--------------------+------------------+-------------------+-------------------------+-------------------+----------------------+ | RHEL9 | PASS | PASS | SKIPPED | SKIPPED | SKIPPED | SKIPPED | +---------------------+--------------------+------------------+-------------------+-------------------------+-------------------+----------------------+ | Ubuntu 24.04 | PASS | PASS | PASS | SKIPPED | SKIPPED | SKIPPED | +---------------------+--------------------+------------------+-------------------+-------------------------+-------------------+----------------------+ | Alpine | PASS | PASS | SKIPPED | SKIPPED | SKIPPED | SKIPPED | +---------------------+--------------------+------------------+-------------------+-------------------------+-------------------+----------------------+ | FreeBSD 13.4 | PASS | SKIPPED | SKIPPED | SKIPPED | SKIPPED | SKIPPED | +---------------------+--------------------+------------------+-------------------+-------------------------+-------------------+----------------------+ | FreeBSD 14.2 | PASS | SKIPPED | SKIPPED | SKIPPED | SKIPPED | SKIPPED | +---------------------+--------------------+------------------+-------------------+-------------------------+-------------------+----------------------+ | Fedora 40 | PASS | PASS | PASS | SKIPPED | SKIPPED | SKIPPED | +---------------------+--------------------+------------------+-------------------+-------------------------+-------------------+----------------------+ | Windows Server 2022 | SKIPPED | SKIPPED | SKIPPED | PASS | PASS | PASS | +---------------------+--------------------+------------------+-------------------+-------------------------+-------------------+----------------------+ CentOS Stream 9 Kernel: Depends on container host Compiler: gcc 11.5.0 20240719 (Red Hat 11.5.0-2) Debian Bullseye Kernel: Depends on container host Compiler: gcc (Debian 10.2.1-6) 10.2.1 20210110 Debian 12 Kernel: Depends on container host Compiler: gcc (Debian 12.2.0-14) 12.2.0 Fedora 40 (Clang) Kernel: Depends on container host Compiler: clang 18.1.8 (Fedora 18.1.8-1.fc40) Fedora 41 (Clang) Kernel: Depends on container host Compiler: clang 19.1.5 (Fedora 19.1.5-1.fc41) Fedora 41 Kernel: Depends on container host Compiler: gcc 14.2.1 20240912 (Red Hat 14.2.1-3) RHEL8 Kernel: Depends on container host Compiler: gcc 8.5.0 20210514 (Red Hat 8.5.0-22) openSUSE Leap 15 Kernel: Depends on container host Compiler: gcc (SUSE Linux) 7.5.0 Ubuntu 22.04 Kernel: Depends on container host Compiler: gcc (Ubuntu 11.4.0-1ubuntu1~22.04) 11.4.0 Ubuntu 20.04 Kernel: Depends on container host Compiler: gcc (Ubuntu 9.4.0-1ubuntu1~20.04.2) 9.4.0 RHEL9 Kernel: Depends on container host Compiler: gcc 11.5.0 20240719 (Red Hat 11.5.0-2) Ubuntu 24.04 Kernel: Depends on container host Compiler: gcc (Ubuntu 13.3.0-6ubuntu2~24.04) 13.3.0 Alpine Kernel: Depends on container host Compiler: gcc (Alpine 14.2.0) 14.2.0 FreeBSD 13.4 Kernel: 13.4-RELEASE-p1 Compiler: clang 18.1.6 FreeBSD 14.2 Kernel: 14.2-RELEASE Compiler: clang 18.1.6 Fedora 40 Kernel: Depends on container host Compiler: gcc 14.2.1 20240912 (Red Hat 14.2.1-3) Windows Server 2022 Kernel: 10.0.20348.2031 Compiler: clang 15.0.7, gcc 14.1.0 (MinGW), and MSVC VS 19.39.33521 To view detailed results, visit: https://lab.dpdk.org/results/dashboard/tarballs/32219/ UNH-IOL DPDK Community Lab To manage your email subscriptions, visit: https://lab.dpdk.org/results/dashboard/preferences/subscriptions/