From mboxrd@z Thu Jan 1 00:00:00 1970 Return-Path: Received: from mails.dpdk.org (mails.dpdk.org [217.70.189.124]) by inbox.dpdk.org (Postfix) with ESMTP id 31664461A0 for ; Wed, 5 Feb 2025 18:29:32 +0100 (CET) Received: from mails.dpdk.org (localhost [127.0.0.1]) by mails.dpdk.org (Postfix) with ESMTP id 27454402EF; Wed, 5 Feb 2025 18:29:32 +0100 (CET) Received: from mail-yb1-f227.google.com (mail-yb1-f227.google.com [209.85.219.227]) by mails.dpdk.org (Postfix) with ESMTP id E88DB402DA for ; Wed, 5 Feb 2025 18:29:29 +0100 (CET) Received: by mail-yb1-f227.google.com with SMTP id 3f1490d57ef6-e5b1c4b952dso1445276.0 for ; Wed, 05 Feb 2025 09:29:29 -0800 (PST) DKIM-Signature: v=1; a=rsa-sha256; c=relaxed/relaxed; d=iol.unh.edu; s=unh-iol; t=1738776569; x=1739381369; darn=dpdk.org; h=references:in-reply-to:cc:to:from:subject:message-id:date:from:to :cc:subject:date:message-id:reply-to; bh=kvx0oConQiwLtWmDLuxhR2vYQtYzj7xZO/RBbYW2ctE=; b=L2oQzK0w7rK18R4jMLfAxDa9FTFF5qmt6oBiu0pAOskKIBb0nZBkWNcTlquwHo5NZC s5VioPgrcpYRcoetTYeWXDaY6RHpC3q4+6FqPjlq1b814eM00HlBCN7ZEYNU86a3M9+s jzHgfx+XBCH/sE9bwcZZaEBVpj/lYfQszv7eM= X-Google-DKIM-Signature: v=1; a=rsa-sha256; c=relaxed/relaxed; d=1e100.net; s=20230601; t=1738776569; x=1739381369; h=references:in-reply-to:cc:to:from:subject:message-id:date :x-gm-message-state:from:to:cc:subject:date:message-id:reply-to; bh=kvx0oConQiwLtWmDLuxhR2vYQtYzj7xZO/RBbYW2ctE=; b=XLWtjajHDadBV8OWExIqp3ARIiXIJ5NTTY7yxLGff1nBg2NV0VnlsWtwMADlJHak2q JkqmkIHFUqO8AhCjRyLc/jjiE0Z4eDsj17FK0fOeHaaTPZGmMK9Ue0zkYvnaStvbo/cF 8uhsmRqEyvGNQIlqDX9ja0XIiGGemo57d+E9wL7n3dxb7ZAOI1kd9s/VfNrb1VYATNob cDrSU+NPcSkQGtH2AZxmNW1c9iw5dJUAMGb/qCMRz7Z2jJRUylnIuwbxXl1hamuZxlJQ Y4uNvDGHqF1f/clNN8pRmpVhEhlzTTfJxEiDSPT8rX9uM6zSt5xJ/9r2BugdVFVO7aBk gHow== X-Gm-Message-State: AOJu0YzpSTtTUQaaRSrV1cz8999q60TEnj2KuA5CicePryiMS+y+5+Rc CAv1AHBTnFufzDF3tyEwIIe82Qslehj5pOSPFCJN3NviJ6PpfM4sP1pdlYZs+07BhIaxKMQIVMW Eon1OalaP4xCrDE8N59st9X0zC0DIneLZ4RuKLVgq X-Gm-Gg: ASbGncu26EF7R+LKmsbIamBX+/2TRNHDxJHCSYTO46IdLtHmnltUcz00fjFmaulc1Kt TnTjfQSnWrlwDHF6XObfZRIDar+g4IBoqwSWewKzqD/WJvmfIKsAbbF3BI4/neLOpEQ8bDWmijv F+jZU73Zvnh1YNqioWLK58NJYIR3I74Ve/7FZlYIOtflCwZcwXKr/f1dUcyfAbDpGHNn+6bfpsX gqf0RMLSKzCFiDIAPfrxICsLzfizzxoZS8tzeKYit7LD2qoxIVkshJJRM1RHWGSUBcIHrGwCrRf BUAfLT3HuhufCM0wi5/Cvo3HNQ/+6A== X-Google-Smtp-Source: AGHT+IGDA5Pp/TQ1gX3srd965fElC/AdVWoEUDa9IQ1iGHqmSuKAAuQl9FN+TMj7DPOsj1p1lZ4u8mr1oLpI X-Received: by 2002:a05:6902:13c6:b0:e38:8263:7990 with SMTP id 3f1490d57ef6-e5b25c2131bmr3113910276.48.1738776569280; Wed, 05 Feb 2025 09:29:29 -0800 (PST) Received: from postal.iol.unh.edu (postal.iol.unh.edu. [132.177.123.84]) by smtp-relay.gmail.com with ESMTPS id 3f1490d57ef6-e5b35a5894fsm475276.16.2025.02.05.09.29.29 (version=TLS1_2 cipher=ECDHE-ECDSA-AES128-GCM-SHA256 bits=128/128); Wed, 05 Feb 2025 09:29:29 -0800 (PST) X-Relaying-Domain: iol.unh.edu Date: Wed, 05 Feb 2025 09:29:29 -0800 (PST) Message-ID: <67a39ff9.250a0220.1a784.0071SMTPIN_ADDED_MISSING@mx.google.com> Received: from [172.17.0.5] (unknown [172.18.0.217]) by postal.iol.unh.edu (Postfix) with ESMTP id EA7636052471; Wed, 5 Feb 2025 12:29:28 -0500 (EST) Subject: |SUCCESS| pw150115-150116 [PATCH] [v8,2/2] dts: port over dynamic co From: dpdklab@iol.unh.edu To: Test Report Cc: dpdk-test-reports@iol.unh.edu In-Reply-To: <20250115162959.12975-2-dmarx@iol.unh.edu> References: <20250115162959.12975-2-dmarx@iol.unh.edu> Content-Type: text/plain X-BeenThere: test-report@dpdk.org X-Mailman-Version: 2.1.29 Precedence: list List-Id: automatic DPDK test reports List-Unsubscribe: , List-Archive: List-Post: List-Help: List-Subscribe: , Errors-To: test-report-bounces@dpdk.org Test-Label: iol-compile-amd64-testing Test-Status: SUCCESS http://dpdk.org/patch/150116 _Testing PASS_ Submitter: Dean Marx Date: Wednesday, January 15 2025 16:29:59 DPDK git baseline: Repo:dpdk Branch: master CommitID:154303b06ab29e040000f0536961601d952e2974 150115-150116 --> testing pass Test environment and result as below: +---------------------+--------------------+------------------+-------------------+-------------------+-------------------------+----------------------+ | Environment | dpdk_meson_compile | dpdk_compile_ovs | dpdk_compile_spdk | dpdk_msvc_compile | dpdk_llvm_clang_compile | dpdk_mingw64_compile | +=====================+====================+==================+===================+===================+=========================+======================+ | CentOS Stream 9 | PASS | PASS | PASS | SKIPPED | SKIPPED | SKIPPED | +---------------------+--------------------+------------------+-------------------+-------------------+-------------------------+----------------------+ | Debian Bullseye | PASS | PASS | PASS | SKIPPED | SKIPPED | SKIPPED | +---------------------+--------------------+------------------+-------------------+-------------------+-------------------------+----------------------+ | Debian 12 | PASS | PASS | PASS | SKIPPED | SKIPPED | SKIPPED | +---------------------+--------------------+------------------+-------------------+-------------------+-------------------------+----------------------+ | Fedora 40 | PASS | PASS | PASS | SKIPPED | SKIPPED | SKIPPED | +---------------------+--------------------+------------------+-------------------+-------------------+-------------------------+----------------------+ | Fedora 40 (Clang) | PASS | PASS | PASS | SKIPPED | SKIPPED | SKIPPED | +---------------------+--------------------+------------------+-------------------+-------------------+-------------------------+----------------------+ | RHEL8 | PASS | PASS | SKIPPED | SKIPPED | SKIPPED | SKIPPED | +---------------------+--------------------+------------------+-------------------+-------------------+-------------------------+----------------------+ | Fedora 41 | PASS | PASS | PASS | SKIPPED | SKIPPED | SKIPPED | +---------------------+--------------------+------------------+-------------------+-------------------+-------------------------+----------------------+ | openSUSE Leap 15 | PASS | SKIPPED | SKIPPED | SKIPPED | SKIPPED | SKIPPED | +---------------------+--------------------+------------------+-------------------+-------------------+-------------------------+----------------------+ | Fedora 41 (Clang) | PASS | PASS | PASS | SKIPPED | SKIPPED | SKIPPED | +---------------------+--------------------+------------------+-------------------+-------------------+-------------------------+----------------------+ | Ubuntu 22.04 | PASS | PASS | PASS | SKIPPED | SKIPPED | SKIPPED | +---------------------+--------------------+------------------+-------------------+-------------------+-------------------------+----------------------+ | Ubuntu 24.04 | PASS | PASS | PASS | SKIPPED | SKIPPED | SKIPPED | +---------------------+--------------------+------------------+-------------------+-------------------+-------------------------+----------------------+ | Ubuntu 20.04 | PASS | SKIPPED | SKIPPED | SKIPPED | SKIPPED | SKIPPED | +---------------------+--------------------+------------------+-------------------+-------------------+-------------------------+----------------------+ | RHEL9 | PASS | PASS | SKIPPED | SKIPPED | SKIPPED | SKIPPED | +---------------------+--------------------+------------------+-------------------+-------------------+-------------------------+----------------------+ | Alpine | PASS | PASS | SKIPPED | SKIPPED | SKIPPED | SKIPPED | +---------------------+--------------------+------------------+-------------------+-------------------+-------------------------+----------------------+ | FreeBSD 14.2 | PASS | SKIPPED | SKIPPED | SKIPPED | SKIPPED | SKIPPED | +---------------------+--------------------+------------------+-------------------+-------------------+-------------------------+----------------------+ | FreeBSD 13.4 | PASS | SKIPPED | SKIPPED | SKIPPED | SKIPPED | SKIPPED | +---------------------+--------------------+------------------+-------------------+-------------------+-------------------------+----------------------+ | Windows Server 2022 | SKIPPED | SKIPPED | SKIPPED | PASS | PASS | PASS | +---------------------+--------------------+------------------+-------------------+-------------------+-------------------------+----------------------+ CentOS Stream 9 Kernel: Depends on container host Compiler: gcc 11.5.0 20240719 (Red Hat 11.5.0-2) Debian Bullseye Kernel: Depends on container host Compiler: gcc (Debian 10.2.1-6) 10.2.1 20210110 Debian 12 Kernel: Depends on container host Compiler: gcc (Debian 12.2.0-14) 12.2.0 Fedora 40 Kernel: Depends on container host Compiler: gcc 14.2.1 20240912 (Red Hat 14.2.1-3) Fedora 40 (Clang) Kernel: Depends on container host Compiler: clang 18.1.8 (Fedora 18.1.8-1.fc40) RHEL8 Kernel: Depends on container host Compiler: gcc 8.5.0 20210514 (Red Hat 8.5.0-22) Fedora 41 Kernel: Depends on container host Compiler: gcc 14.2.1 20240912 (Red Hat 14.2.1-3) openSUSE Leap 15 Kernel: Depends on container host Compiler: gcc (SUSE Linux) 7.5.0 Fedora 41 (Clang) Kernel: Depends on container host Compiler: clang 19.1.5 (Fedora 19.1.5-1.fc41) Ubuntu 22.04 Kernel: Depends on container host Compiler: gcc (Ubuntu 11.4.0-1ubuntu1~22.04) 11.4.0 Ubuntu 24.04 Kernel: Depends on container host Compiler: gcc (Ubuntu 13.3.0-6ubuntu2~24.04) 13.3.0 Ubuntu 20.04 Kernel: Depends on container host Compiler: gcc (Ubuntu 9.4.0-1ubuntu1~20.04.2) 9.4.0 RHEL9 Kernel: Depends on container host Compiler: gcc 11.5.0 20240719 (Red Hat 11.5.0-2) Alpine Kernel: Depends on container host Compiler: gcc (Alpine 14.2.0) 14.2.0 FreeBSD 14.2 Kernel: 14.2-RELEASE Compiler: clang 18.1.6 FreeBSD 13.4 Kernel: 13.4-RELEASE-p1 Compiler: clang 18.1.6 Windows Server 2022 Kernel: 10.0.20348.2031 Compiler: clang 15.0.7, gcc 14.1.0 (MinGW), and MSVC VS 19.39.33521 To view detailed results, visit: https://lab.dpdk.org/results/dashboard/patchsets/32336/ UNH-IOL DPDK Community Lab To manage your email subscriptions, visit: https://lab.dpdk.org/results/dashboard/preferences/subscriptions/