From mboxrd@z Thu Jan 1 00:00:00 1970 Return-Path: Received: from mails.dpdk.org (mails.dpdk.org [217.70.189.124]) by inbox.dpdk.org (Postfix) with ESMTP id 7FA98461A0 for ; Wed, 5 Feb 2025 18:30:04 +0100 (CET) Received: from mails.dpdk.org (localhost [127.0.0.1]) by mails.dpdk.org (Postfix) with ESMTP id 7CC91402DC; Wed, 5 Feb 2025 18:30:04 +0100 (CET) Received: from mail-pl1-f226.google.com (mail-pl1-f226.google.com [209.85.214.226]) by mails.dpdk.org (Postfix) with ESMTP id 4F270402DA for ; Wed, 5 Feb 2025 18:30:03 +0100 (CET) Received: by mail-pl1-f226.google.com with SMTP id d9443c01a7336-21f0b5d6c6eso113205ad.0 for ; Wed, 05 Feb 2025 09:30:03 -0800 (PST) DKIM-Signature: v=1; a=rsa-sha256; c=relaxed/relaxed; d=iol.unh.edu; s=unh-iol; t=1738776602; x=1739381402; darn=dpdk.org; h=cc:to:from:subject:message-id:date:from:to:cc:subject:date :message-id:reply-to; bh=QEXTPZZtzJrgdFTgeKUI9Tfbk0rSRpiXWmyU4uD0PU8=; b=hpWdZusX5SB/sbym+YRLz8NGGW3z/sPrRo908MnbtPk25nOmBfebLqSiysWGdatGfH MUf+tqUFYQ0wRXrj2IVA285oXZyGweO7V+rAcNuMKV7bDTgYmiZrddywpPEIvhRZ+jsQ RgeFI20PeYhIDAoNFN750MEJi4orX36HHjbrk= X-Google-DKIM-Signature: v=1; a=rsa-sha256; c=relaxed/relaxed; d=1e100.net; s=20230601; t=1738776602; x=1739381402; h=cc:to:from:subject:message-id:date:x-gm-message-state:from:to:cc :subject:date:message-id:reply-to; bh=QEXTPZZtzJrgdFTgeKUI9Tfbk0rSRpiXWmyU4uD0PU8=; b=ST7QCLq2Je6CQVw5XNBueoEDiWMOzYSHQUFxNtS8JOdrbuVBFX2dvK59OK7LTs5D59 u3X4yNPyj9xAuircB5cmggFxy9B8sYeH/sIYwaiH9QYEiq3oyq8fKr7FipJlHNqVPAS1 0E5uZpKN/G9iwNt3CIyQ5FU2eqqYfHEdUwfYOV228q4hfbSeO65IqmLxfb0oqFvHzOV0 a4L8lx00FTtQ64ex22ue/u7x80cU+NdkhxlhQzPpNUGoLSYs4+WjzhGTPIBrOz5QWLXV Ut9hwE6Khvy+GFy6HeBONupYxTsW7/U0rcO0x6oCoyQWedD3HN34CXBnZpneZYC7Vky9 F1lA== X-Gm-Message-State: AOJu0Yxag5LM/Ie1EHYCR3yNSYfOdmzeaDt2Y0EUlrNhPN2WP5ls6BeA c3yuVUHSw40BwTNEbZgJ8Znrif2qVQxFfQnpbp7u7onKJTYOWaGNTSOsznp36eod3xfA1OqWate ZDzay3Fkj6c/VAiDvVD67MtJ6c6lvLyVoL7LpjXIT X-Gm-Gg: ASbGnct7jwNOwEuaF8MhAKldTVHL1fR9nFzKE0xCBug2c/kpVJVoyqTxqOyzl6zPVU+ BcG63qSvWVJfik6Ykq+7spHrtpQ3hqceJpZl03ABNawkT4dhr2dtQGNtsgY+yQkDhQY95cQyyYs 3D8K4gy1iyQ9HFsbrIi2ArtrveHZ7cAkHxr+4kIXjSVHJ00UPngYmt+Ta/Bj3g2OPFRjtv1U7nc i8N8X/5M8jt0Lb9xLXCNjFIsgbfaMkKr1Lp+N41ThegqqZ4sPWf1IczSuqqkCsRBRfZbLKhLT2z Vc4qx5du0AbvdY30A/hE7VYkyNW7nQ== X-Google-Smtp-Source: AGHT+IEg2M5IKHCsC2dg4VGbW7H3Bk+vR2vYjgw18metktiGH2LQevi/i0TfZdWAwIhpNokoXrxC1YuBWCF+ X-Received: by 2002:a17:902:f60e:b0:215:742e:5cff with SMTP id d9443c01a7336-21f2f1a3d3dmr2346505ad.16.1738776602514; Wed, 05 Feb 2025 09:30:02 -0800 (PST) Received: from postal.iol.unh.edu (postal.iol.unh.edu. [132.177.123.84]) by smtp-relay.gmail.com with ESMTPS id d9443c01a7336-21f153494f8sm1424475ad.95.2025.02.05.09.30.02 (version=TLS1_2 cipher=ECDHE-ECDSA-AES128-GCM-SHA256 bits=128/128); Wed, 05 Feb 2025 09:30:02 -0800 (PST) X-Relaying-Domain: iol.unh.edu Date: Wed, 05 Feb 2025 09:30:02 -0800 (PST) Message-ID: <67a3a01a.170a0220.30a23c.6c87SMTPIN_ADDED_MISSING@mx.google.com> Received: from [172.21.0.5] (unknown [172.18.0.240]) by postal.iol.unh.edu (Postfix) with ESMTP id E968D6052471; Wed, 5 Feb 2025 12:30:01 -0500 (EST) Subject: |SUCCESS| [GIT MASTER] 167adc84d05c732af3c47dd569f152fa4ba234d6 From: dpdklab@iol.unh.edu To: Test Report Cc: dpdk-test-reports@iol.unh.edu, Stephen Hemminger Content-Type: text/plain X-BeenThere: test-report@dpdk.org X-Mailman-Version: 2.1.29 Precedence: list List-Id: automatic DPDK test reports List-Unsubscribe: , List-Archive: List-Post: List-Help: List-Subscribe: , Errors-To: test-report-bounces@dpdk.org _Testing PASS_ Branch: dpdk-next-net 167adc84d05c732af3c47dd569f152fa4ba234d6 --> testing pass Test environment and result as below: +---------------------+--------------------+-------------------+------------------+-------------------+-------------------------+----------------------+ | Environment | dpdk_meson_compile | dpdk_msvc_compile | dpdk_compile_ovs | dpdk_compile_spdk | dpdk_llvm_clang_compile | dpdk_mingw64_compile | +=====================+====================+===================+==================+===================+=========================+======================+ | FreeBSD 13.4 | PASS | SKIPPED | SKIPPED | SKIPPED | SKIPPED | SKIPPED | +---------------------+--------------------+-------------------+------------------+-------------------+-------------------------+----------------------+ | FreeBSD 14.2 | PASS | SKIPPED | SKIPPED | SKIPPED | SKIPPED | SKIPPED | +---------------------+--------------------+-------------------+------------------+-------------------+-------------------------+----------------------+ | CentOS Stream 9 | PASS | SKIPPED | PASS | PASS | SKIPPED | SKIPPED | +---------------------+--------------------+-------------------+------------------+-------------------+-------------------------+----------------------+ | Debian Bullseye | PASS | SKIPPED | PASS | PASS | SKIPPED | SKIPPED | +---------------------+--------------------+-------------------+------------------+-------------------+-------------------------+----------------------+ | Debian 12 | PASS | SKIPPED | PASS | PASS | SKIPPED | SKIPPED | +---------------------+--------------------+-------------------+------------------+-------------------+-------------------------+----------------------+ | Fedora 40 (Clang) | PASS | SKIPPED | PASS | PASS | SKIPPED | SKIPPED | +---------------------+--------------------+-------------------+------------------+-------------------+-------------------------+----------------------+ | Fedora 40 | PASS | SKIPPED | PASS | PASS | SKIPPED | SKIPPED | +---------------------+--------------------+-------------------+------------------+-------------------+-------------------------+----------------------+ | Fedora 41 (Clang) | PASS | SKIPPED | PASS | PASS | SKIPPED | SKIPPED | +---------------------+--------------------+-------------------+------------------+-------------------+-------------------------+----------------------+ | Fedora 41 | PASS | SKIPPED | PASS | PASS | SKIPPED | SKIPPED | +---------------------+--------------------+-------------------+------------------+-------------------+-------------------------+----------------------+ | openSUSE Leap 15 | PASS | SKIPPED | SKIPPED | SKIPPED | SKIPPED | SKIPPED | +---------------------+--------------------+-------------------+------------------+-------------------+-------------------------+----------------------+ | RHEL8 | PASS | SKIPPED | PASS | SKIPPED | SKIPPED | SKIPPED | +---------------------+--------------------+-------------------+------------------+-------------------+-------------------------+----------------------+ | RHEL9 | PASS | SKIPPED | PASS | SKIPPED | SKIPPED | SKIPPED | +---------------------+--------------------+-------------------+------------------+-------------------+-------------------------+----------------------+ | Ubuntu 20.04 | PASS | SKIPPED | SKIPPED | SKIPPED | SKIPPED | SKIPPED | +---------------------+--------------------+-------------------+------------------+-------------------+-------------------------+----------------------+ | Ubuntu 22.04 | PASS | SKIPPED | PASS | PASS | SKIPPED | SKIPPED | +---------------------+--------------------+-------------------+------------------+-------------------+-------------------------+----------------------+ | Ubuntu 24.04 | PASS | SKIPPED | PASS | PASS | SKIPPED | SKIPPED | +---------------------+--------------------+-------------------+------------------+-------------------+-------------------------+----------------------+ | Alpine | PASS | SKIPPED | PASS | SKIPPED | SKIPPED | SKIPPED | +---------------------+--------------------+-------------------+------------------+-------------------+-------------------------+----------------------+ | Windows Server 2022 | SKIPPED | PASS | SKIPPED | SKIPPED | PASS | PASS | +---------------------+--------------------+-------------------+------------------+-------------------+-------------------------+----------------------+ FreeBSD 13.4 Kernel: 13.4-RELEASE-p1 Compiler: clang 18.1.6 FreeBSD 14.2 Kernel: 14.2-RELEASE Compiler: clang 18.1.6 CentOS Stream 9 Kernel: Depends on container host Compiler: gcc 11.5.0 20240719 (Red Hat 11.5.0-2) Debian Bullseye Kernel: Depends on container host Compiler: gcc (Debian 10.2.1-6) 10.2.1 20210110 Debian 12 Kernel: Depends on container host Compiler: gcc (Debian 12.2.0-14) 12.2.0 Fedora 40 (Clang) Kernel: Depends on container host Compiler: clang 18.1.8 (Fedora 18.1.8-1.fc40) Fedora 40 Kernel: Depends on container host Compiler: gcc 14.2.1 20240912 (Red Hat 14.2.1-3) Fedora 41 (Clang) Kernel: Depends on container host Compiler: clang 19.1.5 (Fedora 19.1.5-1.fc41) Fedora 41 Kernel: Depends on container host Compiler: gcc 14.2.1 20240912 (Red Hat 14.2.1-3) openSUSE Leap 15 Kernel: Depends on container host Compiler: gcc (SUSE Linux) 7.5.0 RHEL8 Kernel: Depends on container host Compiler: gcc 8.5.0 20210514 (Red Hat 8.5.0-22) RHEL9 Kernel: Depends on container host Compiler: gcc 11.5.0 20240719 (Red Hat 11.5.0-2) Ubuntu 20.04 Kernel: Depends on container host Compiler: gcc (Ubuntu 9.4.0-1ubuntu1~20.04.2) 9.4.0 Ubuntu 22.04 Kernel: Depends on container host Compiler: gcc (Ubuntu 11.4.0-1ubuntu1~22.04) 11.4.0 Ubuntu 24.04 Kernel: Depends on container host Compiler: gcc (Ubuntu 13.3.0-6ubuntu2~24.04) 13.3.0 Alpine Kernel: Depends on container host Compiler: gcc (Alpine 14.2.0) 14.2.0 Windows Server 2022 Kernel: 10.0.20348.2031 Compiler: clang 15.0.7, gcc 14.1.0 (MinGW), and MSVC VS 19.39.33521 To view detailed results, visit: https://lab.dpdk.org/results/dashboard/tarballs/32204/ UNH-IOL DPDK Community Lab To manage your email subscriptions, visit: https://lab.dpdk.org/results/dashboard/preferences/subscriptions/