From mboxrd@z Thu Jan 1 00:00:00 1970 Return-Path: Received: from mails.dpdk.org (mails.dpdk.org [217.70.189.124]) by inbox.dpdk.org (Postfix) with ESMTP id 89E3B461A0 for ; Wed, 5 Feb 2025 18:30:08 +0100 (CET) Received: from mails.dpdk.org (localhost [127.0.0.1]) by mails.dpdk.org (Postfix) with ESMTP id 86D9B402DC; Wed, 5 Feb 2025 18:30:08 +0100 (CET) Received: from mail-pl1-f226.google.com (mail-pl1-f226.google.com [209.85.214.226]) by mails.dpdk.org (Postfix) with ESMTP id C1CAF402DA for ; Wed, 5 Feb 2025 18:30:07 +0100 (CET) Received: by mail-pl1-f226.google.com with SMTP id d9443c01a7336-21c2f1b610dso1932665ad.0 for ; Wed, 05 Feb 2025 09:30:07 -0800 (PST) DKIM-Signature: v=1; a=rsa-sha256; c=relaxed/relaxed; d=iol.unh.edu; s=unh-iol; t=1738776607; x=1739381407; darn=dpdk.org; h=references:in-reply-to:cc:to:from:subject:message-id:date:from:to :cc:subject:date:message-id:reply-to; bh=CKo2HrbzpL0A42peU1WKn5v5BFJBYKcLe4ep5aK9v/M=; b=Qrfrcbu7JJDm4NjQ11hhLK4JUe+HnBkChx9MU+D/RXdY59CtJ06g62whOrTvLOVKZi UAbEt9BuuZQkHKILryHXcCrTOTbINi7aV0nX8RTcXGgeXqLslscVsbQMqrpDuvf8Oxcy o4GMu/yTnbeGj0s9/CaZVJw/30QF9tZKh4ZFY= X-Google-DKIM-Signature: v=1; a=rsa-sha256; c=relaxed/relaxed; d=1e100.net; s=20230601; t=1738776607; x=1739381407; h=references:in-reply-to:cc:to:from:subject:message-id:date :x-gm-message-state:from:to:cc:subject:date:message-id:reply-to; bh=CKo2HrbzpL0A42peU1WKn5v5BFJBYKcLe4ep5aK9v/M=; b=wzv9M+/btviKMwPxKbyyVWmesNtXlySQmv6uLTN9Z50GnO0PiLHIzOfjBI7qICGFcZ lFHNNf2t4kLzFJGxGERfkn7cOxuHwqvYOfg5dNKjrc/ri9f13WOpotQ9wrp05TgSSB5N N6E/NZZCA1YUyJcZijZ+4d0XYCtxgGyt5PLmHeX1uvnj4168mBz93ojKFzsgBzAIB1lw BSP/kzGcVbq0/NnXk41vCHquWgWEVuHQ9OYL7xpxmz8VQglflsyhSS3x2cj3MCtjvH8J RPiiRDbWMFAPflISb1HwXXCoa5V1QI1G/loInJzkZ8fNLjg81MteBpak7J9jrs44ZlYl Brpg== X-Gm-Message-State: AOJu0YyGnuH3UyKO6Mr6cqsn4tTuu1d5iA2cJRwGLCStk9AaSP8VeMqG Fk9fwny4rebBYQLCY4og0CEukd3M7mE/Vn5j3vhY6MzPY2KUENH5z+ob4EZlkH5as1mSUuDw46Y ArolPvnrV/MTCguS60A5WaYRqDid252NemHOnYsCH7PbkI3ThQX2p2Ba7 X-Gm-Gg: ASbGncsXprHfiYm7FiJ7Lenw22ZcGPHhuX8eKDepPDa3NtFmCER+oG64mCKB3qDGI9S t7NDvEG4UdCSHsJ6rdKdNnLv1TYt6t2fa0LdtydtXIWBDKk3/UE+O//6FQa6q2Hpi5pjp+3fRoE r36RMoepr+okSJYcgjHy7eG17s2Ox53U9L9nKeAxLThcMs6FnfaQ2EKxX2CfSM4OeOIoYmIZRsy 3wp7TsEwqRPRgKmZJU0HcxPm0LuA4r1gMo2rDk8HW2Oiy79wHGQ4mZsqhz5kIm91E78vQWU71Sr 13OKky/DRivJvy/jBWorCEaCE6Jao/euxXDr2Ia/Sw== X-Google-Smtp-Source: AGHT+IFp9pcfvvIucTTCubHfkUomYOlENRz2mAJ7aCAP/xjoPiend219Wk3vs1iLgEYoP39/ceKALh2kWjwO X-Received: by 2002:a17:903:990:b0:21f:dc3:8901 with SMTP id d9443c01a7336-21f17ec7badmr62484445ad.34.1738776606977; Wed, 05 Feb 2025 09:30:06 -0800 (PST) Received: from postal.iol.unh.edu (postal.iol.unh.edu. [2606:4100:3880:1234::84]) by smtp-relay.gmail.com with ESMTPS id 98e67ed59e1d1-2f9e1d8c174sm168983a91.7.2025.02.05.09.30.06 (version=TLS1_2 cipher=ECDHE-ECDSA-AES128-GCM-SHA256 bits=128/128); Wed, 05 Feb 2025 09:30:06 -0800 (PST) X-Relaying-Domain: iol.unh.edu Date: Wed, 05 Feb 2025 09:30:06 -0800 (PST) Message-ID: <67a3a01e.170a0220.2b3dca.710cSMTPIN_ADDED_MISSING@mx.google.com> Received: from [172.17.0.5] (unknown [172.18.0.215]) by postal.iol.unh.edu (Postfix) with ESMTP id 59B596052471; Wed, 5 Feb 2025 12:30:06 -0500 (EST) Subject: |SUCCESS| pw150145 [PATCH] net/af_packet: provide packet drop stats From: dpdklab@iol.unh.edu To: Test Report Cc: dpdk-test-reports@iol.unh.edu In-Reply-To: <20250116161703.917279-1-stefan.laesser@omicronenergy.com> References: <20250116161703.917279-1-stefan.laesser@omicronenergy.com> Content-Type: text/plain X-BeenThere: test-report@dpdk.org X-Mailman-Version: 2.1.29 Precedence: list List-Id: automatic DPDK test reports List-Unsubscribe: , List-Archive: List-Post: List-Help: List-Subscribe: , Errors-To: test-report-bounces@dpdk.org Test-Label: iol-compile-amd64-testing Test-Status: SUCCESS http://dpdk.org/patch/150145 _Testing PASS_ Submitter: Stefan Laesser Date: Thursday, January 16 2025 16:17:03 DPDK git baseline: Repo:dpdk Branch: master CommitID:167adc84d05c732af3c47dd569f152fa4ba234d6 150145 --> testing pass Test environment and result as below: +---------------------+--------------------+------------------+-------------------+-------------------+-------------------------+----------------------+ | Environment | dpdk_meson_compile | dpdk_compile_ovs | dpdk_compile_spdk | dpdk_msvc_compile | dpdk_llvm_clang_compile | dpdk_mingw64_compile | +=====================+====================+==================+===================+===================+=========================+======================+ | CentOS Stream 9 | PASS | PASS | PASS | SKIPPED | SKIPPED | SKIPPED | +---------------------+--------------------+------------------+-------------------+-------------------+-------------------------+----------------------+ | Debian 12 | PASS | PASS | PASS | SKIPPED | SKIPPED | SKIPPED | +---------------------+--------------------+------------------+-------------------+-------------------+-------------------------+----------------------+ | Debian Bullseye | PASS | PASS | PASS | SKIPPED | SKIPPED | SKIPPED | +---------------------+--------------------+------------------+-------------------+-------------------+-------------------------+----------------------+ | Fedora 40 | PASS | PASS | PASS | SKIPPED | SKIPPED | SKIPPED | +---------------------+--------------------+------------------+-------------------+-------------------+-------------------------+----------------------+ | Fedora 40 (Clang) | PASS | PASS | PASS | SKIPPED | SKIPPED | SKIPPED | +---------------------+--------------------+------------------+-------------------+-------------------+-------------------------+----------------------+ | Fedora 41 (Clang) | PASS | PASS | PASS | SKIPPED | SKIPPED | SKIPPED | +---------------------+--------------------+------------------+-------------------+-------------------+-------------------------+----------------------+ | Fedora 41 | PASS | PASS | PASS | SKIPPED | SKIPPED | SKIPPED | +---------------------+--------------------+------------------+-------------------+-------------------+-------------------------+----------------------+ | openSUSE Leap 15 | PASS | SKIPPED | SKIPPED | SKIPPED | SKIPPED | SKIPPED | +---------------------+--------------------+------------------+-------------------+-------------------+-------------------------+----------------------+ | RHEL8 | PASS | PASS | SKIPPED | SKIPPED | SKIPPED | SKIPPED | +---------------------+--------------------+------------------+-------------------+-------------------+-------------------------+----------------------+ | RHEL9 | PASS | PASS | SKIPPED | SKIPPED | SKIPPED | SKIPPED | +---------------------+--------------------+------------------+-------------------+-------------------+-------------------------+----------------------+ | Ubuntu 24.04 | PASS | PASS | PASS | SKIPPED | SKIPPED | SKIPPED | +---------------------+--------------------+------------------+-------------------+-------------------+-------------------------+----------------------+ | Ubuntu 20.04 | PASS | SKIPPED | SKIPPED | SKIPPED | SKIPPED | SKIPPED | +---------------------+--------------------+------------------+-------------------+-------------------+-------------------------+----------------------+ | FreeBSD 13.4 | PASS | SKIPPED | SKIPPED | SKIPPED | SKIPPED | SKIPPED | +---------------------+--------------------+------------------+-------------------+-------------------+-------------------------+----------------------+ | Alpine | PASS | PASS | SKIPPED | SKIPPED | SKIPPED | SKIPPED | +---------------------+--------------------+------------------+-------------------+-------------------+-------------------------+----------------------+ | FreeBSD 14.2 | PASS | SKIPPED | SKIPPED | SKIPPED | SKIPPED | SKIPPED | +---------------------+--------------------+------------------+-------------------+-------------------+-------------------------+----------------------+ | Ubuntu 22.04 | PASS | PASS | PASS | SKIPPED | SKIPPED | SKIPPED | +---------------------+--------------------+------------------+-------------------+-------------------+-------------------------+----------------------+ | Windows Server 2022 | SKIPPED | SKIPPED | SKIPPED | PASS | PASS | PASS | +---------------------+--------------------+------------------+-------------------+-------------------+-------------------------+----------------------+ CentOS Stream 9 Kernel: Depends on container host Compiler: gcc 11.5.0 20240719 (Red Hat 11.5.0-2) Debian 12 Kernel: Depends on container host Compiler: gcc (Debian 12.2.0-14) 12.2.0 Debian Bullseye Kernel: Depends on container host Compiler: gcc (Debian 10.2.1-6) 10.2.1 20210110 Fedora 40 Kernel: Depends on container host Compiler: gcc 14.2.1 20240912 (Red Hat 14.2.1-3) Fedora 40 (Clang) Kernel: Depends on container host Compiler: clang 18.1.8 (Fedora 18.1.8-1.fc40) Fedora 41 (Clang) Kernel: Depends on container host Compiler: clang 19.1.5 (Fedora 19.1.5-1.fc41) Fedora 41 Kernel: Depends on container host Compiler: gcc 14.2.1 20240912 (Red Hat 14.2.1-3) openSUSE Leap 15 Kernel: Depends on container host Compiler: gcc (SUSE Linux) 7.5.0 RHEL8 Kernel: Depends on container host Compiler: gcc 8.5.0 20210514 (Red Hat 8.5.0-22) RHEL9 Kernel: Depends on container host Compiler: gcc 11.5.0 20240719 (Red Hat 11.5.0-2) Ubuntu 24.04 Kernel: Depends on container host Compiler: gcc (Ubuntu 13.3.0-6ubuntu2~24.04) 13.3.0 Ubuntu 20.04 Kernel: Depends on container host Compiler: gcc (Ubuntu 9.4.0-1ubuntu1~20.04.2) 9.4.0 FreeBSD 13.4 Kernel: 13.4-RELEASE-p1 Compiler: clang 18.1.6 Alpine Kernel: Depends on container host Compiler: gcc (Alpine 14.2.0) 14.2.0 FreeBSD 14.2 Kernel: 14.2-RELEASE Compiler: clang 18.1.6 Ubuntu 22.04 Kernel: Depends on container host Compiler: gcc (Ubuntu 11.4.0-1ubuntu1~22.04) 11.4.0 Windows Server 2022 Kernel: 10.0.20348.2031 Compiler: clang 15.0.7, gcc 14.1.0 (MinGW), and MSVC VS 19.39.33521 To view detailed results, visit: https://lab.dpdk.org/results/dashboard/patchsets/32344/ UNH-IOL DPDK Community Lab To manage your email subscriptions, visit: https://lab.dpdk.org/results/dashboard/preferences/subscriptions/