From mboxrd@z Thu Jan 1 00:00:00 1970 Return-Path: Received: from mails.dpdk.org (mails.dpdk.org [217.70.189.124]) by inbox.dpdk.org (Postfix) with ESMTP id 03DC8461A0 for ; Wed, 5 Feb 2025 18:31:21 +0100 (CET) Received: from mails.dpdk.org (localhost [127.0.0.1]) by mails.dpdk.org (Postfix) with ESMTP id 00CCA402E4; Wed, 5 Feb 2025 18:31:21 +0100 (CET) Received: from mail-oa1-f98.google.com (mail-oa1-f98.google.com [209.85.160.98]) by mails.dpdk.org (Postfix) with ESMTP id 1365E402DC for ; Wed, 5 Feb 2025 18:31:20 +0100 (CET) Received: by mail-oa1-f98.google.com with SMTP id 586e51a60fabf-2a01bcd0143so4688022fac.2 for ; Wed, 05 Feb 2025 09:31:20 -0800 (PST) DKIM-Signature: v=1; a=rsa-sha256; c=relaxed/relaxed; d=iol.unh.edu; s=unh-iol; t=1738776679; x=1739381479; darn=dpdk.org; h=references:in-reply-to:cc:to:from:subject:message-id:date:from:to :cc:subject:date:message-id:reply-to; bh=PH/XHCD4t1Ra1EsH7xVamNZOdl+pkVGoQquBhwY+E0o=; b=d5gAZK9CLUwwAaR1bqHLsWypc7+RSXPhAUHb7a27Ls/M5IRYJku1ZuFov+/gAuIAsV Q7sOikTWQBoGpskzJY6pMeem0VrVRuAzqAbDDGIZtLQuWlYiVl5t/pNLaseXcp2kOuNh 8c7GrZQsIKlbGk2TVAIZtVzaLOsQM/YMddjMk= X-Google-DKIM-Signature: v=1; a=rsa-sha256; c=relaxed/relaxed; d=1e100.net; s=20230601; t=1738776679; x=1739381479; h=references:in-reply-to:cc:to:from:subject:message-id:date :x-gm-message-state:from:to:cc:subject:date:message-id:reply-to; bh=PH/XHCD4t1Ra1EsH7xVamNZOdl+pkVGoQquBhwY+E0o=; b=wEm+bcbqOv76MMcqGal/RjIjX22D2AZdR+boc1CFRPOwJBhG27rCsYpkJVytYJA4tT MOzwOflQKFeBervjwTvQSCv4rjfw+z7Sy3KaTtOXd7IaJBJH6zIAhEcLIlxWN8iHCHhN Sje85rafqU5AVguYZ8K7j8hGnPdtfgxVnfztOE20tkFMcUTiJNWy8i3A0eV1+MgG8ZwV I3Dcyn3OIQV3LJneeHo/YuuQkHm8OmpIIj9DQ+rtcnflYKo7txCHaJP0HvhZPfWPkb8/ dqF+Fv39KU0bZq7Kd/kbkZzFmvntwCHttGqjhbNjMu8mSanrm7XSHsbIw8Z9wOBwbyRd s2zA== X-Gm-Message-State: AOJu0Yy3kgFuQcNIfhECUEJfjhZaTULwCqs6SnhQwSnc9cXOD6V5FXRc R0hvIS95cL3XAl6F4IG8dtp1q8nkEPZkLTSJhqdR0gHAJA76+dpRoHm0d8GsBIG4rpTl54iSrYN qbSz1qs+m5aLScqFvS4oKNe2DQ1iBwn9tMst78w5y X-Gm-Gg: ASbGncv67+0JvjsjTc101BD6fQ7AhHBAupRIYLaZMQLYB7BiTOwdKoWmwNI+eoEeHRK zHmcwI4fva8wB8foUAvZSslqnzmjusLEB4q/7cfoIImUwzWsJm4KeoHT3qwcyntksNpq2GC+R25 2Hus87+PfFFQqjJfq65gaTBwbJqH8GBhqujUJR+C5z2dNfgJzpKSaMxBplitr0yT83tlOiBpjzO CV2+2r4zuSWoy82Iv2aZNpt28j98AXmcmTqnJEMh4+heC47jznxVGhEjVOKv1paEaTtAW1fqNhJ nka6qcqjTCajl8/2QY/1GEZ4ASe9Iw== X-Google-Smtp-Source: AGHT+IF3s4TB0T7JX7Lbb1IuiWkQc+AqW/TVeTLmlIbxupMxKVBp0JSbZ8LsFh9rVlY7NBzpVOR3SNIftHt1 X-Received: by 2002:a05:6870:9123:b0:29e:392d:afc8 with SMTP id 586e51a60fabf-2b804f4f5femr2243250fac.15.1738776679482; Wed, 05 Feb 2025 09:31:19 -0800 (PST) Received: from postal.iol.unh.edu (postal.iol.unh.edu. [132.177.123.84]) by smtp-relay.gmail.com with ESMTPS id 586e51a60fabf-2b3565afffasm988491fac.28.2025.02.05.09.31.19 (version=TLS1_2 cipher=ECDHE-ECDSA-AES128-GCM-SHA256 bits=128/128); Wed, 05 Feb 2025 09:31:19 -0800 (PST) X-Relaying-Domain: iol.unh.edu Date: Wed, 05 Feb 2025 09:31:19 -0800 (PST) Message-ID: <67a3a067.050a0220.255763.e91eSMTPIN_ADDED_MISSING@mx.google.com> Received: from [172.17.0.4] (unknown [172.18.0.217]) by postal.iol.unh.edu (Postfix) with ESMTP id F3B1A6052471; Wed, 5 Feb 2025 12:31:18 -0500 (EST) Subject: |SUCCESS| pw149929-149930 [PATCH] [v1,2/2] ethdev: fix skip valid po From: dpdklab@iol.unh.edu To: Test Report Cc: dpdk-test-reports@iol.unh.edu In-Reply-To: <20250113025521.32703-3-lihuisong@huawei.com> References: <20250113025521.32703-3-lihuisong@huawei.com> Content-Type: text/plain X-BeenThere: test-report@dpdk.org X-Mailman-Version: 2.1.29 Precedence: list List-Id: automatic DPDK test reports List-Unsubscribe: , List-Archive: List-Post: List-Help: List-Subscribe: , Errors-To: test-report-bounces@dpdk.org Test-Label: iol-compile-amd64-testing Test-Status: SUCCESS http://dpdk.org/patch/149930 _Testing PASS_ Submitter: Huisong Li Date: Monday, January 13 2025 02:55:21 DPDK git baseline: Repo:dpdk Branch: master CommitID:3779f70292c6b3c8fa23e6ca682876506bb08883 149929-149930 --> testing pass Test environment and result as below: +---------------------+--------------------+------------------+-------------------+-------------------+-------------------------+----------------------+ | Environment | dpdk_meson_compile | dpdk_compile_ovs | dpdk_compile_spdk | dpdk_msvc_compile | dpdk_llvm_clang_compile | dpdk_mingw64_compile | +=====================+====================+==================+===================+===================+=========================+======================+ | CentOS Stream 9 | PASS | PASS | PASS | SKIPPED | SKIPPED | SKIPPED | +---------------------+--------------------+------------------+-------------------+-------------------+-------------------------+----------------------+ | Debian Bullseye | PASS | PASS | PASS | SKIPPED | SKIPPED | SKIPPED | +---------------------+--------------------+------------------+-------------------+-------------------+-------------------------+----------------------+ | Debian 12 | PASS | PASS | PASS | SKIPPED | SKIPPED | SKIPPED | +---------------------+--------------------+------------------+-------------------+-------------------+-------------------------+----------------------+ | Fedora 40 (Clang) | PASS | PASS | PASS | SKIPPED | SKIPPED | SKIPPED | +---------------------+--------------------+------------------+-------------------+-------------------+-------------------------+----------------------+ | Fedora 41 (Clang) | PASS | PASS | PASS | SKIPPED | SKIPPED | SKIPPED | +---------------------+--------------------+------------------+-------------------+-------------------+-------------------------+----------------------+ | Fedora 40 | PASS | PASS | PASS | SKIPPED | SKIPPED | SKIPPED | +---------------------+--------------------+------------------+-------------------+-------------------+-------------------------+----------------------+ | RHEL9 | PASS | PASS | SKIPPED | SKIPPED | SKIPPED | SKIPPED | +---------------------+--------------------+------------------+-------------------+-------------------+-------------------------+----------------------+ | Fedora 41 | PASS | PASS | PASS | SKIPPED | SKIPPED | SKIPPED | +---------------------+--------------------+------------------+-------------------+-------------------+-------------------------+----------------------+ | openSUSE Leap 15 | PASS | SKIPPED | SKIPPED | SKIPPED | SKIPPED | SKIPPED | +---------------------+--------------------+------------------+-------------------+-------------------+-------------------------+----------------------+ | Ubuntu 24.04 | PASS | PASS | PASS | SKIPPED | SKIPPED | SKIPPED | +---------------------+--------------------+------------------+-------------------+-------------------+-------------------------+----------------------+ | Ubuntu 20.04 | PASS | SKIPPED | SKIPPED | SKIPPED | SKIPPED | SKIPPED | +---------------------+--------------------+------------------+-------------------+-------------------+-------------------------+----------------------+ | Ubuntu 22.04 | PASS | PASS | PASS | SKIPPED | SKIPPED | SKIPPED | +---------------------+--------------------+------------------+-------------------+-------------------+-------------------------+----------------------+ | Alpine | PASS | PASS | SKIPPED | SKIPPED | SKIPPED | SKIPPED | +---------------------+--------------------+------------------+-------------------+-------------------+-------------------------+----------------------+ | FreeBSD 13.4 | PASS | SKIPPED | SKIPPED | SKIPPED | SKIPPED | SKIPPED | +---------------------+--------------------+------------------+-------------------+-------------------+-------------------------+----------------------+ | FreeBSD 14.2 | PASS | SKIPPED | SKIPPED | SKIPPED | SKIPPED | SKIPPED | +---------------------+--------------------+------------------+-------------------+-------------------+-------------------------+----------------------+ | RHEL8 | PASS | PASS | SKIPPED | SKIPPED | SKIPPED | SKIPPED | +---------------------+--------------------+------------------+-------------------+-------------------+-------------------------+----------------------+ | Windows Server 2022 | SKIPPED | SKIPPED | SKIPPED | PASS | PASS | PASS | +---------------------+--------------------+------------------+-------------------+-------------------+-------------------------+----------------------+ CentOS Stream 9 Kernel: Depends on container host Compiler: gcc 11.5.0 20240719 (Red Hat 11.5.0-2) Debian Bullseye Kernel: Depends on container host Compiler: gcc (Debian 10.2.1-6) 10.2.1 20210110 Debian 12 Kernel: Depends on container host Compiler: gcc (Debian 12.2.0-14) 12.2.0 Fedora 40 (Clang) Kernel: Depends on container host Compiler: clang 18.1.8 (Fedora 18.1.8-1.fc40) Fedora 41 (Clang) Kernel: Depends on container host Compiler: clang 19.1.5 (Fedora 19.1.5-1.fc41) Fedora 40 Kernel: Depends on container host Compiler: gcc 14.2.1 20240912 (Red Hat 14.2.1-3) RHEL9 Kernel: Depends on container host Compiler: gcc 11.5.0 20240719 (Red Hat 11.5.0-2) Fedora 41 Kernel: Depends on container host Compiler: gcc 14.2.1 20240912 (Red Hat 14.2.1-3) openSUSE Leap 15 Kernel: Depends on container host Compiler: gcc (SUSE Linux) 7.5.0 Ubuntu 24.04 Kernel: Depends on container host Compiler: gcc (Ubuntu 13.3.0-6ubuntu2~24.04) 13.3.0 Ubuntu 20.04 Kernel: Depends on container host Compiler: gcc (Ubuntu 9.4.0-1ubuntu1~20.04.2) 9.4.0 Ubuntu 22.04 Kernel: Depends on container host Compiler: gcc (Ubuntu 11.4.0-1ubuntu1~22.04) 11.4.0 Alpine Kernel: Depends on container host Compiler: gcc (Alpine 14.2.0) 14.2.0 FreeBSD 13.4 Kernel: 13.4-RELEASE-p1 Compiler: clang 18.1.6 FreeBSD 14.2 Kernel: 14.2-RELEASE Compiler: clang 18.1.6 RHEL8 Kernel: Depends on container host Compiler: gcc 8.5.0 20210514 (Red Hat 8.5.0-22) Windows Server 2022 Kernel: 10.0.20348.2031 Compiler: clang 15.0.7, gcc 14.1.0 (MinGW), and MSVC VS 19.39.33521 To view detailed results, visit: https://lab.dpdk.org/results/dashboard/patchsets/32302/ UNH-IOL DPDK Community Lab To manage your email subscriptions, visit: https://lab.dpdk.org/results/dashboard/preferences/subscriptions/