From mboxrd@z Thu Jan 1 00:00:00 1970 Return-Path: Received: from mails.dpdk.org (mails.dpdk.org [217.70.189.124]) by inbox.dpdk.org (Postfix) with ESMTP id 0F154461A0 for ; Wed, 5 Feb 2025 18:31:23 +0100 (CET) Received: from mails.dpdk.org (localhost [127.0.0.1]) by mails.dpdk.org (Postfix) with ESMTP id 0C26B402E4; Wed, 5 Feb 2025 18:31:23 +0100 (CET) Received: from mail-pl1-f228.google.com (mail-pl1-f228.google.com [209.85.214.228]) by mails.dpdk.org (Postfix) with ESMTP id B70DA402DC for ; Wed, 5 Feb 2025 18:31:21 +0100 (CET) Received: by mail-pl1-f228.google.com with SMTP id d9443c01a7336-2165cb60719so1739665ad.0 for ; Wed, 05 Feb 2025 09:31:21 -0800 (PST) DKIM-Signature: v=1; a=rsa-sha256; c=relaxed/relaxed; d=iol.unh.edu; s=unh-iol; t=1738776681; x=1739381481; darn=dpdk.org; h=references:in-reply-to:cc:to:from:subject:message-id:date:from:to :cc:subject:date:message-id:reply-to; bh=+CLA03hYHVikM4OsEOv93Cajp6uTiAKXyIjuO/Zh3qI=; b=cKbp0QtdBXbmO9vtN4QNZWp1/JmX60LzbP3eNvOX+e3mfkP7p/qu5n0YX4tJ7mmjrM 5fy+2FWuou7qzS01KDq0/vY1pxpXjzcP+8PK+VLKNx5/e3nszcCxXlOQQf6LzUibL3/M zTeaS/gXkpu7n3BI6aA7OF9cwGLOQs/+jQyyQ= X-Google-DKIM-Signature: v=1; a=rsa-sha256; c=relaxed/relaxed; d=1e100.net; s=20230601; t=1738776681; x=1739381481; h=references:in-reply-to:cc:to:from:subject:message-id:date :x-gm-message-state:from:to:cc:subject:date:message-id:reply-to; bh=+CLA03hYHVikM4OsEOv93Cajp6uTiAKXyIjuO/Zh3qI=; b=T/Kt3r/ceKaMeZVMXExc7a/x/NuHJSP29SLAEHrvtmxnYpUo0prETtNlR+OqMk4Btw AfuvIKJNrNFfqbWeJK1Lnx4AUOv7ujnVNjbgUNRv22V5CHTLdM250ImtU6FPBdZ/7hDw m4vz8nSnhJAv10IOLK7OAe1Yrjgh0VMTW6uMW52SWJvkoqSFeXiyeEvMUu1qlLO8X/cM dL/mgJq+nYNAzU5KVIi48TB8OkVawp/VhQZ178Ai7Oh3cz3gtfcAdA9bVMccIQ2LMh8b n/vmFQkAmqNSpqXakqkLtgBXF069pCdcaffFBN5gKe/04V0jyVCAe/ZJ7IVpFYfxkOBn ZUeg== X-Gm-Message-State: AOJu0YzMtaUKq7twdNi8WFJ5R9giVjdr+fvs+s1GestRxHUjvlc24w2T lbkOg+4gR0zIr0inWPPXb4i1IZ7FibipC3N99Yyg1mdiXgFdOLh1PPO49vN596GrEGAo3X0I4Ol VMeJm8NRcwh43hppBGaBEXEoMO5/UfNj+ehHjU3NI9SJsA4two5MfxJh5 X-Gm-Gg: ASbGncsk3qowspYJ1SS2iQRctnu0CMd6dyNOlbH5TEYmgiJNn9CgLFeOVAE47gx51pN xykv908+HNFI3vZ+yrgaZsVO4jBMK7q/nacT4Gv9eC1LTAtOYNqqbwRGgQXUi0/VxmKUesQPpel +OPNrrCeOVSBtzKDwdHSwdOqgF1w2Px6pyzQqdUqyqn6sCrJlUZNQ1CmWAVdJvrqBhDxQAE/XyE tyovhJ8SyXyQ3H0yo4mAgTxOmXo/bxYNOC+p3xGjO6grDiHZCQTHbYwxfjzGOZcdeTQ9T1D3eJN VIgndNVm/jSZ6xtLkTgqxlZucqY/fB4Cy6s7hQiA2Q== X-Google-Smtp-Source: AGHT+IG0gwdcH82Q7NF9usSd+wX9ztQUZREcwO0f1VQpwfTeceERv+PtXIt4S7M8aP0d3gAkye8cOB4Lc4Fs X-Received: by 2002:a17:902:f693:b0:21f:2689:a2dd with SMTP id d9443c01a7336-21f2689a545mr18623735ad.52.1738776680831; Wed, 05 Feb 2025 09:31:20 -0800 (PST) Received: from postal.iol.unh.edu (postal.iol.unh.edu. [2606:4100:3880:1234::84]) by smtp-relay.gmail.com with ESMTPS id d9443c01a7336-21de321a996sm6901895ad.10.2025.02.05.09.31.20 (version=TLS1_2 cipher=ECDHE-ECDSA-AES128-GCM-SHA256 bits=128/128); Wed, 05 Feb 2025 09:31:20 -0800 (PST) X-Relaying-Domain: iol.unh.edu Date: Wed, 05 Feb 2025 09:31:20 -0800 (PST) Message-ID: <67a3a068.170a0220.1a5885.0018SMTPIN_ADDED_MISSING@mx.google.com> Received: from [172.21.0.7] (unknown [172.18.0.240]) by postal.iol.unh.edu (Postfix) with ESMTP id E7D7E6052471; Wed, 5 Feb 2025 12:31:19 -0500 (EST) Subject: |SUCCESS| pw150086-150085 [PATCH] [v1,2/2] ethdev: fix some APIs can From: dpdklab@iol.unh.edu To: Test Report Cc: dpdk-test-reports@iol.unh.edu In-Reply-To: <20250115034110.15245-3-lihuisong@huawei.com> References: <20250115034110.15245-3-lihuisong@huawei.com> Content-Type: text/plain X-BeenThere: test-report@dpdk.org X-Mailman-Version: 2.1.29 Precedence: list List-Id: automatic DPDK test reports List-Unsubscribe: , List-Archive: List-Post: List-Help: List-Subscribe: , Errors-To: test-report-bounces@dpdk.org Test-Label: iol-compile-amd64-testing Test-Status: SUCCESS http://dpdk.org/patch/150085 _Testing PASS_ Submitter: Huisong Li Date: Wednesday, January 15 2025 03:41:10 DPDK git baseline: Repo:dpdk Branch: master CommitID:167adc84d05c732af3c47dd569f152fa4ba234d6 150086-150085 --> testing pass Test environment and result as below: +---------------------+--------------------+------------------+-------------------+-------------------+-------------------------+----------------------+ | Environment | dpdk_meson_compile | dpdk_compile_ovs | dpdk_compile_spdk | dpdk_msvc_compile | dpdk_llvm_clang_compile | dpdk_mingw64_compile | +=====================+====================+==================+===================+===================+=========================+======================+ | CentOS Stream 9 | PASS | PASS | PASS | SKIPPED | SKIPPED | SKIPPED | +---------------------+--------------------+------------------+-------------------+-------------------+-------------------------+----------------------+ | Debian 12 | PASS | PASS | PASS | SKIPPED | SKIPPED | SKIPPED | +---------------------+--------------------+------------------+-------------------+-------------------+-------------------------+----------------------+ | Debian Bullseye | PASS | PASS | PASS | SKIPPED | SKIPPED | SKIPPED | +---------------------+--------------------+------------------+-------------------+-------------------+-------------------------+----------------------+ | Fedora 40 | PASS | PASS | PASS | SKIPPED | SKIPPED | SKIPPED | +---------------------+--------------------+------------------+-------------------+-------------------+-------------------------+----------------------+ | Fedora 40 (Clang) | PASS | PASS | PASS | SKIPPED | SKIPPED | SKIPPED | +---------------------+--------------------+------------------+-------------------+-------------------+-------------------------+----------------------+ | Fedora 41 (Clang) | PASS | PASS | PASS | SKIPPED | SKIPPED | SKIPPED | +---------------------+--------------------+------------------+-------------------+-------------------+-------------------------+----------------------+ | Fedora 41 | PASS | PASS | PASS | SKIPPED | SKIPPED | SKIPPED | +---------------------+--------------------+------------------+-------------------+-------------------+-------------------------+----------------------+ | openSUSE Leap 15 | PASS | SKIPPED | SKIPPED | SKIPPED | SKIPPED | SKIPPED | +---------------------+--------------------+------------------+-------------------+-------------------+-------------------------+----------------------+ | RHEL8 | PASS | PASS | SKIPPED | SKIPPED | SKIPPED | SKIPPED | +---------------------+--------------------+------------------+-------------------+-------------------+-------------------------+----------------------+ | RHEL9 | PASS | PASS | SKIPPED | SKIPPED | SKIPPED | SKIPPED | +---------------------+--------------------+------------------+-------------------+-------------------+-------------------------+----------------------+ | Ubuntu 20.04 | PASS | SKIPPED | SKIPPED | SKIPPED | SKIPPED | SKIPPED | +---------------------+--------------------+------------------+-------------------+-------------------+-------------------------+----------------------+ | Ubuntu 24.04 | PASS | PASS | PASS | SKIPPED | SKIPPED | SKIPPED | +---------------------+--------------------+------------------+-------------------+-------------------+-------------------------+----------------------+ | Ubuntu 22.04 | PASS | PASS | PASS | SKIPPED | SKIPPED | SKIPPED | +---------------------+--------------------+------------------+-------------------+-------------------+-------------------------+----------------------+ | Alpine | PASS | PASS | SKIPPED | SKIPPED | SKIPPED | SKIPPED | +---------------------+--------------------+------------------+-------------------+-------------------+-------------------------+----------------------+ | FreeBSD 13.4 | PASS | SKIPPED | SKIPPED | SKIPPED | SKIPPED | SKIPPED | +---------------------+--------------------+------------------+-------------------+-------------------+-------------------------+----------------------+ | FreeBSD 14.2 | PASS | SKIPPED | SKIPPED | SKIPPED | SKIPPED | SKIPPED | +---------------------+--------------------+------------------+-------------------+-------------------+-------------------------+----------------------+ | Windows Server 2022 | SKIPPED | SKIPPED | SKIPPED | PASS | PASS | PASS | +---------------------+--------------------+------------------+-------------------+-------------------+-------------------------+----------------------+ CentOS Stream 9 Kernel: Depends on container host Compiler: gcc 11.5.0 20240719 (Red Hat 11.5.0-2) Debian 12 Kernel: Depends on container host Compiler: gcc (Debian 12.2.0-14) 12.2.0 Debian Bullseye Kernel: Depends on container host Compiler: gcc (Debian 10.2.1-6) 10.2.1 20210110 Fedora 40 Kernel: Depends on container host Compiler: gcc 14.2.1 20240912 (Red Hat 14.2.1-3) Fedora 40 (Clang) Kernel: Depends on container host Compiler: clang 18.1.8 (Fedora 18.1.8-1.fc40) Fedora 41 (Clang) Kernel: Depends on container host Compiler: clang 19.1.5 (Fedora 19.1.5-1.fc41) Fedora 41 Kernel: Depends on container host Compiler: gcc 14.2.1 20240912 (Red Hat 14.2.1-3) openSUSE Leap 15 Kernel: Depends on container host Compiler: gcc (SUSE Linux) 7.5.0 RHEL8 Kernel: Depends on container host Compiler: gcc 8.5.0 20210514 (Red Hat 8.5.0-22) RHEL9 Kernel: Depends on container host Compiler: gcc 11.5.0 20240719 (Red Hat 11.5.0-2) Ubuntu 20.04 Kernel: Depends on container host Compiler: gcc (Ubuntu 9.4.0-1ubuntu1~20.04.2) 9.4.0 Ubuntu 24.04 Kernel: Depends on container host Compiler: gcc (Ubuntu 13.3.0-6ubuntu2~24.04) 13.3.0 Ubuntu 22.04 Kernel: Depends on container host Compiler: gcc (Ubuntu 11.4.0-1ubuntu1~22.04) 11.4.0 Alpine Kernel: Depends on container host Compiler: gcc (Alpine 14.2.0) 14.2.0 FreeBSD 13.4 Kernel: 13.4-RELEASE-p1 Compiler: clang 18.1.6 FreeBSD 14.2 Kernel: 14.2-RELEASE Compiler: clang 18.1.6 Windows Server 2022 Kernel: 10.0.20348.2031 Compiler: clang 15.0.7, gcc 14.1.0 (MinGW), and MSVC VS 19.39.33521 To view detailed results, visit: https://lab.dpdk.org/results/dashboard/patchsets/32323/ UNH-IOL DPDK Community Lab To manage your email subscriptions, visit: https://lab.dpdk.org/results/dashboard/preferences/subscriptions/